BEGIN:VCALENDAR
VERSION:2.0
PRODID:-//Discover Lakeport CA - ECPv6.15.20//NONSGML v1.0//EN
CALSCALE:GREGORIAN
METHOD:PUBLISH
X-ORIGINAL-URL:https://www.discoverlakeportca.com
X-WR-CALDESC:Events for Discover Lakeport CA
REFRESH-INTERVAL;VALUE=DURATION:PT1H
X-Robots-Tag:noindex
X-PUBLISHED-TTL:PT1H
BEGIN:VTIMEZONE
TZID:America/Los_Angeles
BEGIN:DAYLIGHT
TZOFFSETFROM:-0800
TZOFFSETTO:-0700
TZNAME:PDT
DTSTART:20230312T100000
END:DAYLIGHT
BEGIN:STANDARD
TZOFFSETFROM:-0700
TZOFFSETTO:-0800
TZNAME:PST
DTSTART:20231105T090000
END:STANDARD
BEGIN:DAYLIGHT
TZOFFSETFROM:-0800
TZOFFSETTO:-0700
TZNAME:PDT
DTSTART:20240310T100000
END:DAYLIGHT
BEGIN:STANDARD
TZOFFSETFROM:-0700
TZOFFSETTO:-0800
TZNAME:PST
DTSTART:20241103T090000
END:STANDARD
BEGIN:DAYLIGHT
TZOFFSETFROM:-0800
TZOFFSETTO:-0700
TZNAME:PDT
DTSTART:20250309T100000
END:DAYLIGHT
BEGIN:STANDARD
TZOFFSETFROM:-0700
TZOFFSETTO:-0800
TZNAME:PST
DTSTART:20251102T090000
END:STANDARD
BEGIN:DAYLIGHT
TZOFFSETFROM:-0800
TZOFFSETTO:-0700
TZNAME:PDT
DTSTART:20260308T100000
END:DAYLIGHT
BEGIN:STANDARD
TZOFFSETFROM:-0700
TZOFFSETTO:-0800
TZNAME:PST
DTSTART:20261101T090000
END:STANDARD
END:VTIMEZONE
BEGIN:VEVENT
DTSTART;TZID=America/Los_Angeles:20250428T160000
DTEND;TZID=America/Los_Angeles:20250428T180000
DTSTAMP:20260421T173704
CREATED:20250418T174307Z
LAST-MODIFIED:20250418T174307Z
UID:10004935-1745856000-1745863200@www.discoverlakeportca.com
SUMMARY:Shred Fest
DESCRIPTION:Free Drive-Thru Mobile Shredding Service sponsored by Strong Financial Network!
URL:https://www.discoverlakeportca.com/event/shred-fest/
LOCATION:Umpqua Bank\, 805 11th Street\, Lakeport\, CA\, 95453\, United States
CATEGORIES:Event
ATTACH;FMTTYPE=image/jpeg:https://www.discoverlakeportca.com/wp-content/uploads/2025/04/Screenshot_20250401-161940.jpg
END:VEVENT
BEGIN:VEVENT
DTSTART;TZID=America/Los_Angeles:20250320T180000
DTEND;TZID=America/Los_Angeles:20250320T200000
DTSTAMP:20260421T173704
CREATED:20250311T210002Z
LAST-MODIFIED:20250311T210002Z
UID:10004719-1742493600-1742500800@www.discoverlakeportca.com
SUMMARY:Operation Tango Mike Packing Party
DESCRIPTION:Join in the fun and prepare care packages for deployed military personnel!\nOur event is family friendly and children are welcome!
URL:https://www.discoverlakeportca.com/event/operation-tango-mike-packing-party/
LOCATION:Umpqua Bank\, 805 11th Street\, Lakeport\, CA\, 95453\, United States
CATEGORIES:Event
ATTACH;FMTTYPE=image/jpeg:https://www.discoverlakeportca.com/wp-content/uploads/2025/02/FB_IMG_1740843211566.jpg
END:VEVENT
BEGIN:VEVENT
DTSTART;TZID=America/Los_Angeles:20250128T093000
DTEND;TZID=America/Los_Angeles:20250128T120000
DTSTAMP:20260421T173704
CREATED:20250121T074540Z
LAST-MODIFIED:20250121T074540Z
UID:10003347-1738056600-1738065600@www.discoverlakeportca.com
SUMMARY:Social Security Hybrid Event/Webinar
DESCRIPTION:Social Security Hybrid Event/Webinar\nNearly every retiree struggles with decisions regarding social security. When is the best time to take social security? What are some tips for maximizing benefits?\nJoin us as we delve into answers to these questions and more.\nTuesday\, January 28\,20255:30 pm\nIn-Person Live Event with Refreshments:Held at Umpqua Community Room\, 805 11th St.\, 2nd Floor\, LakeportTo RSVP: email strongfinancial@jestrong.com or call the office at 707-262-1880\nPresentation Viewing via Zoom:Register* online to receive the Zoom login link at:https://tinyurl.com/SFN12825*After registering\, you will receive a confirmation email with information needed to join the webinar.\nOpen to the public. Feel free to invite family & friends to join.\nQuestions? Please call the office at (707) 262-1880.
URL:https://www.discoverlakeportca.com/event/social-security-hybrid-event-webinar/
LOCATION:Umpqua Bank\, 805 11th Street\, Lakeport\, CA\, 95453\, United States
END:VEVENT
BEGIN:VEVENT
DTSTART;TZID=America/Los_Angeles:20250116T100000
DTEND;TZID=America/Los_Angeles:20250116T120000
DTSTAMP:20260421T173704
CREATED:20250106T063252Z
LAST-MODIFIED:20250106T063252Z
UID:10003297-1737021600-1737028800@www.discoverlakeportca.com
SUMMARY:Operation Tango Mike Monthly Packing Party
DESCRIPTION:Join in the fun and prepare care packages for deployed military personnel!\nThese will be the February/Valentine boxes!\nChildren are welcome and our event is family friendly. We love to have kids decorate the care packages. We supply the stickers and markers.
URL:https://www.discoverlakeportca.com/event/operation-tango-mike-monthly-packing-party-3/
LOCATION:Umpqua Bank\, 805 11th Street\, Lakeport\, CA\, 95453\, United States
ATTACH;FMTTYPE=image/jpeg:https://www.discoverlakeportca.com/wp-content/uploads/2025/01/OTM.jpg
END:VEVENT
BEGIN:VEVENT
DTSTART;TZID=America/Los_Angeles:20241219T100000
DTEND;TZID=America/Los_Angeles:20241219T120000
DTSTAMP:20260421T173704
CREATED:20241212T012304Z
LAST-MODIFIED:20241212T012304Z
UID:10003181-1734602400-1734609600@www.discoverlakeportca.com
SUMMARY:Operation Tango Mike Monthly Packing Party
DESCRIPTION:Join in the fun and prepare care packages for deployed military personnel!\nOur event is family friendly and children are welcome!
URL:https://www.discoverlakeportca.com/event/operation-tango-mike-monthly-packing-party-2/
LOCATION:Umpqua Bank\, 805 11th Street\, Lakeport\, CA\, 95453\, United States
ATTACH;FMTTYPE=image/jpeg:https://www.discoverlakeportca.com/wp-content/uploads/2024/12/Screenshot_20241210-205355.jpg
END:VEVENT
BEGIN:VEVENT
DTSTART;TZID=America/Los_Angeles:20241121T100000
DTEND;TZID=America/Los_Angeles:20241121T120000
DTSTAMP:20260421T173704
CREATED:20241112T072944Z
LAST-MODIFIED:20241112T072944Z
UID:10003034-1732183200-1732190400@www.discoverlakeportca.com
SUMMARY:Operation Tango Mike Monthly Packing Party
DESCRIPTION:Join in the fun and prepare care packages for deployed military personnel! This is the Christmas packing party!\nYou are welcome to bring Christmas items to add to the boxes.\nAs a special treat\, Robert Cabreros and the outstanding students of the Yuba College Culinary Program are providing dinner for our volunteers!
URL:https://www.discoverlakeportca.com/event/operation-tango-mike-monthly-packing-party/
LOCATION:Umpqua Bank\, 805 11th Street\, Lakeport\, CA\, 95453\, United States
END:VEVENT
END:VCALENDAR