BEGIN:VCALENDAR
VERSION:2.0
PRODID:-//Discover Lakeport CA - ECPv6.15.20//NONSGML v1.0//EN
CALSCALE:GREGORIAN
METHOD:PUBLISH
X-ORIGINAL-URL:https://www.discoverlakeportca.com
X-WR-CALDESC:Events for Discover Lakeport CA
REFRESH-INTERVAL;VALUE=DURATION:PT1H
X-Robots-Tag:noindex
X-PUBLISHED-TTL:PT1H
BEGIN:VTIMEZONE
TZID:America/Los_Angeles
BEGIN:DAYLIGHT
TZOFFSETFROM:-0800
TZOFFSETTO:-0700
TZNAME:PDT
DTSTART:20250309T100000
END:DAYLIGHT
BEGIN:STANDARD
TZOFFSETFROM:-0700
TZOFFSETTO:-0800
TZNAME:PST
DTSTART:20251102T090000
END:STANDARD
BEGIN:DAYLIGHT
TZOFFSETFROM:-0800
TZOFFSETTO:-0700
TZNAME:PDT
DTSTART:20260308T100000
END:DAYLIGHT
BEGIN:STANDARD
TZOFFSETFROM:-0700
TZOFFSETTO:-0800
TZNAME:PST
DTSTART:20261101T090000
END:STANDARD
BEGIN:DAYLIGHT
TZOFFSETFROM:-0800
TZOFFSETTO:-0700
TZNAME:PDT
DTSTART:20270314T100000
END:DAYLIGHT
BEGIN:STANDARD
TZOFFSETFROM:-0700
TZOFFSETTO:-0800
TZNAME:PST
DTSTART:20271107T090000
END:STANDARD
END:VTIMEZONE
BEGIN:VEVENT
DTSTART;TZID=America/Los_Angeles:20260530T083000
DTEND;TZID=America/Los_Angeles:20260530T120000
DTSTAMP:20260419T150927
CREATED:20260312T181034Z
LAST-MODIFIED:20260402T201507Z
UID:10007779-1780129800-1780142400@www.discoverlakeportca.com
SUMMARY:It's For The Dogz 2nd Annual Walk/Run
DESCRIPTION:Join us for a fun\, heartwarming\, morning!  Come early to Send Rover on Over for coffee and breakfast treats\, meet fellow animal lovers\, and visit local vendors.  We’ll also have raffle prizes donated by generous local businesses.  All proceeds support feeding pets in need\, foster care\, spay/neuter services\, and local rescue efforts. \nSuggested donation $25 \nfor more information\, call 805-794-6372  or email SendRoverOnOver@me.com
URL:https://www.discoverlakeportca.com/event/its-for-the-dogz-2nd-annual-walk-run/
LOCATION:Send Rover On Over\, 2945 Reeves Lane\, Lakeport\, CA\, 95453\, United States
CATEGORIES:Event
END:VEVENT
BEGIN:VEVENT
DTSTART;TZID=America/Los_Angeles:20260530T083000
DTEND;TZID=America/Los_Angeles:20260530T120000
DTSTAMP:20260419T150927
CREATED:20260415T191107Z
LAST-MODIFIED:20260415T191107Z
UID:10007821-1780129800-1780142400@www.discoverlakeportca.com
SUMMARY:It's For The Dogz Fundraiser
DESCRIPTION:We are excited to host the second annual fundraiser for Lake County Dogs!We need vendorsDonations for the silent auctionSigns and flyersMade and distributedParticipants!Walkers and Runners!Promoters!Sign up!Get excited!Text me with questions8057946372~ValThank you
URL:https://www.discoverlakeportca.com/event/its-for-the-dogz-fundraiser/
LOCATION:Send Rover On Over\, 2945 Reeves Lane\, Lakeport\, CA\, 95453\, United States
CATEGORIES:Event
ATTACH;FMTTYPE=image/jpeg:https://www.discoverlakeportca.com/wp-content/uploads/2026/04/Its-For-the-Dogz.jpg
END:VEVENT
END:VCALENDAR