BEGIN:VCALENDAR
VERSION:2.0
PRODID:-//Discover Lakeport CA - ECPv6.15.20//NONSGML v1.0//EN
CALSCALE:GREGORIAN
METHOD:PUBLISH
X-WR-CALNAME:Discover Lakeport CA
X-ORIGINAL-URL:https://www.discoverlakeportca.com
X-WR-CALDESC:Events for Discover Lakeport CA
REFRESH-INTERVAL;VALUE=DURATION:PT1H
X-Robots-Tag:noindex
X-PUBLISHED-TTL:PT1H
BEGIN:VTIMEZONE
TZID:America/Los_Angeles
BEGIN:DAYLIGHT
TZOFFSETFROM:-0800
TZOFFSETTO:-0700
TZNAME:PDT
DTSTART:20240310T100000
END:DAYLIGHT
BEGIN:STANDARD
TZOFFSETFROM:-0700
TZOFFSETTO:-0800
TZNAME:PST
DTSTART:20241103T090000
END:STANDARD
BEGIN:DAYLIGHT
TZOFFSETFROM:-0800
TZOFFSETTO:-0700
TZNAME:PDT
DTSTART:20250309T100000
END:DAYLIGHT
BEGIN:STANDARD
TZOFFSETFROM:-0700
TZOFFSETTO:-0800
TZNAME:PST
DTSTART:20251102T090000
END:STANDARD
BEGIN:DAYLIGHT
TZOFFSETFROM:-0800
TZOFFSETTO:-0700
TZNAME:PDT
DTSTART:20260308T100000
END:DAYLIGHT
BEGIN:STANDARD
TZOFFSETFROM:-0700
TZOFFSETTO:-0800
TZNAME:PST
DTSTART:20261101T090000
END:STANDARD
END:VTIMEZONE
BEGIN:VEVENT
DTSTART;TZID=America/Los_Angeles:20251030T173000
DTEND;TZID=America/Los_Angeles:20251030T183000
DTSTAMP:20260419T191458
CREATED:20250915T173658Z
LAST-MODIFIED:20250915T173658Z
UID:10006866-1761845400-1761849000@www.discoverlakeportca.com
SUMMARY:Trick or Treat For Dogs
DESCRIPTION:Trick or Treat!\nYou can offer a trick\, but the treats are free!!!\nGet your costumes ready!\nIt’s time for the 6th annual drive through trick or treat event for dogs. \nSend Rover on Over is hosting this event on Thursday October 30th\, starting at 530 pm.\nDrive your dog on over to Send Rover on Over\, Lakeport.\nThis Is an easy DRIVE THROUGH event.\nPhotos of dressed up dogs will be taken and posted on our FB page for people to enjoy. It’s always a good time. Last year we had 40 participants. Do I hear 45???\n\n\nPlease click ‘GOING’ so we have enough treats fore your tricks!\n\n\nGet out and do something fun with your dog!!!!
URL:https://www.discoverlakeportca.com/event/trick-or-treat-for-dogs/
LOCATION:Send Rover On Over\, 2945 Reeves Lane\, Lakeport\, CA\, 95453\, United States
CATEGORIES:Event
ATTACH;FMTTYPE=image/png:https://www.discoverlakeportca.com/wp-content/uploads/2025/09/screenshot_20250912-1217065913472126254458447.jpg
END:VEVENT
BEGIN:VEVENT
DTSTART;TZID=America/Los_Angeles:20250517T090000
DTEND;TZID=America/Los_Angeles:20250517T113000
DTSTAMP:20260419T191458
CREATED:20250421T182802Z
LAST-MODIFIED:20250421T182857Z
UID:10005397-1747472400-1747481400@www.discoverlakeportca.com
SUMMARY:It's For The Dogs - 1 Mile Walk\, 5K Fun Run
DESCRIPTION:IT’S FOR THE DOGS!And a few catsJoin us for a 1 mile walk or 5 K fun run to raise money for the Lake County Dog Crisis.Show a strength in numbers while enjoying an early morning\, fresh spring jaunt through a blossoming walnut orchard. Enjoy some baked goods brought to you by Mother Lovin From the Oven. Take a shelter dog for a walk. Participate in the raffle for some great prizes donated from generous local businesses. Mingle with local Animal Advocates that are striving to make change. Become knowledgeable about the current crisis and how you can help. Learn about local business participants at the vendor booths. Be a part of the movement to improve Lake County’s animal crisis and or at least keep the situation at bay.What is the animalCrisis?The growing numbers of dumped and unhoused dogs. Unhoused/unaltered pets breeding and delivering pups in rural parts of the county. Dog packs fending for themselves and preying upon domestic animals. Dogs being shot. Dogs being noted loose daily. Dogs being hit by cars. The challenges for low income citizens to afford the cost of spaying and neutering companion animals. Both animal control facilities are at maximum capacity\, euthanizing dogs weekly and unable to accept surrenders. People adopting dogs from the streets with big hearts but minimal resources to feed and care for. If we the people can step it up for a bit and assume some responsibility for the animals in the community until the AnimalControl services are able to regain control of the dire situation\, we can put a pause on the exacerbation of the crisis.\nYour donations are tax deductible and will mostly be used for spay and neuter procedures\, food for unhoused and foster animals\, supplies for trapping and care of unhoused animals\, and to replenish the low funds that are used to run the Mendo Shelter and Clearlake Animal Association.\nCurrent vendors\, hosts and sponsors for now. This will grow as we progress.Send Rover on Over-A Home for Rover Inc. –Clearlake Animal Association-Street Dogs-Mendo AnimalShelter-Mother Lovin From the Oven-Nanette Dutcher State Farm-Greg Standley and Complimentary dog tags-Wendy Fambrini Realtor-And many more to come.If you would like to sponsor a spay or neuter\,If you would like to donate a raffle prize\,If you would like to participate in the walk or fun run\,Text Val at 8057946372Stay tuned for updates and links to donate and register.Here’s to promoting fun ways to fund raise. Thank you in advance for your support.
URL:https://www.discoverlakeportca.com/event/its-for-the-dogs/
LOCATION:Send Rover On Over\, 2945 Reeves Lane\, Lakeport\, CA\, 95453\, United States
CATEGORIES:Event
ATTACH;FMTTYPE=image/jpeg:https://www.discoverlakeportca.com/wp-content/uploads/2025/03/Screenshot_20250214-062940.jpg
END:VEVENT
BEGIN:VEVENT
DTSTART;TZID=America/Los_Angeles:20250419T100000
DTEND;TZID=America/Los_Angeles:20250419T120000
DTSTAMP:20260419T191458
CREATED:20250316T224651Z
LAST-MODIFIED:20250316T224651Z
UID:10004826-1745056800-1745064000@www.discoverlakeportca.com
SUMMARY:Easter Egg Hunt For Dogs!
DESCRIPTION:It’s that time again!!!\nFor the Annual Easter Egg Hunt for DOGS!!!\nI have been hosting this event for 20 years now! \nThanks to you!\nWhen: Sat April 19th\nTime: 10 am to Noon\nWhere: Send Rover on Over\nWho: All dogs!!!! Vaccinated please!\nEven reactive dogs can participate because each dogs gets their very own 10 minute time slot to hunt for eggs.\nThis fills up fast and space is limited.\nStill only $10! \nHow do I sign up?\nPlease pre pay to register by letting me know you would like to participate (Email: sendrover@sbcglobal.net)  and I will assign you a time slot. You can pay with cash\, check\, Venmo\, or Zelle to reserve your spot.\nThis is another Get Out and Do Something Fun With Your Dog Event!
URL:https://www.discoverlakeportca.com/event/easter-egg-hunt-for-dogs/
LOCATION:Send Rover On Over\, 2945 Reeves Lane\, Lakeport\, CA\, 95453\, United States
CATEGORIES:Easter,Event
ATTACH;FMTTYPE=image/jpeg:https://www.discoverlakeportca.com/wp-content/uploads/2025/03/Screenshot_20250316-154553.jpg
END:VEVENT
END:VCALENDAR