BEGIN:VCALENDAR
VERSION:2.0
PRODID:-//Discover Lakeport CA - ECPv6.15.20//NONSGML v1.0//EN
CALSCALE:GREGORIAN
METHOD:PUBLISH
X-WR-CALNAME:Discover Lakeport CA
X-ORIGINAL-URL:https://www.discoverlakeportca.com
X-WR-CALDESC:Events for Discover Lakeport CA
REFRESH-INTERVAL;VALUE=DURATION:PT1H
X-Robots-Tag:noindex
X-PUBLISHED-TTL:PT1H
BEGIN:VTIMEZONE
TZID:America/Los_Angeles
BEGIN:DAYLIGHT
TZOFFSETFROM:-0800
TZOFFSETTO:-0700
TZNAME:PDT
DTSTART:20240310T100000
END:DAYLIGHT
BEGIN:STANDARD
TZOFFSETFROM:-0700
TZOFFSETTO:-0800
TZNAME:PST
DTSTART:20241103T090000
END:STANDARD
BEGIN:DAYLIGHT
TZOFFSETFROM:-0800
TZOFFSETTO:-0700
TZNAME:PDT
DTSTART:20250309T100000
END:DAYLIGHT
BEGIN:STANDARD
TZOFFSETFROM:-0700
TZOFFSETTO:-0800
TZNAME:PST
DTSTART:20251102T090000
END:STANDARD
BEGIN:DAYLIGHT
TZOFFSETFROM:-0800
TZOFFSETTO:-0700
TZNAME:PDT
DTSTART:20260308T100000
END:DAYLIGHT
BEGIN:STANDARD
TZOFFSETFROM:-0700
TZOFFSETTO:-0800
TZNAME:PST
DTSTART:20261101T090000
END:STANDARD
BEGIN:DAYLIGHT
TZOFFSETFROM:-0800
TZOFFSETTO:-0700
TZNAME:PDT
DTSTART:20270314T100000
END:DAYLIGHT
BEGIN:STANDARD
TZOFFSETFROM:-0700
TZOFFSETTO:-0800
TZNAME:PST
DTSTART:20271107T090000
END:STANDARD
END:VTIMEZONE
BEGIN:VEVENT
DTSTART;TZID=America/Los_Angeles:20260411T090000
DTEND;TZID=America/Los_Angeles:20260411T140000
DTSTAMP:20260419T202314
CREATED:20260312T170819Z
LAST-MODIFIED:20260312T170819Z
UID:10007725-1775898000-1775916000@www.discoverlakeportca.com
SUMMARY:Lakeport Spring Community Clean Up Day
DESCRIPTION:🌸 Spring Community Clean-Up Day! 🌸 \nJoin us on Saturday\, April 11th from 9:00 AM to 2:00 PM at the 5th Street Boat Ramp for Lakeport’s Spring Community Clean-Up Day! This event is open to Lakeport Disposal customers who live within the City of Lakeport jurisdiction. \nThis is a great opportunity to clear out unwanted items and help keep our community clean and beautiful as we head into spring. \nImportant reminders for participants: \n\n Please bring a valid photo ID and a current City of Lakeport utility bill.\n For safety and efficiency\, please remain in your vehicle while staff unloads materials.\n Each City of Lakeport address is limited to two trips.\n\nWe look forward to seeing you there and appreciate everyone doing their part to help Keep Lakeport Beautiful! 🌼🌿
URL:https://www.discoverlakeportca.com/event/lakeport-spring-community-clean-up-day/
LOCATION:Library Park\, 200 Park Street\, Lakeport\, CA\, 95453\, United States
CATEGORIES:Event
ATTACH;FMTTYPE=image/jpeg:https://www.discoverlakeportca.com/wp-content/uploads/2026/03/fb_img_17730977993638645893550306869204.jpg
END:VEVENT
BEGIN:VEVENT
DTSTART;TZID=America/Los_Angeles:20260315T050000
DTEND;TZID=America/Los_Angeles:20260315T160000
DTSTAMP:20260419T202314
CREATED:20251211T222948Z
LAST-MODIFIED:20251211T222948Z
UID:10007344-1773550800-1773590400@www.discoverlakeportca.com
SUMMARY:Clear Lake Team Bass Tournament
DESCRIPTION:Sign ups will begin IN PERSON for ONE DAY ONLY  on Tuesday February 3\, 2026\, 9:00am – 5:00p at 875 Lakeport Blvd\, Lakeport\, CA \nAfter Feb 3rd all sign-ups will be done ONLINE and will close on March 12th at 5:00pm.  \n$1000 Biggest Fish each day\n$1000 Heaviest Bag of the Tournament\n80% Payout
URL:https://www.discoverlakeportca.com/event/clear-lake-team-bass-tournament/2026-03-15/
LOCATION:Library Park\, 200 Park Street\, Lakeport\, CA\, 95453\, United States
CATEGORIES:Event,Fishing
ATTACH;FMTTYPE=image/jpeg:https://www.discoverlakeportca.com/wp-content/uploads/2025/12/fb_img_17648046122183649879309977695426.jpg
END:VEVENT
BEGIN:VEVENT
DTSTART;TZID=America/Los_Angeles:20260314T050000
DTEND;TZID=America/Los_Angeles:20260314T160000
DTSTAMP:20260419T202314
CREATED:20251211T222948Z
LAST-MODIFIED:20251211T222948Z
UID:10007343-1773464400-1773504000@www.discoverlakeportca.com
SUMMARY:Clear Lake Team Bass Tournament
DESCRIPTION:Sign ups will begin IN PERSON for ONE DAY ONLY  on Tuesday February 3\, 2026\, 9:00am – 5:00p at 875 Lakeport Blvd\, Lakeport\, CA \nAfter Feb 3rd all sign-ups will be done ONLINE and will close on March 12th at 5:00pm.  \n$1000 Biggest Fish each day\n$1000 Heaviest Bag of the Tournament\n80% Payout
URL:https://www.discoverlakeportca.com/event/clear-lake-team-bass-tournament/2026-03-14/
LOCATION:Library Park\, 200 Park Street\, Lakeport\, CA\, 95453\, United States
CATEGORIES:Event,Fishing
ATTACH;FMTTYPE=image/jpeg:https://www.discoverlakeportca.com/wp-content/uploads/2025/12/fb_img_17648046122183649879309977695426.jpg
END:VEVENT
BEGIN:VEVENT
DTSTART;TZID=America/Los_Angeles:20251222T180000
DTEND;TZID=America/Los_Angeles:20251222T183000
DTSTAMP:20260419T202314
CREATED:20251128T220154Z
LAST-MODIFIED:20251128T220154Z
UID:10007339-1766426400-1766428200@www.discoverlakeportca.com
SUMMARY:Lakeport BLIZZARD
DESCRIPTION:Sponsored by the Kiwanis Club of Lakeport\, the Fourth Annual Lakeport BLIZZARD transforms Library Park into a magical winter wonderland! Enjoy a snowy landscape\, dazzling lights\, and festive music on Monday\, December 22 at 6:00 PM. Bring the whole family for an unforgettable evening of holiday cheer! Heavy rain will cancel and will be posted here.
URL:https://www.discoverlakeportca.com/event/lakeport-blizzard-2/
LOCATION:Library Park\, 200 Park Street\, Lakeport\, CA\, 95453\, United States
CATEGORIES:Christmas,Event
ATTACH;FMTTYPE=image/jpeg:https://www.discoverlakeportca.com/wp-content/uploads/2025/11/Lakeport-BLIZZARD-2.jpg
END:VEVENT
BEGIN:VEVENT
DTSTART;TZID=America/Los_Angeles:20251207T075500
DTEND;TZID=America/Los_Angeles:20251207T083000
DTSTAMP:20260419T202314
CREATED:20251128T175947Z
LAST-MODIFIED:20251128T175947Z
UID:10007331-1765094100-1765096200@www.discoverlakeportca.com
SUMMARY:Pearl Harber Memorial
DESCRIPTION:Join us at the Pearl Harbor Mast for a short program to remember those who lost their lives in the attack on Pearl Harbor.
URL:https://www.discoverlakeportca.com/event/pearl-harber-memorial/
LOCATION:Library Park\, 200 Park Street\, Lakeport\, CA\, 95453\, United States
CATEGORIES:Event
ATTACH;FMTTYPE=image/jpeg:https://www.discoverlakeportca.com/wp-content/uploads/2025/11/fb_img_17636836933531178970999083887219.jpg
END:VEVENT
BEGIN:VEVENT
DTSTART;TZID=America/Los_Angeles:20250923T100000
DTEND;TZID=America/Los_Angeles:20250923T130000
DTSTAMP:20260419T202314
CREATED:20250420T014651Z
LAST-MODIFIED:20250915T174558Z
UID:10005343-1758621600-1758632400@www.discoverlakeportca.com
SUMMARY:Tuesday Farmer's Market at Library Park
DESCRIPTION:Come to our certified seasonal farmers’ market! Tuesdays\, May through end of September\, 10-1\, rain or shine!
URL:https://www.discoverlakeportca.com/event/tuesday-farmers-market-at-library-park/2025-09-23/
LOCATION:Library Park\, 200 Park Street\, Lakeport\, CA\, 95453\, United States
CATEGORIES:Event
ATTACH;FMTTYPE=image/png:https://www.discoverlakeportca.com/wp-content/uploads/2025/04/Screenshot_20250419-184415.png
END:VEVENT
BEGIN:VEVENT
DTSTART;TZID=America/Los_Angeles:20250921T050000
DTEND;TZID=America/Los_Angeles:20250921T150000
DTSTAMP:20260419T202314
CREATED:20250715T225212Z
LAST-MODIFIED:20250715T225212Z
UID:10006208-1758430800-1758466800@www.discoverlakeportca.com
SUMMARY:"Invitation Only" Team Tournament of Champions at Clear Lake
DESCRIPTION:Find out how YOU can qualify for this event at:https://www.newjenbass.com/register
URL:https://www.discoverlakeportca.com/event/invitation-only-team-tournament-of-champions-at-clear-lake/2025-09-21/
LOCATION:Library Park\, 200 Park Street\, Lakeport\, CA\, 95453\, United States
CATEGORIES:Fishing
ATTACH;FMTTYPE=image/jpeg:https://www.discoverlakeportca.com/wp-content/uploads/2025/07/495236395_1350764263446533_2672813733621481418_n.jpg
END:VEVENT
BEGIN:VEVENT
DTSTART;TZID=America/Los_Angeles:20250920T090000
DTEND;TZID=America/Los_Angeles:20250920T120000
DTSTAMP:20260419T202314
CREATED:20250715T225411Z
LAST-MODIFIED:20250825T164002Z
UID:10006209-1758358800-1758369600@www.discoverlakeportca.com
SUMMARY:California Coastal Cleanup Day
DESCRIPTION:Save the Date: California Coastal Cleanup Day 2025! Mark your calendars! The world’s first Trashure Hunt is happening on Saturday\, September 20th from 9 AM to 12 PM\, and you won’t want to miss it.\nJoin us for this annual statewide event as we work together to clean up our coasts\, lakeshores\, and waterways. This year’s event promises fun\, prizes\, and a real impact for our environment.\nThere will be multiple cleanup sites around Clear Lake\, including a local event at Library Park in Lakeport. More site details and registration info will be coming soon.\n When: Saturday\, September 20\, 2025 Time: 9 AM – 12 PM Where: Library Park & other Clear Lake locations\nStay tuned and get ready to hunt for “trashure” and make a difference in your community!\n\nIf you participate\, remember to get a ticket from the Captain for the BBQ at Highland Springs later in the day!
URL:https://www.discoverlakeportca.com/event/california-coastal-cleanup-day/
LOCATION:Library Park\, 200 Park Street\, Lakeport\, CA\, 95453\, United States
CATEGORIES:Event
ATTACH;FMTTYPE=image/jpeg:https://www.discoverlakeportca.com/wp-content/uploads/2025/07/513985741_1040823434899190_2427422595103013420_n.jpg
END:VEVENT
BEGIN:VEVENT
DTSTART;TZID=America/Los_Angeles:20250920T090000
DTEND;TZID=America/Los_Angeles:20250920T120000
DTSTAMP:20260419T202314
CREATED:20250616T211721Z
LAST-MODIFIED:20250616T211721Z
UID:10005754-1758358800-1758369600@www.discoverlakeportca.com
SUMMARY:Coastal Clean Up Day in Lakeport
DESCRIPTION:Are you interested in protecting marine life and raising awareness about coastal issues? \n\n\nJoin us for The 40th Annual Coastal Clean-Up Day!\nDate: Saturday\, September 20\, 2025\nTime: 9AM – 12PM\n\n\nWe are looking for volunteers to help clean up the shorelines and waterways in the following locations:\n– Lakeport\n– Kelseyville\n– Clearlake\n– Lucerne\n– Upper Lake\n– Rodman Slough\n– Highland Springs Park\n\n\nContact Linda Rosas-Bill\, County of Lake Water Resources Coordinator\, if you’re interested in volunteering.\nPhone: (707) 263-2344\nEmail: linda.rosas-bill@lakecountyca.gov
URL:https://www.discoverlakeportca.com/event/coastal-clean-up-day-in-lakeport/
LOCATION:Library Park\, 200 Park Street\, Lakeport\, CA\, 95453\, United States
CATEGORIES:Event
ATTACH;FMTTYPE=image/jpeg:https://www.discoverlakeportca.com/wp-content/uploads/2025/06/fb_img_17497566128718274630595231806432.jpg
END:VEVENT
BEGIN:VEVENT
DTSTART;TZID=America/Los_Angeles:20250920T050000
DTEND;TZID=America/Los_Angeles:20250920T150000
DTSTAMP:20260419T202314
CREATED:20250715T225212Z
LAST-MODIFIED:20250715T225212Z
UID:10006207-1758344400-1758380400@www.discoverlakeportca.com
SUMMARY:"Invitation Only" Team Tournament of Champions at Clear Lake
DESCRIPTION:Find out how YOU can qualify for this event at:https://www.newjenbass.com/register
URL:https://www.discoverlakeportca.com/event/invitation-only-team-tournament-of-champions-at-clear-lake/2025-09-20/
LOCATION:Library Park\, 200 Park Street\, Lakeport\, CA\, 95453\, United States
CATEGORIES:Fishing
ATTACH;FMTTYPE=image/jpeg:https://www.discoverlakeportca.com/wp-content/uploads/2025/07/495236395_1350764263446533_2672813733621481418_n.jpg
END:VEVENT
BEGIN:VEVENT
DTSTART;TZID=America/Los_Angeles:20250916T100000
DTEND;TZID=America/Los_Angeles:20250916T130000
DTSTAMP:20260419T202314
CREATED:20250420T014651Z
LAST-MODIFIED:20250915T174558Z
UID:10005342-1758016800-1758027600@www.discoverlakeportca.com
SUMMARY:Tuesday Farmer's Market at Library Park
DESCRIPTION:Come to our certified seasonal farmers’ market! Tuesdays\, May through end of September\, 10-1\, rain or shine!
URL:https://www.discoverlakeportca.com/event/tuesday-farmers-market-at-library-park/2025-09-16/
LOCATION:Library Park\, 200 Park Street\, Lakeport\, CA\, 95453\, United States
CATEGORIES:Event
ATTACH;FMTTYPE=image/png:https://www.discoverlakeportca.com/wp-content/uploads/2025/04/Screenshot_20250419-184415.png
END:VEVENT
BEGIN:VEVENT
DTSTART;TZID=America/Los_Angeles:20250913T110000
DTEND;TZID=America/Los_Angeles:20250913T150000
DTSTAMP:20260419T202314
CREATED:20250722T191150Z
LAST-MODIFIED:20250722T191150Z
UID:10006312-1757761200-1757775600@www.discoverlakeportca.com
SUMMARY:Recovery Happens
DESCRIPTION:Recovery Happens 2025 Join us for a day of celebration\, connection\, and community at Library Park in Lakeport on Saturday\, September 13th\, from 11 AM to 3 PM! Recovery Walk & Banner ContestCreate a banner that represents recovery—individuals\, agencies\, and communities are all welcome to participate. Prizes will be awarded! Speakers & Informational BoothsHear powerful stories of strength and hope\, and explore booths filled with resources and family-friendly activities. Free Lunch & Raffle PrizesEnjoy lunch on us and enter to win prizes throughout the day! Location: Library Park\, 200 Park St.\, Lakeport\, CA Date: September 13th\, 2025 Time: 11 AM – 3 PMInterested in hosting a booth? Register here: https://forms.gle/wxJkk4M9F4BHsa646For more info\, contact Richard Occhino or James Martin at 707-274-9101 or email richard.occhino@lakecountyca.govCome celebrate recovery\, build community\, and spread hope—because Recovery Happens!
URL:https://www.discoverlakeportca.com/event/recovery-happens/
LOCATION:Library Park\, 200 Park Street\, Lakeport\, CA\, 95453\, United States
CATEGORIES:Event
ATTACH;FMTTYPE=image/jpeg:https://www.discoverlakeportca.com/wp-content/uploads/2025/07/518373844_729289893196719_9149825243036326684_n.jpg
END:VEVENT
BEGIN:VEVENT
DTSTART;TZID=America/Los_Angeles:20250909T100000
DTEND;TZID=America/Los_Angeles:20250909T130000
DTSTAMP:20260419T202314
CREATED:20250420T014651Z
LAST-MODIFIED:20250915T174558Z
UID:10005341-1757412000-1757422800@www.discoverlakeportca.com
SUMMARY:Tuesday Farmer's Market at Library Park
DESCRIPTION:Come to our certified seasonal farmers’ market! Tuesdays\, May through end of September\, 10-1\, rain or shine!
URL:https://www.discoverlakeportca.com/event/tuesday-farmers-market-at-library-park/2025-09-09/
LOCATION:Library Park\, 200 Park Street\, Lakeport\, CA\, 95453\, United States
CATEGORIES:Event
ATTACH;FMTTYPE=image/png:https://www.discoverlakeportca.com/wp-content/uploads/2025/04/Screenshot_20250419-184415.png
END:VEVENT
BEGIN:VEVENT
DTSTART;TZID=America/Los_Angeles:20250906T150000
DTEND;TZID=America/Los_Angeles:20250906T180000
DTSTAMP:20260419T202314
CREATED:20250814T190827Z
LAST-MODIFIED:20250814T191213Z
UID:10006438-1757170800-1757181600@www.discoverlakeportca.com
SUMMARY:Painting In The Park
DESCRIPTION:Hi there! My name is Amy\, I am a local artist and I’m hosting painting afternoons in the park!I absolutely love creating artwork and sharing the fun with others!I provide the setting and materials\, I can also pre-draw your chosen image for you to have a starting place. I show you how to mix your paints and create something uniquely yours to take home \n* I am also available to do painting parties at your location or event\, I do all the set up and cleanup\, you just invite your friends and have a blast!\nSpace for 5-10 painters$30 per personCLICK HERE to message me to grab your spot!
URL:https://www.discoverlakeportca.com/event/painting-in-the-park/
LOCATION:Library Park\, 200 Park Street\, Lakeport\, CA\, 95453\, United States
CATEGORIES:Class
ATTACH;FMTTYPE=image/jpeg:https://www.discoverlakeportca.com/wp-content/uploads/2025/08/529754789_122167522808426558_8782082796036036909_n.jpg
END:VEVENT
BEGIN:VEVENT
DTSTART;TZID=America/Los_Angeles:20250902T100000
DTEND;TZID=America/Los_Angeles:20250902T130000
DTSTAMP:20260419T202314
CREATED:20250420T014651Z
LAST-MODIFIED:20250915T174558Z
UID:10005340-1756807200-1756818000@www.discoverlakeportca.com
SUMMARY:Tuesday Farmer's Market at Library Park
DESCRIPTION:Come to our certified seasonal farmers’ market! Tuesdays\, May through end of September\, 10-1\, rain or shine!
URL:https://www.discoverlakeportca.com/event/tuesday-farmers-market-at-library-park/2025-09-02/
LOCATION:Library Park\, 200 Park Street\, Lakeport\, CA\, 95453\, United States
CATEGORIES:Event
ATTACH;FMTTYPE=image/png:https://www.discoverlakeportca.com/wp-content/uploads/2025/04/Screenshot_20250419-184415.png
END:VEVENT
BEGIN:VEVENT
DTSTART;TZID=America/Los_Angeles:20250829T101500
DTEND;TZID=America/Los_Angeles:20250829T110000
DTSTAMP:20260419T202314
CREATED:20250604T205150Z
LAST-MODIFIED:20250604T205150Z
UID:10005684-1756462500-1756465200@www.discoverlakeportca.com
SUMMARY:Storytime in Library Park!
DESCRIPTION:Beginning June 6th\, Lakeport Library’s Storytime will be moving to Library Park! Join us every Friday at 10:15 am for stories\, songs and crafts!  This is sponsored by the Lakeport Library!
URL:https://www.discoverlakeportca.com/event/storytime-in-library-park/2025-08-29/
LOCATION:Library Park\, 200 Park Street\, Lakeport\, CA\, 95453\, United States
ATTACH;FMTTYPE=image/png:https://www.discoverlakeportca.com/wp-content/uploads/2025/06/screenshot_20250603-1558147025882691703059815.png
END:VEVENT
BEGIN:VEVENT
DTSTART;TZID=America/Los_Angeles:20250826T100000
DTEND;TZID=America/Los_Angeles:20250826T130000
DTSTAMP:20260419T202314
CREATED:20250420T014651Z
LAST-MODIFIED:20250915T174558Z
UID:10005339-1756202400-1756213200@www.discoverlakeportca.com
SUMMARY:Tuesday Farmer's Market at Library Park
DESCRIPTION:Come to our certified seasonal farmers’ market! Tuesdays\, May through end of September\, 10-1\, rain or shine!
URL:https://www.discoverlakeportca.com/event/tuesday-farmers-market-at-library-park/2025-08-26/
LOCATION:Library Park\, 200 Park Street\, Lakeport\, CA\, 95453\, United States
CATEGORIES:Event
ATTACH;FMTTYPE=image/png:https://www.discoverlakeportca.com/wp-content/uploads/2025/04/Screenshot_20250419-184415.png
END:VEVENT
BEGIN:VEVENT
DTSTART;TZID=America/Los_Angeles:20250822T110000
DTEND;TZID=America/Los_Angeles:20250822T150000
DTSTAMP:20260419T202314
CREATED:20250722T185527Z
LAST-MODIFIED:20250722T185527Z
UID:10006311-1755860400-1755874800@www.discoverlakeportca.com
SUMMARY:Overdose Awareness Day
DESCRIPTION:Join us for Lake County’s 5th Annual International Overdose Awareness Day.\nFriday\, August 22nd\n11:00 AM – 3:00 PM\nLibrary Park\, Lakeport\nThis day is about honoring those we’ve lost\, supporting those who grieve\, and raising awareness to prevent overdose and save lives.\nCome for community resources\, remembrance activities\, speakers\, naloxone training\, and more.\nLet’s come together to remember\, reduce stigma\, and take action.\n#IOAD2025 #EndOverdose #LakeCountyCares\n_______________________________________________________________________\n\n\nAcompáñenos para el 5to Día Anual Internacional de Concientización sobre la Sobredosis del Condado de Lake.\nViernes 23 de agosto\n11:00 AM-3:00 PM\nLibrary Park\, Lakeport\nEste día es para honrar a quienes hemos perdido\, apoyar a quienes están de duelo y crear conciencia para prevenir la sobredosis y salvar vidas.\nHabrá recursos comunitarios\, actividades conmemorativas\, oradores\, capacitación en el uso de naloxona y más.\nUnámonos para recordar\, reducir el estigma y tomar acción.\n#IOAD2025 #FinALaSobredosis #LakeCountyCares
URL:https://www.discoverlakeportca.com/event/overdose-awareness-day/
LOCATION:Library Park\, 200 Park Street\, Lakeport\, CA\, 95453\, United States
CATEGORIES:Event
ATTACH;FMTTYPE=image/jpeg:https://www.discoverlakeportca.com/wp-content/uploads/2025/07/fb_img_17531526436733037641861334460618.jpg
END:VEVENT
BEGIN:VEVENT
DTSTART;TZID=America/Los_Angeles:20250822T101500
DTEND;TZID=America/Los_Angeles:20250822T110000
DTSTAMP:20260419T202314
CREATED:20250604T205150Z
LAST-MODIFIED:20250604T205150Z
UID:10005683-1755857700-1755860400@www.discoverlakeportca.com
SUMMARY:Storytime in Library Park!
DESCRIPTION:Beginning June 6th\, Lakeport Library’s Storytime will be moving to Library Park! Join us every Friday at 10:15 am for stories\, songs and crafts!  This is sponsored by the Lakeport Library!
URL:https://www.discoverlakeportca.com/event/storytime-in-library-park/2025-08-22/
LOCATION:Library Park\, 200 Park Street\, Lakeport\, CA\, 95453\, United States
ATTACH;FMTTYPE=image/png:https://www.discoverlakeportca.com/wp-content/uploads/2025/06/screenshot_20250603-1558147025882691703059815.png
END:VEVENT
BEGIN:VEVENT
DTSTART;TZID=America/Los_Angeles:20250822T080000
DTEND;TZID=America/Los_Angeles:20250822T170000
DTSTAMP:20260419T202314
CREATED:20250420T005101Z
LAST-MODIFIED:20250420T005101Z
UID:10005303-1755849600-1755882000@www.discoverlakeportca.com
SUMMARY:Summer Concerts in Library Park
DESCRIPTION:The KXBX 98.3 Summer Concerts In The Park Series has been a summer tradition at Lakeport’s Library Park for almost 30 years\, and brings the community together every Friday night from the middle of June through the Middle of August.  Join us at 6:30 pm for family friendly entertainment with world class musical acts! \n \n 
URL:https://www.discoverlakeportca.com/event/summer-concerts-in-library-park/2025-08-22/
LOCATION:Library Park\, 200 Park Street\, Lakeport\, CA\, 95453\, United States
CATEGORIES:Event,Music
ATTACH;FMTTYPE=image/jpeg:https://www.discoverlakeportca.com/wp-content/uploads/2025/04/FB_IMG_1742936061141.jpg
END:VEVENT
BEGIN:VEVENT
DTSTART;TZID=America/Los_Angeles:20250819T100000
DTEND;TZID=America/Los_Angeles:20250819T130000
DTSTAMP:20260419T202314
CREATED:20250420T014651Z
LAST-MODIFIED:20250915T174558Z
UID:10005338-1755597600-1755608400@www.discoverlakeportca.com
SUMMARY:Tuesday Farmer's Market at Library Park
DESCRIPTION:Come to our certified seasonal farmers’ market! Tuesdays\, May through end of September\, 10-1\, rain or shine!
URL:https://www.discoverlakeportca.com/event/tuesday-farmers-market-at-library-park/2025-08-19/
LOCATION:Library Park\, 200 Park Street\, Lakeport\, CA\, 95453\, United States
CATEGORIES:Event
ATTACH;FMTTYPE=image/png:https://www.discoverlakeportca.com/wp-content/uploads/2025/04/Screenshot_20250419-184415.png
END:VEVENT
BEGIN:VEVENT
DTSTART;TZID=America/Los_Angeles:20250815T101500
DTEND;TZID=America/Los_Angeles:20250815T110000
DTSTAMP:20260419T202314
CREATED:20250604T205150Z
LAST-MODIFIED:20250604T205150Z
UID:10005682-1755252900-1755255600@www.discoverlakeportca.com
SUMMARY:Storytime in Library Park!
DESCRIPTION:Beginning June 6th\, Lakeport Library’s Storytime will be moving to Library Park! Join us every Friday at 10:15 am for stories\, songs and crafts!  This is sponsored by the Lakeport Library!
URL:https://www.discoverlakeportca.com/event/storytime-in-library-park/2025-08-15/
LOCATION:Library Park\, 200 Park Street\, Lakeport\, CA\, 95453\, United States
ATTACH;FMTTYPE=image/png:https://www.discoverlakeportca.com/wp-content/uploads/2025/06/screenshot_20250603-1558147025882691703059815.png
END:VEVENT
BEGIN:VEVENT
DTSTART;TZID=America/Los_Angeles:20250815T080000
DTEND;TZID=America/Los_Angeles:20250815T170000
DTSTAMP:20260419T202314
CREATED:20250420T005101Z
LAST-MODIFIED:20250420T005101Z
UID:10005302-1755244800-1755277200@www.discoverlakeportca.com
SUMMARY:Summer Concerts in Library Park
DESCRIPTION:The KXBX 98.3 Summer Concerts In The Park Series has been a summer tradition at Lakeport’s Library Park for almost 30 years\, and brings the community together every Friday night from the middle of June through the Middle of August.  Join us at 6:30 pm for family friendly entertainment with world class musical acts! \n \n 
URL:https://www.discoverlakeportca.com/event/summer-concerts-in-library-park/2025-08-15/
LOCATION:Library Park\, 200 Park Street\, Lakeport\, CA\, 95453\, United States
CATEGORIES:Event,Music
ATTACH;FMTTYPE=image/jpeg:https://www.discoverlakeportca.com/wp-content/uploads/2025/04/FB_IMG_1742936061141.jpg
END:VEVENT
BEGIN:VEVENT
DTSTART;TZID=America/Los_Angeles:20250812T100000
DTEND;TZID=America/Los_Angeles:20250812T130000
DTSTAMP:20260419T202314
CREATED:20250420T014651Z
LAST-MODIFIED:20250915T174558Z
UID:10005337-1754992800-1755003600@www.discoverlakeportca.com
SUMMARY:Tuesday Farmer's Market at Library Park
DESCRIPTION:Come to our certified seasonal farmers’ market! Tuesdays\, May through end of September\, 10-1\, rain or shine!
URL:https://www.discoverlakeportca.com/event/tuesday-farmers-market-at-library-park/2025-08-12/
LOCATION:Library Park\, 200 Park Street\, Lakeport\, CA\, 95453\, United States
CATEGORIES:Event
ATTACH;FMTTYPE=image/png:https://www.discoverlakeportca.com/wp-content/uploads/2025/04/Screenshot_20250419-184415.png
END:VEVENT
BEGIN:VEVENT
DTSTART;TZID=America/Los_Angeles:20250808T101500
DTEND;TZID=America/Los_Angeles:20250808T110000
DTSTAMP:20260419T202314
CREATED:20250604T205150Z
LAST-MODIFIED:20250604T205150Z
UID:10005681-1754648100-1754650800@www.discoverlakeportca.com
SUMMARY:Storytime in Library Park!
DESCRIPTION:Beginning June 6th\, Lakeport Library’s Storytime will be moving to Library Park! Join us every Friday at 10:15 am for stories\, songs and crafts!  This is sponsored by the Lakeport Library!
URL:https://www.discoverlakeportca.com/event/storytime-in-library-park/2025-08-08/
LOCATION:Library Park\, 200 Park Street\, Lakeport\, CA\, 95453\, United States
ATTACH;FMTTYPE=image/png:https://www.discoverlakeportca.com/wp-content/uploads/2025/06/screenshot_20250603-1558147025882691703059815.png
END:VEVENT
BEGIN:VEVENT
DTSTART;TZID=America/Los_Angeles:20250808T080000
DTEND;TZID=America/Los_Angeles:20250808T170000
DTSTAMP:20260419T202314
CREATED:20250420T005101Z
LAST-MODIFIED:20250420T005101Z
UID:10005301-1754640000-1754672400@www.discoverlakeportca.com
SUMMARY:Summer Concerts in Library Park
DESCRIPTION:The KXBX 98.3 Summer Concerts In The Park Series has been a summer tradition at Lakeport’s Library Park for almost 30 years\, and brings the community together every Friday night from the middle of June through the Middle of August.  Join us at 6:30 pm for family friendly entertainment with world class musical acts! \n \n 
URL:https://www.discoverlakeportca.com/event/summer-concerts-in-library-park/2025-08-08/
LOCATION:Library Park\, 200 Park Street\, Lakeport\, CA\, 95453\, United States
CATEGORIES:Event,Music
ATTACH;FMTTYPE=image/jpeg:https://www.discoverlakeportca.com/wp-content/uploads/2025/04/FB_IMG_1742936061141.jpg
END:VEVENT
BEGIN:VEVENT
DTSTART;TZID=America/Los_Angeles:20250805T100000
DTEND;TZID=America/Los_Angeles:20250805T130000
DTSTAMP:20260419T202314
CREATED:20250420T014651Z
LAST-MODIFIED:20250915T174558Z
UID:10005336-1754388000-1754398800@www.discoverlakeportca.com
SUMMARY:Tuesday Farmer's Market at Library Park
DESCRIPTION:Come to our certified seasonal farmers’ market! Tuesdays\, May through end of September\, 10-1\, rain or shine!
URL:https://www.discoverlakeportca.com/event/tuesday-farmers-market-at-library-park/2025-08-05/
LOCATION:Library Park\, 200 Park Street\, Lakeport\, CA\, 95453\, United States
CATEGORIES:Event
ATTACH;FMTTYPE=image/png:https://www.discoverlakeportca.com/wp-content/uploads/2025/04/Screenshot_20250419-184415.png
END:VEVENT
BEGIN:VEVENT
DTSTART;TZID=America/Los_Angeles:20250801T101500
DTEND;TZID=America/Los_Angeles:20250801T110000
DTSTAMP:20260419T202314
CREATED:20250604T205150Z
LAST-MODIFIED:20250604T205150Z
UID:10005680-1754043300-1754046000@www.discoverlakeportca.com
SUMMARY:Storytime in Library Park!
DESCRIPTION:Beginning June 6th\, Lakeport Library’s Storytime will be moving to Library Park! Join us every Friday at 10:15 am for stories\, songs and crafts!  This is sponsored by the Lakeport Library!
URL:https://www.discoverlakeportca.com/event/storytime-in-library-park/2025-08-01/
LOCATION:Library Park\, 200 Park Street\, Lakeport\, CA\, 95453\, United States
ATTACH;FMTTYPE=image/png:https://www.discoverlakeportca.com/wp-content/uploads/2025/06/screenshot_20250603-1558147025882691703059815.png
END:VEVENT
BEGIN:VEVENT
DTSTART;TZID=America/Los_Angeles:20250801T080000
DTEND;TZID=America/Los_Angeles:20250801T170000
DTSTAMP:20260419T202314
CREATED:20250420T005101Z
LAST-MODIFIED:20250420T005101Z
UID:10005300-1754035200-1754067600@www.discoverlakeportca.com
SUMMARY:Summer Concerts in Library Park
DESCRIPTION:The KXBX 98.3 Summer Concerts In The Park Series has been a summer tradition at Lakeport’s Library Park for almost 30 years\, and brings the community together every Friday night from the middle of June through the Middle of August.  Join us at 6:30 pm for family friendly entertainment with world class musical acts! \n \n 
URL:https://www.discoverlakeportca.com/event/summer-concerts-in-library-park/2025-08-01/
LOCATION:Library Park\, 200 Park Street\, Lakeport\, CA\, 95453\, United States
CATEGORIES:Event,Music
ATTACH;FMTTYPE=image/jpeg:https://www.discoverlakeportca.com/wp-content/uploads/2025/04/FB_IMG_1742936061141.jpg
END:VEVENT
BEGIN:VEVENT
DTSTART;TZID=America/Los_Angeles:20250729T100000
DTEND;TZID=America/Los_Angeles:20250729T130000
DTSTAMP:20260419T202314
CREATED:20250420T014651Z
LAST-MODIFIED:20250915T174558Z
UID:10005335-1753783200-1753794000@www.discoverlakeportca.com
SUMMARY:Tuesday Farmer's Market at Library Park
DESCRIPTION:Come to our certified seasonal farmers’ market! Tuesdays\, May through end of September\, 10-1\, rain or shine!
URL:https://www.discoverlakeportca.com/event/tuesday-farmers-market-at-library-park/2025-07-29/
LOCATION:Library Park\, 200 Park Street\, Lakeport\, CA\, 95453\, United States
CATEGORIES:Event
ATTACH;FMTTYPE=image/png:https://www.discoverlakeportca.com/wp-content/uploads/2025/04/Screenshot_20250419-184415.png
END:VEVENT
END:VCALENDAR