BEGIN:VCALENDAR
VERSION:2.0
PRODID:-//Discover Lakeport CA - ECPv6.15.20//NONSGML v1.0//EN
CALSCALE:GREGORIAN
METHOD:PUBLISH
X-ORIGINAL-URL:https://www.discoverlakeportca.com
X-WR-CALDESC:Events for Discover Lakeport CA
REFRESH-INTERVAL;VALUE=DURATION:PT1H
X-Robots-Tag:noindex
X-PUBLISHED-TTL:PT1H
BEGIN:VTIMEZONE
TZID:America/Los_Angeles
BEGIN:DAYLIGHT
TZOFFSETFROM:-0800
TZOFFSETTO:-0700
TZNAME:PDT
DTSTART:20250309T100000
END:DAYLIGHT
BEGIN:STANDARD
TZOFFSETFROM:-0700
TZOFFSETTO:-0800
TZNAME:PST
DTSTART:20251102T090000
END:STANDARD
BEGIN:DAYLIGHT
TZOFFSETFROM:-0800
TZOFFSETTO:-0700
TZNAME:PDT
DTSTART:20260308T100000
END:DAYLIGHT
BEGIN:STANDARD
TZOFFSETFROM:-0700
TZOFFSETTO:-0800
TZNAME:PST
DTSTART:20261101T090000
END:STANDARD
BEGIN:DAYLIGHT
TZOFFSETFROM:-0800
TZOFFSETTO:-0700
TZNAME:PDT
DTSTART:20270314T100000
END:DAYLIGHT
BEGIN:STANDARD
TZOFFSETFROM:-0700
TZOFFSETTO:-0800
TZNAME:PST
DTSTART:20271107T090000
END:STANDARD
BEGIN:DAYLIGHT
TZOFFSETFROM:-0800
TZOFFSETTO:-0700
TZNAME:PDT
DTSTART:20280312T100000
END:DAYLIGHT
BEGIN:STANDARD
TZOFFSETFROM:-0700
TZOFFSETTO:-0800
TZNAME:PST
DTSTART:20281105T090000
END:STANDARD
END:VTIMEZONE
BEGIN:VEVENT
DTSTART;TZID=America/Los_Angeles:20260502T130000
DTEND;TZID=America/Los_Angeles:20260502T163000
DTSTAMP:20260419T134442
CREATED:20260406T200118Z
LAST-MODIFIED:20260406T200118Z
UID:10007812-1777726800-1777739400@www.discoverlakeportca.com
SUMMARY:May We Heal
DESCRIPTION:May We Heal.\nOur fourth annual mini wellness retreat.\nA women’s gathering at Lavender Moon Holistic Spa\nSome days the world asks too much of us.\nThis is a day we ask something different — to come back to ourselves.\nJoin us for an afternoon of restoration\, ritual\, and real connection.\n Qigong — gentle movement to open and ground the body\n Sample sessions — Reiki\, facial reflexology & massage\nTalk: Managing Stress & Overwhelm — tools you can use the same day\nNourishing food — because healing starts with being fed\n Make your own soap — a hands-on ritual to take home\nJournaling — guided reflection to help you hear yourself again\nSound bath — close the day in stillness and vibration\nThis is for the woman who keeps going.\nWho gives and gives and quietly forgets to receive.\nYou are welcome here. Exactly as you are.\n\nLavender Moon Holistic Spa · 127 N Main St\, Lakeport CA\nText to reserve your place 707-245-9695\nSpace is intimate. Come ready to rest.
URL:https://www.discoverlakeportca.com/event/may-we-heal/
LOCATION:Lavender Moon & Spa\, 127 N. Main Street\, Lakeport\, CA\, 95453\, United States
CATEGORIES:Class
ATTACH;FMTTYPE=image/jpeg:https://www.discoverlakeportca.com/wp-content/uploads/2026/04/5729E088-061F-4E9C-BDB5-1A96856896DC.jpeg
END:VEVENT
BEGIN:VEVENT
DTSTART;TZID=America/Los_Angeles:20260509T180000
DTEND;TZID=America/Los_Angeles:20260509T190000
DTSTAMP:20260419T134442
CREATED:20260211T190040Z
LAST-MODIFIED:20260211T190040Z
UID:10007681-1778349600-1778353200@www.discoverlakeportca.com
SUMMARY:Swing Dance Lessons at Lavender Moon!
DESCRIPTION:Super excited to be bringing SWING DANCE to Lakeport! \n  \nCome learn a new dance or if you are already a swing dance enthusiast come and dance with us!  \n  \nMonthly – the second Saturday at Six
URL:https://www.discoverlakeportca.com/event/swing-dance-lessons-at-lavender-moon/2026-05-09/
LOCATION:Lavender Moon & Spa\, 127 N. Main Street\, Lakeport\, CA\, 95453\, United States
CATEGORIES:Class
ATTACH;FMTTYPE=image/jpeg:https://www.discoverlakeportca.com/wp-content/uploads/2026/02/fb_img_17707667532327509756400563356742.jpg
END:VEVENT
BEGIN:VEVENT
DTSTART;TZID=America/Los_Angeles:20260613T180000
DTEND;TZID=America/Los_Angeles:20260613T190000
DTSTAMP:20260419T134442
CREATED:20260211T190040Z
LAST-MODIFIED:20260211T190040Z
UID:10007682-1781373600-1781377200@www.discoverlakeportca.com
SUMMARY:Swing Dance Lessons at Lavender Moon!
DESCRIPTION:Super excited to be bringing SWING DANCE to Lakeport! \n  \nCome learn a new dance or if you are already a swing dance enthusiast come and dance with us!  \n  \nMonthly – the second Saturday at Six
URL:https://www.discoverlakeportca.com/event/swing-dance-lessons-at-lavender-moon/2026-06-13/
LOCATION:Lavender Moon & Spa\, 127 N. Main Street\, Lakeport\, CA\, 95453\, United States
CATEGORIES:Class
ATTACH;FMTTYPE=image/jpeg:https://www.discoverlakeportca.com/wp-content/uploads/2026/02/fb_img_17707667532327509756400563356742.jpg
END:VEVENT
BEGIN:VEVENT
DTSTART;TZID=America/Los_Angeles:20260711T180000
DTEND;TZID=America/Los_Angeles:20260711T190000
DTSTAMP:20260419T134442
CREATED:20260211T190040Z
LAST-MODIFIED:20260211T190040Z
UID:10007683-1783792800-1783796400@www.discoverlakeportca.com
SUMMARY:Swing Dance Lessons at Lavender Moon!
DESCRIPTION:Super excited to be bringing SWING DANCE to Lakeport! \n  \nCome learn a new dance or if you are already a swing dance enthusiast come and dance with us!  \n  \nMonthly – the second Saturday at Six
URL:https://www.discoverlakeportca.com/event/swing-dance-lessons-at-lavender-moon/2026-07-11/
LOCATION:Lavender Moon & Spa\, 127 N. Main Street\, Lakeport\, CA\, 95453\, United States
CATEGORIES:Class
ATTACH;FMTTYPE=image/jpeg:https://www.discoverlakeportca.com/wp-content/uploads/2026/02/fb_img_17707667532327509756400563356742.jpg
END:VEVENT
BEGIN:VEVENT
DTSTART;TZID=America/Los_Angeles:20260808T180000
DTEND;TZID=America/Los_Angeles:20260808T190000
DTSTAMP:20260419T134442
CREATED:20260211T190040Z
LAST-MODIFIED:20260211T190040Z
UID:10007684-1786212000-1786215600@www.discoverlakeportca.com
SUMMARY:Swing Dance Lessons at Lavender Moon!
DESCRIPTION:Super excited to be bringing SWING DANCE to Lakeport! \n  \nCome learn a new dance or if you are already a swing dance enthusiast come and dance with us!  \n  \nMonthly – the second Saturday at Six
URL:https://www.discoverlakeportca.com/event/swing-dance-lessons-at-lavender-moon/2026-08-08/
LOCATION:Lavender Moon & Spa\, 127 N. Main Street\, Lakeport\, CA\, 95453\, United States
CATEGORIES:Class
ATTACH;FMTTYPE=image/jpeg:https://www.discoverlakeportca.com/wp-content/uploads/2026/02/fb_img_17707667532327509756400563356742.jpg
END:VEVENT
BEGIN:VEVENT
DTSTART;TZID=America/Los_Angeles:20260912T180000
DTEND;TZID=America/Los_Angeles:20260912T190000
DTSTAMP:20260419T134442
CREATED:20260211T190040Z
LAST-MODIFIED:20260211T190040Z
UID:10007685-1789236000-1789239600@www.discoverlakeportca.com
SUMMARY:Swing Dance Lessons at Lavender Moon!
DESCRIPTION:Super excited to be bringing SWING DANCE to Lakeport! \n  \nCome learn a new dance or if you are already a swing dance enthusiast come and dance with us!  \n  \nMonthly – the second Saturday at Six
URL:https://www.discoverlakeportca.com/event/swing-dance-lessons-at-lavender-moon/2026-09-12/
LOCATION:Lavender Moon & Spa\, 127 N. Main Street\, Lakeport\, CA\, 95453\, United States
CATEGORIES:Class
ATTACH;FMTTYPE=image/jpeg:https://www.discoverlakeportca.com/wp-content/uploads/2026/02/fb_img_17707667532327509756400563356742.jpg
END:VEVENT
BEGIN:VEVENT
DTSTART;TZID=America/Los_Angeles:20261010T180000
DTEND;TZID=America/Los_Angeles:20261010T190000
DTSTAMP:20260419T134442
CREATED:20260211T190040Z
LAST-MODIFIED:20260211T190040Z
UID:10007686-1791655200-1791658800@www.discoverlakeportca.com
SUMMARY:Swing Dance Lessons at Lavender Moon!
DESCRIPTION:Super excited to be bringing SWING DANCE to Lakeport! \n  \nCome learn a new dance or if you are already a swing dance enthusiast come and dance with us!  \n  \nMonthly – the second Saturday at Six
URL:https://www.discoverlakeportca.com/event/swing-dance-lessons-at-lavender-moon/2026-10-10/
LOCATION:Lavender Moon & Spa\, 127 N. Main Street\, Lakeport\, CA\, 95453\, United States
CATEGORIES:Class
ATTACH;FMTTYPE=image/jpeg:https://www.discoverlakeportca.com/wp-content/uploads/2026/02/fb_img_17707667532327509756400563356742.jpg
END:VEVENT
BEGIN:VEVENT
DTSTART;TZID=America/Los_Angeles:20261114T180000
DTEND;TZID=America/Los_Angeles:20261114T190000
DTSTAMP:20260419T134442
CREATED:20260211T190040Z
LAST-MODIFIED:20260211T190040Z
UID:10007687-1794679200-1794682800@www.discoverlakeportca.com
SUMMARY:Swing Dance Lessons at Lavender Moon!
DESCRIPTION:Super excited to be bringing SWING DANCE to Lakeport! \n  \nCome learn a new dance or if you are already a swing dance enthusiast come and dance with us!  \n  \nMonthly – the second Saturday at Six
URL:https://www.discoverlakeportca.com/event/swing-dance-lessons-at-lavender-moon/2026-11-14/
LOCATION:Lavender Moon & Spa\, 127 N. Main Street\, Lakeport\, CA\, 95453\, United States
CATEGORIES:Class
ATTACH;FMTTYPE=image/jpeg:https://www.discoverlakeportca.com/wp-content/uploads/2026/02/fb_img_17707667532327509756400563356742.jpg
END:VEVENT
BEGIN:VEVENT
DTSTART;TZID=America/Los_Angeles:20261212T180000
DTEND;TZID=America/Los_Angeles:20261212T190000
DTSTAMP:20260419T134442
CREATED:20260211T190040Z
LAST-MODIFIED:20260211T190040Z
UID:10007688-1797098400-1797102000@www.discoverlakeportca.com
SUMMARY:Swing Dance Lessons at Lavender Moon!
DESCRIPTION:Super excited to be bringing SWING DANCE to Lakeport! \n  \nCome learn a new dance or if you are already a swing dance enthusiast come and dance with us!  \n  \nMonthly – the second Saturday at Six
URL:https://www.discoverlakeportca.com/event/swing-dance-lessons-at-lavender-moon/2026-12-12/
LOCATION:Lavender Moon & Spa\, 127 N. Main Street\, Lakeport\, CA\, 95453\, United States
CATEGORIES:Class
ATTACH;FMTTYPE=image/jpeg:https://www.discoverlakeportca.com/wp-content/uploads/2026/02/fb_img_17707667532327509756400563356742.jpg
END:VEVENT
BEGIN:VEVENT
DTSTART;TZID=America/Los_Angeles:20270109T180000
DTEND;TZID=America/Los_Angeles:20270109T190000
DTSTAMP:20260419T134442
CREATED:20260211T190040Z
LAST-MODIFIED:20260211T190040Z
UID:10007689-1799517600-1799521200@www.discoverlakeportca.com
SUMMARY:Swing Dance Lessons at Lavender Moon!
DESCRIPTION:Super excited to be bringing SWING DANCE to Lakeport! \n  \nCome learn a new dance or if you are already a swing dance enthusiast come and dance with us!  \n  \nMonthly – the second Saturday at Six
URL:https://www.discoverlakeportca.com/event/swing-dance-lessons-at-lavender-moon/2027-01-09/
LOCATION:Lavender Moon & Spa\, 127 N. Main Street\, Lakeport\, CA\, 95453\, United States
CATEGORIES:Class
ATTACH;FMTTYPE=image/jpeg:https://www.discoverlakeportca.com/wp-content/uploads/2026/02/fb_img_17707667532327509756400563356742.jpg
END:VEVENT
BEGIN:VEVENT
DTSTART;TZID=America/Los_Angeles:20270213T180000
DTEND;TZID=America/Los_Angeles:20270213T190000
DTSTAMP:20260419T134442
CREATED:20260211T190040Z
LAST-MODIFIED:20260211T190040Z
UID:10007690-1802541600-1802545200@www.discoverlakeportca.com
SUMMARY:Swing Dance Lessons at Lavender Moon!
DESCRIPTION:Super excited to be bringing SWING DANCE to Lakeport! \n  \nCome learn a new dance or if you are already a swing dance enthusiast come and dance with us!  \n  \nMonthly – the second Saturday at Six
URL:https://www.discoverlakeportca.com/event/swing-dance-lessons-at-lavender-moon/2027-02-13/
LOCATION:Lavender Moon & Spa\, 127 N. Main Street\, Lakeport\, CA\, 95453\, United States
CATEGORIES:Class
ATTACH;FMTTYPE=image/jpeg:https://www.discoverlakeportca.com/wp-content/uploads/2026/02/fb_img_17707667532327509756400563356742.jpg
END:VEVENT
END:VCALENDAR