BEGIN:VCALENDAR
VERSION:2.0
PRODID:-//Discover Lakeport CA - ECPv6.15.20//NONSGML v1.0//EN
CALSCALE:GREGORIAN
METHOD:PUBLISH
X-WR-CALNAME:Discover Lakeport CA
X-ORIGINAL-URL:https://www.discoverlakeportca.com
X-WR-CALDESC:Events for Discover Lakeport CA
REFRESH-INTERVAL;VALUE=DURATION:PT1H
X-Robots-Tag:noindex
X-PUBLISHED-TTL:PT1H
BEGIN:VTIMEZONE
TZID:America/Los_Angeles
BEGIN:DAYLIGHT
TZOFFSETFROM:-0800
TZOFFSETTO:-0700
TZNAME:PDT
DTSTART:20240310T100000
END:DAYLIGHT
BEGIN:STANDARD
TZOFFSETFROM:-0700
TZOFFSETTO:-0800
TZNAME:PST
DTSTART:20241103T090000
END:STANDARD
BEGIN:DAYLIGHT
TZOFFSETFROM:-0800
TZOFFSETTO:-0700
TZNAME:PDT
DTSTART:20250309T100000
END:DAYLIGHT
BEGIN:STANDARD
TZOFFSETFROM:-0700
TZOFFSETTO:-0800
TZNAME:PST
DTSTART:20251102T090000
END:STANDARD
BEGIN:DAYLIGHT
TZOFFSETFROM:-0800
TZOFFSETTO:-0700
TZNAME:PDT
DTSTART:20260308T100000
END:DAYLIGHT
BEGIN:STANDARD
TZOFFSETFROM:-0700
TZOFFSETTO:-0800
TZNAME:PST
DTSTART:20261101T090000
END:STANDARD
BEGIN:DAYLIGHT
TZOFFSETFROM:-0800
TZOFFSETTO:-0700
TZNAME:PDT
DTSTART:20270314T100000
END:DAYLIGHT
BEGIN:STANDARD
TZOFFSETFROM:-0700
TZOFFSETTO:-0800
TZNAME:PST
DTSTART:20271107T090000
END:STANDARD
END:VTIMEZONE
BEGIN:VEVENT
DTSTART;TZID=America/Los_Angeles:20260228T080000
DTEND;TZID=America/Los_Angeles:20260228T230000
DTSTAMP:20260419T053208
CREATED:20260114T185336Z
LAST-MODIFIED:20260114T185336Z
UID:10007511-1772265600-1772319600@www.discoverlakeportca.com
SUMMARY:Restaurant Week
DESCRIPTION:This event is promoted through the Lake County Chamber of Commerce. \nCheck their website and the Facebook Pages of many local restaurants for their specials during this week!
URL:https://www.discoverlakeportca.com/event/restaurant-week/2026-02-28/
LOCATION:Lakeport\, CA\, 95453\, United States
CATEGORIES:Event
END:VEVENT
BEGIN:VEVENT
DTSTART;TZID=America/Los_Angeles:20260227T080000
DTEND;TZID=America/Los_Angeles:20260227T230000
DTSTAMP:20260419T053208
CREATED:20260114T185336Z
LAST-MODIFIED:20260114T185336Z
UID:10007510-1772179200-1772233200@www.discoverlakeportca.com
SUMMARY:Restaurant Week
DESCRIPTION:This event is promoted through the Lake County Chamber of Commerce. \nCheck their website and the Facebook Pages of many local restaurants for their specials during this week!
URL:https://www.discoverlakeportca.com/event/restaurant-week/2026-02-27/
LOCATION:Lakeport\, CA\, 95453\, United States
CATEGORIES:Event
END:VEVENT
BEGIN:VEVENT
DTSTART;TZID=America/Los_Angeles:20260226T080000
DTEND;TZID=America/Los_Angeles:20260226T230000
DTSTAMP:20260419T053208
CREATED:20260114T185336Z
LAST-MODIFIED:20260114T185336Z
UID:10007509-1772092800-1772146800@www.discoverlakeportca.com
SUMMARY:Restaurant Week
DESCRIPTION:This event is promoted through the Lake County Chamber of Commerce. \nCheck their website and the Facebook Pages of many local restaurants for their specials during this week!
URL:https://www.discoverlakeportca.com/event/restaurant-week/2026-02-26/
LOCATION:Lakeport\, CA\, 95453\, United States
CATEGORIES:Event
END:VEVENT
BEGIN:VEVENT
DTSTART;TZID=America/Los_Angeles:20260225T080000
DTEND;TZID=America/Los_Angeles:20260225T230000
DTSTAMP:20260419T053208
CREATED:20260114T185336Z
LAST-MODIFIED:20260114T185336Z
UID:10007508-1772006400-1772060400@www.discoverlakeportca.com
SUMMARY:Restaurant Week
DESCRIPTION:This event is promoted through the Lake County Chamber of Commerce. \nCheck their website and the Facebook Pages of many local restaurants for their specials during this week!
URL:https://www.discoverlakeportca.com/event/restaurant-week/2026-02-25/
LOCATION:Lakeport\, CA\, 95453\, United States
CATEGORIES:Event
END:VEVENT
BEGIN:VEVENT
DTSTART;TZID=America/Los_Angeles:20260224T080000
DTEND;TZID=America/Los_Angeles:20260224T230000
DTSTAMP:20260419T053208
CREATED:20260114T185336Z
LAST-MODIFIED:20260114T185336Z
UID:10007507-1771920000-1771974000@www.discoverlakeportca.com
SUMMARY:Restaurant Week
DESCRIPTION:This event is promoted through the Lake County Chamber of Commerce. \nCheck their website and the Facebook Pages of many local restaurants for their specials during this week!
URL:https://www.discoverlakeportca.com/event/restaurant-week/2026-02-24/
LOCATION:Lakeport\, CA\, 95453\, United States
CATEGORIES:Event
END:VEVENT
BEGIN:VEVENT
DTSTART;TZID=America/Los_Angeles:20260223T080000
DTEND;TZID=America/Los_Angeles:20260223T230000
DTSTAMP:20260419T053208
CREATED:20260114T185336Z
LAST-MODIFIED:20260114T185336Z
UID:10007506-1771833600-1771887600@www.discoverlakeportca.com
SUMMARY:Restaurant Week
DESCRIPTION:This event is promoted through the Lake County Chamber of Commerce. \nCheck their website and the Facebook Pages of many local restaurants for their specials during this week!
URL:https://www.discoverlakeportca.com/event/restaurant-week/2026-02-23/
LOCATION:Lakeport\, CA\, 95453\, United States
CATEGORIES:Event
END:VEVENT
BEGIN:VEVENT
DTSTART;TZID=America/Los_Angeles:20260222T080000
DTEND;TZID=America/Los_Angeles:20260222T230000
DTSTAMP:20260419T053208
CREATED:20260114T185336Z
LAST-MODIFIED:20260114T185336Z
UID:10007505-1771747200-1771801200@www.discoverlakeportca.com
SUMMARY:Restaurant Week
DESCRIPTION:This event is promoted through the Lake County Chamber of Commerce. \nCheck their website and the Facebook Pages of many local restaurants for their specials during this week!
URL:https://www.discoverlakeportca.com/event/restaurant-week/2026-02-22/
LOCATION:Lakeport\, CA\, 95453\, United States
CATEGORIES:Event
END:VEVENT
BEGIN:VEVENT
DTSTART;TZID=America/Los_Angeles:20251201T170000
DTEND;TZID=America/Los_Angeles:20260101T230000
DTSTAMP:20260419T053208
CREATED:20251114T001439Z
LAST-MODIFIED:20251211T221919Z
UID:10007327-1764608400-1767308400@www.discoverlakeportca.com
SUMMARY:Lakeport Twinkle Tour
DESCRIPTION:Get ready to experience the magic of the season on the Lakeport Twinkle Tour\, a self-guided journey through the brightest and most festive Christmas light displays in and around Lakeport! Whether you’re exploring with family\, friends\, or enjoying a cozy solo drive\, this tour is the perfect way to soak in the holiday spirit at your own pace. \n🎄 How it works:Create your own route of glittering homes and businesses decked out in their holiday finest. Drive\, walk\, or stroll through the twinkling wonderland—you choose the path and the timing! \n📍 Plan Your Tour: \n\n\nDownload the full list of participating locations \n\n\nOr use the interactive Google Map for turn-by-turn holiday magic \n\n\n✨ Pack some hot cocoa\, cue up your favorite carols\, and make the Lakeport Twinkle Tour your new holiday tradition. Let the lights guide your night!
URL:https://www.discoverlakeportca.com/event/lakeport-twinkle-tour-2/
LOCATION:Lakeport\, CA\, 95453\, United States
CATEGORIES:Event
ATTACH;FMTTYPE=image/jpeg:https://www.discoverlakeportca.com/wp-content/uploads/2025/11/LAKEPORT-Twinkle-Tour-1.jpg
END:VEVENT
BEGIN:VEVENT
DTSTART;TZID=America/Los_Angeles:20251201T003000
DTEND;TZID=America/Los_Angeles:20251212T233000
DTSTAMP:20260419T053208
CREATED:20251114T001023Z
LAST-MODIFIED:20251114T001023Z
UID:10007326-1764549000-1765582200@www.discoverlakeportca.com
SUMMARY:Lakeport 12 Days of  Christmas Ornament Hunt
DESCRIPTION:Get ready for some holiday fun in Downtown Lakeport!  Thank you to the Kiwanis Club of Lakeport for sponsoring this event!\nStarting December 1\, join us for 12 days of Christmas cheer as we hide a special paper “ornament” each day among the 47 beautifully decorated Christmas trees along Main Street.\n Here’s how it works:\nEach day from December 1–12\, a new ornament will be hidden on one of the Main Street trees.\nWhen you find it\, take the ornament to the store listed on the back to claim your $25 gift card to that store! Be sure to take a selfie with the ornament and post it on Facebook to let us know it was found! Tag @DiscoverLakeportCA\nAll gift cards must be claimed by 12:00 noon on December 24\, 2025.\n A few reminders:\nPlease do not damage or remove any of the decorations already on the trees.\nThe special paper ornament will look exactly like the photo in this post and can be easily removed.\nBe kind\, have fun\, and enjoy the holiday spirit in Downtown Lakeport!\nWe will make a post each day AFTER the ornament has been hidden\, so keep a close eye on our Facebook page!\n Whether you’re shopping\, dining\, or just taking in the lights\, this is the perfect way to celebrate the season with family and friends.\nHappy hunting and Merry Christmas from Downtown Lakeport! 
URL:https://www.discoverlakeportca.com/event/lakeport-12-days-of-christmas-ornament-hunt/
LOCATION:Lakeport\, CA\, 95453\, United States
CATEGORIES:Christmas,Event
ATTACH;FMTTYPE=image/jpeg:https://www.discoverlakeportca.com/wp-content/uploads/2025/11/Coming-December-1-12.jpg
END:VEVENT
BEGIN:VEVENT
DTSTART;TZID=America/Los_Angeles:20251101T080000
DTEND;TZID=America/Los_Angeles:20251101T220000
DTSTAMP:20260419T053208
CREATED:20251016T175614Z
LAST-MODIFIED:20251016T175614Z
UID:10006945-1761984000-1762034400@www.discoverlakeportca.com
SUMMARY:Haunted Lights Tour - Lakeport & Beyond
DESCRIPTION:Get ready for a frightfully fun tradition in Lakeport! The Lakeport Haunted Lights Tour is your chance to show off your spookiest\, most creative Halloween decorations — or to explore the eeriest\, most festive homes in town! \nCLICK HERE to see the list and the Google Map!
URL:https://www.discoverlakeportca.com/event/haunted-lights-tour-lakeport-beyond/
LOCATION:Lakeport\, CA\, 95453\, United States
CATEGORIES:Event,Halloween
ATTACH;FMTTYPE=image/jpeg:https://www.discoverlakeportca.com/wp-content/uploads/2025/10/haunted-1.jpg
END:VEVENT
END:VCALENDAR