BEGIN:VCALENDAR
VERSION:2.0
PRODID:-//Discover Lakeport CA - ECPv6.15.20//NONSGML v1.0//EN
CALSCALE:GREGORIAN
METHOD:PUBLISH
X-ORIGINAL-URL:https://www.discoverlakeportca.com
X-WR-CALDESC:Events for Discover Lakeport CA
REFRESH-INTERVAL;VALUE=DURATION:PT1H
X-Robots-Tag:noindex
X-PUBLISHED-TTL:PT1H
BEGIN:VTIMEZONE
TZID:America/Los_Angeles
BEGIN:DAYLIGHT
TZOFFSETFROM:-0800
TZOFFSETTO:-0700
TZNAME:PDT
DTSTART:20240310T100000
END:DAYLIGHT
BEGIN:STANDARD
TZOFFSETFROM:-0700
TZOFFSETTO:-0800
TZNAME:PST
DTSTART:20241103T090000
END:STANDARD
BEGIN:DAYLIGHT
TZOFFSETFROM:-0800
TZOFFSETTO:-0700
TZNAME:PDT
DTSTART:20250309T100000
END:DAYLIGHT
BEGIN:STANDARD
TZOFFSETFROM:-0700
TZOFFSETTO:-0800
TZNAME:PST
DTSTART:20251102T090000
END:STANDARD
BEGIN:DAYLIGHT
TZOFFSETFROM:-0800
TZOFFSETTO:-0700
TZNAME:PDT
DTSTART:20260308T100000
END:DAYLIGHT
BEGIN:STANDARD
TZOFFSETFROM:-0700
TZOFFSETTO:-0800
TZNAME:PST
DTSTART:20261101T090000
END:STANDARD
END:VTIMEZONE
BEGIN:VEVENT
DTSTART;TZID=America/Los_Angeles:20250524T190000
DTEND;TZID=America/Los_Angeles:20250524T220000
DTSTAMP:20260419T190024
CREATED:20250420T005609Z
LAST-MODIFIED:20250420T005609Z
UID:10005306-1748113200-1748124000@www.discoverlakeportca.com
SUMMARY:Racing & BOAT RACE at Lakeport Speedway
DESCRIPTION:Grandstands Open at 5:00 pm\nRacing Starts at 7:00 pm\nRegular Season General Admission (12-54 yrs) $16\nRegular Season Senior 55+ & Military $13\nRegular Season Child 4-12 years $12\n3 & Under Free \n 
URL:https://www.discoverlakeportca.com/event/racing-boat-race-at-lakeport-speedway/
LOCATION:Lakeport Speedway\, Martin Street\, Lakeport\, CA\, 95453\, United States
CATEGORIES:Event
ATTACH;FMTTYPE=image/jpeg:https://www.discoverlakeportca.com/wp-content/uploads/2025/04/FB_IMG_1742157011871.jpg
END:VEVENT
BEGIN:VEVENT
DTSTART;TZID=America/Los_Angeles:20250524T190000
DTEND;TZID=America/Los_Angeles:20250524T220000
DTSTAMP:20260419T190024
CREATED:20250420T005453Z
LAST-MODIFIED:20250420T005758Z
UID:10005305-1748113200-1748124000@www.discoverlakeportca.com
SUMMARY:Racing at Lakeport Speedway
DESCRIPTION:Grandstands Open at 5:00 pm\nRacing Starts at 7:00 pm\nRegular Season General Admission (12-54 yrs) $16\nRegular Season Senior 55+ & Military $13\nRegular Season Child 4-12 years $12\n3 & Under Free
URL:https://www.discoverlakeportca.com/event/racing-at-lakeport-speedway/
LOCATION:Lakeport Speedway\, Martin Street\, Lakeport\, CA\, 95453\, United States
CATEGORIES:Event
ATTACH;FMTTYPE=image/jpeg:https://www.discoverlakeportca.com/wp-content/uploads/2025/04/FB_IMG_1742157011871.jpg
END:VEVENT
BEGIN:VEVENT
DTSTART;TZID=America/Los_Angeles:20250523T190000
DTEND;TZID=America/Los_Angeles:20250523T220000
DTSTAMP:20260419T190024
CREATED:20250420T005407Z
LAST-MODIFIED:20250420T005708Z
UID:10005304-1748026800-1748037600@www.discoverlakeportca.com
SUMMARY:Test & Tune Racing at Lakeport Speedway
DESCRIPTION:Grandstands Open at 5:00 pm\nRacing Starts at 7:00 pm\nRegular Season General Admission (12-54 yrs) $16\nRegular Season Senior 55+ & Military $13\nRegular Season Child 4-12 years $12\n3 & Under Free
URL:https://www.discoverlakeportca.com/event/test-tune-at-lakeport-speedway/
LOCATION:Lakeport Speedway\, Martin Street\, Lakeport\, CA\, 95453\, United States
CATEGORIES:Event
ATTACH;FMTTYPE=image/jpeg:https://www.discoverlakeportca.com/wp-content/uploads/2025/04/FB_IMG_1742157011871.jpg
END:VEVENT
END:VCALENDAR