BEGIN:VCALENDAR
VERSION:2.0
PRODID:-//Discover Lakeport CA - ECPv6.15.20//NONSGML v1.0//EN
CALSCALE:GREGORIAN
METHOD:PUBLISH
X-WR-CALNAME:Discover Lakeport CA
X-ORIGINAL-URL:https://www.discoverlakeportca.com
X-WR-CALDESC:Events for Discover Lakeport CA
REFRESH-INTERVAL;VALUE=DURATION:PT1H
X-Robots-Tag:noindex
X-PUBLISHED-TTL:PT1H
BEGIN:VTIMEZONE
TZID:America/Los_Angeles
BEGIN:DAYLIGHT
TZOFFSETFROM:-0800
TZOFFSETTO:-0700
TZNAME:PDT
DTSTART:20230312T100000
END:DAYLIGHT
BEGIN:STANDARD
TZOFFSETFROM:-0700
TZOFFSETTO:-0800
TZNAME:PST
DTSTART:20231105T090000
END:STANDARD
BEGIN:DAYLIGHT
TZOFFSETFROM:-0800
TZOFFSETTO:-0700
TZNAME:PDT
DTSTART:20240310T100000
END:DAYLIGHT
BEGIN:STANDARD
TZOFFSETFROM:-0700
TZOFFSETTO:-0800
TZNAME:PST
DTSTART:20241103T090000
END:STANDARD
BEGIN:DAYLIGHT
TZOFFSETFROM:-0800
TZOFFSETTO:-0700
TZNAME:PDT
DTSTART:20250309T100000
END:DAYLIGHT
BEGIN:STANDARD
TZOFFSETFROM:-0700
TZOFFSETTO:-0800
TZNAME:PST
DTSTART:20251102T090000
END:STANDARD
END:VTIMEZONE
BEGIN:VEVENT
DTSTART;TZID=America/Los_Angeles:20241109T020000
DTEND;TZID=America/Los_Angeles:20241109T090000
DTSTAMP:20260419T163815
CREATED:20241025T001007Z
LAST-MODIFIED:20241025T001007Z
UID:10000081-1731117600-1731142800@www.discoverlakeportca.com
SUMMARY:Veterans Day Trap Shoot
DESCRIPTION:Lake County YFR Presents the 2nd Annual Veterans Day Trap Shoot \nRegistration Fee $50 per person\nIncludes lunch & clays\nDoor prizes\nShooting games with sings and doubles\n1st\, 2nd & 3rd place win a prize! \nTo secure your spot:\nEmail:  LAKECOYFT@GMAIL.COM\nPhone:  (707) 263-0911
URL:https://www.discoverlakeportca.com/event/veterans-day-trap-shoot/
LOCATION:Lake County Rod & Gun Club\, 3600 East Highland Springs Road\, Lakeport\, CA\, 95453\, United States
ATTACH;FMTTYPE=image/jpeg:https://www.discoverlakeportca.com/wp-content/uploads/2024/10/FB_IMG_1729789450034.jpg
END:VEVENT
END:VCALENDAR