BEGIN:VCALENDAR
VERSION:2.0
PRODID:-//Discover Lakeport CA - ECPv6.15.20//NONSGML v1.0//EN
CALSCALE:GREGORIAN
METHOD:PUBLISH
X-WR-CALNAME:Discover Lakeport CA
X-ORIGINAL-URL:https://www.discoverlakeportca.com
X-WR-CALDESC:Events for Discover Lakeport CA
REFRESH-INTERVAL;VALUE=DURATION:PT1H
X-Robots-Tag:noindex
X-PUBLISHED-TTL:PT1H
BEGIN:VTIMEZONE
TZID:America/Los_Angeles
BEGIN:DAYLIGHT
TZOFFSETFROM:-0800
TZOFFSETTO:-0700
TZNAME:PDT
DTSTART:20250309T100000
END:DAYLIGHT
BEGIN:STANDARD
TZOFFSETFROM:-0700
TZOFFSETTO:-0800
TZNAME:PST
DTSTART:20251102T090000
END:STANDARD
BEGIN:DAYLIGHT
TZOFFSETFROM:-0800
TZOFFSETTO:-0700
TZNAME:PDT
DTSTART:20260308T100000
END:DAYLIGHT
BEGIN:STANDARD
TZOFFSETFROM:-0700
TZOFFSETTO:-0800
TZNAME:PST
DTSTART:20261101T090000
END:STANDARD
BEGIN:DAYLIGHT
TZOFFSETFROM:-0800
TZOFFSETTO:-0700
TZNAME:PDT
DTSTART:20270314T100000
END:DAYLIGHT
BEGIN:STANDARD
TZOFFSETFROM:-0700
TZOFFSETTO:-0800
TZNAME:PST
DTSTART:20271107T090000
END:STANDARD
END:VTIMEZONE
BEGIN:VEVENT
DTSTART;TZID=America/Los_Angeles:20261010T110000
DTEND;TZID=America/Los_Angeles:20261010T140000
DTSTAMP:20260421T150307
CREATED:20250310T213723Z
LAST-MODIFIED:20250310T213723Z
UID:10004607-1791630000-1791640800@www.discoverlakeportca.com
SUMMARY:StoryWalk at Clear Lake State Park
DESCRIPTION:On the second Saturday of each month\, we will have a “Featured Story” along with a craft led by a State Park Employee!  Tell them at the gate you are there for StoryWalk and parking is free!
URL:https://www.discoverlakeportca.com/event/storywalk-at-clear-lake-state-park/2026-10-10/
LOCATION:Clear Lake State Park\, 5300 Soda Bay Road\, Kelseyville\, CA\, 95453\, United States
CATEGORIES:Event
ATTACH;FMTTYPE=image/png:https://www.discoverlakeportca.com/wp-content/uploads/2024/12/StoryWalk.png
END:VEVENT
BEGIN:VEVENT
DTSTART;TZID=America/Los_Angeles:20261114T110000
DTEND;TZID=America/Los_Angeles:20261114T140000
DTSTAMP:20260421T150307
CREATED:20250310T213723Z
LAST-MODIFIED:20250310T213723Z
UID:10004608-1794654000-1794664800@www.discoverlakeportca.com
SUMMARY:StoryWalk at Clear Lake State Park
DESCRIPTION:On the second Saturday of each month\, we will have a “Featured Story” along with a craft led by a State Park Employee!  Tell them at the gate you are there for StoryWalk and parking is free!
URL:https://www.discoverlakeportca.com/event/storywalk-at-clear-lake-state-park/2026-11-14/
LOCATION:Clear Lake State Park\, 5300 Soda Bay Road\, Kelseyville\, CA\, 95453\, United States
CATEGORIES:Event
ATTACH;FMTTYPE=image/png:https://www.discoverlakeportca.com/wp-content/uploads/2024/12/StoryWalk.png
END:VEVENT
BEGIN:VEVENT
DTSTART;TZID=America/Los_Angeles:20261212T110000
DTEND;TZID=America/Los_Angeles:20261212T140000
DTSTAMP:20260421T150307
CREATED:20250310T213723Z
LAST-MODIFIED:20250310T213723Z
UID:10004609-1797073200-1797084000@www.discoverlakeportca.com
SUMMARY:StoryWalk at Clear Lake State Park
DESCRIPTION:On the second Saturday of each month\, we will have a “Featured Story” along with a craft led by a State Park Employee!  Tell them at the gate you are there for StoryWalk and parking is free!
URL:https://www.discoverlakeportca.com/event/storywalk-at-clear-lake-state-park/2026-12-12/
LOCATION:Clear Lake State Park\, 5300 Soda Bay Road\, Kelseyville\, CA\, 95453\, United States
CATEGORIES:Event
ATTACH;FMTTYPE=image/png:https://www.discoverlakeportca.com/wp-content/uploads/2024/12/StoryWalk.png
END:VEVENT
END:VCALENDAR