BEGIN:VCALENDAR
VERSION:2.0
PRODID:-//Discover Lakeport CA - ECPv6.15.20//NONSGML v1.0//EN
CALSCALE:GREGORIAN
METHOD:PUBLISH
X-WR-CALNAME:Discover Lakeport CA
X-ORIGINAL-URL:https://www.discoverlakeportca.com
X-WR-CALDESC:Events for Discover Lakeport CA
REFRESH-INTERVAL;VALUE=DURATION:PT1H
X-Robots-Tag:noindex
X-PUBLISHED-TTL:PT1H
BEGIN:VTIMEZONE
TZID:America/Los_Angeles
BEGIN:DAYLIGHT
TZOFFSETFROM:-0800
TZOFFSETTO:-0700
TZNAME:PDT
DTSTART:20240310T100000
END:DAYLIGHT
BEGIN:STANDARD
TZOFFSETFROM:-0700
TZOFFSETTO:-0800
TZNAME:PST
DTSTART:20241103T090000
END:STANDARD
BEGIN:DAYLIGHT
TZOFFSETFROM:-0800
TZOFFSETTO:-0700
TZNAME:PDT
DTSTART:20250309T100000
END:DAYLIGHT
BEGIN:STANDARD
TZOFFSETFROM:-0700
TZOFFSETTO:-0800
TZNAME:PST
DTSTART:20251102T090000
END:STANDARD
BEGIN:DAYLIGHT
TZOFFSETFROM:-0800
TZOFFSETTO:-0700
TZNAME:PDT
DTSTART:20260308T100000
END:DAYLIGHT
BEGIN:STANDARD
TZOFFSETFROM:-0700
TZOFFSETTO:-0800
TZNAME:PST
DTSTART:20261101T090000
END:STANDARD
BEGIN:DAYLIGHT
TZOFFSETFROM:-0800
TZOFFSETTO:-0700
TZNAME:PDT
DTSTART:20270314T100000
END:DAYLIGHT
BEGIN:STANDARD
TZOFFSETFROM:-0700
TZOFFSETTO:-0800
TZNAME:PST
DTSTART:20271107T090000
END:STANDARD
END:VTIMEZONE
BEGIN:VEVENT
DTSTART;TZID=America/Los_Angeles:20260411T110000
DTEND;TZID=America/Los_Angeles:20260411T140000
DTSTAMP:20260421T163626
CREATED:20250310T213723Z
LAST-MODIFIED:20250310T213723Z
UID:10004601-1775905200-1775916000@www.discoverlakeportca.com
SUMMARY:StoryWalk at Clear Lake State Park
DESCRIPTION:On the second Saturday of each month\, we will have a “Featured Story” along with a craft led by a State Park Employee!  Tell them at the gate you are there for StoryWalk and parking is free!
URL:https://www.discoverlakeportca.com/event/storywalk-at-clear-lake-state-park/2026-04-11/
LOCATION:Clear Lake State Park\, 5300 Soda Bay Road\, Kelseyville\, CA\, 95453\, United States
CATEGORIES:Event
ATTACH;FMTTYPE=image/png:https://www.discoverlakeportca.com/wp-content/uploads/2024/12/StoryWalk.png
END:VEVENT
BEGIN:VEVENT
DTSTART;TZID=America/Los_Angeles:20260314T110000
DTEND;TZID=America/Los_Angeles:20260314T140000
DTSTAMP:20260421T163626
CREATED:20250310T213723Z
LAST-MODIFIED:20250310T213723Z
UID:10004600-1773486000-1773496800@www.discoverlakeportca.com
SUMMARY:StoryWalk at Clear Lake State Park
DESCRIPTION:On the second Saturday of each month\, we will have a “Featured Story” along with a craft led by a State Park Employee!  Tell them at the gate you are there for StoryWalk and parking is free!
URL:https://www.discoverlakeportca.com/event/storywalk-at-clear-lake-state-park/2026-03-14/
LOCATION:Clear Lake State Park\, 5300 Soda Bay Road\, Kelseyville\, CA\, 95453\, United States
CATEGORIES:Event
ATTACH;FMTTYPE=image/png:https://www.discoverlakeportca.com/wp-content/uploads/2024/12/StoryWalk.png
END:VEVENT
BEGIN:VEVENT
DTSTART;TZID=America/Los_Angeles:20260214T110000
DTEND;TZID=America/Los_Angeles:20260214T140000
DTSTAMP:20260421T163626
CREATED:20250310T213723Z
LAST-MODIFIED:20250310T213723Z
UID:10004599-1771066800-1771077600@www.discoverlakeportca.com
SUMMARY:StoryWalk at Clear Lake State Park
DESCRIPTION:On the second Saturday of each month\, we will have a “Featured Story” along with a craft led by a State Park Employee!  Tell them at the gate you are there for StoryWalk and parking is free!
URL:https://www.discoverlakeportca.com/event/storywalk-at-clear-lake-state-park/2026-02-14/
LOCATION:Clear Lake State Park\, 5300 Soda Bay Road\, Kelseyville\, CA\, 95453\, United States
CATEGORIES:Event
ATTACH;FMTTYPE=image/png:https://www.discoverlakeportca.com/wp-content/uploads/2024/12/StoryWalk.png
END:VEVENT
BEGIN:VEVENT
DTSTART;TZID=America/Los_Angeles:20260110T110000
DTEND;TZID=America/Los_Angeles:20260110T140000
DTSTAMP:20260421T163626
CREATED:20250310T213723Z
LAST-MODIFIED:20250310T213723Z
UID:10004598-1768042800-1768053600@www.discoverlakeportca.com
SUMMARY:StoryWalk at Clear Lake State Park
DESCRIPTION:On the second Saturday of each month\, we will have a “Featured Story” along with a craft led by a State Park Employee!  Tell them at the gate you are there for StoryWalk and parking is free!
URL:https://www.discoverlakeportca.com/event/storywalk-at-clear-lake-state-park/2026-01-10/
LOCATION:Clear Lake State Park\, 5300 Soda Bay Road\, Kelseyville\, CA\, 95453\, United States
CATEGORIES:Event
ATTACH;FMTTYPE=image/png:https://www.discoverlakeportca.com/wp-content/uploads/2024/12/StoryWalk.png
END:VEVENT
BEGIN:VEVENT
DTSTART;TZID=America/Los_Angeles:20251213T110000
DTEND;TZID=America/Los_Angeles:20251213T140000
DTSTAMP:20260421T163626
CREATED:20250310T213723Z
LAST-MODIFIED:20250310T213723Z
UID:10004597-1765623600-1765634400@www.discoverlakeportca.com
SUMMARY:StoryWalk at Clear Lake State Park
DESCRIPTION:On the second Saturday of each month\, we will have a “Featured Story” along with a craft led by a State Park Employee!  Tell them at the gate you are there for StoryWalk and parking is free!
URL:https://www.discoverlakeportca.com/event/storywalk-at-clear-lake-state-park/2025-12-13/
LOCATION:Clear Lake State Park\, 5300 Soda Bay Road\, Kelseyville\, CA\, 95453\, United States
CATEGORIES:Event
ATTACH;FMTTYPE=image/png:https://www.discoverlakeportca.com/wp-content/uploads/2024/12/StoryWalk.png
END:VEVENT
BEGIN:VEVENT
DTSTART;TZID=America/Los_Angeles:20251108T110000
DTEND;TZID=America/Los_Angeles:20251108T140000
DTSTAMP:20260421T163626
CREATED:20250310T213723Z
LAST-MODIFIED:20250310T213723Z
UID:10004596-1762599600-1762610400@www.discoverlakeportca.com
SUMMARY:StoryWalk at Clear Lake State Park
DESCRIPTION:On the second Saturday of each month\, we will have a “Featured Story” along with a craft led by a State Park Employee!  Tell them at the gate you are there for StoryWalk and parking is free!
URL:https://www.discoverlakeportca.com/event/storywalk-at-clear-lake-state-park/2025-11-08/
LOCATION:Clear Lake State Park\, 5300 Soda Bay Road\, Kelseyville\, CA\, 95453\, United States
CATEGORIES:Event
ATTACH;FMTTYPE=image/png:https://www.discoverlakeportca.com/wp-content/uploads/2024/12/StoryWalk.png
END:VEVENT
BEGIN:VEVENT
DTSTART;TZID=America/Los_Angeles:20251026T140000
DTEND;TZID=America/Los_Angeles:20251026T170000
DTSTAMP:20260421T163626
CREATED:20251023T165638Z
LAST-MODIFIED:20251023T165638Z
UID:10007012-1761487200-1761498000@www.discoverlakeportca.com
SUMMARY:Pumpkin Carving & Painting
DESCRIPTION:On Sunday\, October 26th\, come join us at Clear Lake State Park to carve your own jack-o-lantern or paint a pumpkin masterpiece! This free event will be held from 2:00 to 5:00 PM at the park’s covered pavilion near the visitor center – rain or shine!  \nWe will have 50 or so pumpkins available to the public – first come\, first served\, as well as pumpkin-carving kits\, paint\, and brushes. We look forward to seeing you then!
URL:https://www.discoverlakeportca.com/event/pumpkin-carving-painting/
LOCATION:Clear Lake State Park\, 5300 Soda Bay Road\, Kelseyville\, CA\, 95453\, United States
CATEGORIES:Event,Halloween
ATTACH;FMTTYPE=image/jpeg:https://www.discoverlakeportca.com/wp-content/uploads/2025/10/fb_img_17611074482413505391021537731593.jpg
END:VEVENT
BEGIN:VEVENT
DTSTART;TZID=America/Los_Angeles:20251011T110000
DTEND;TZID=America/Los_Angeles:20251011T140000
DTSTAMP:20260421T163626
CREATED:20250310T213723Z
LAST-MODIFIED:20250310T213723Z
UID:10004595-1760180400-1760191200@www.discoverlakeportca.com
SUMMARY:StoryWalk at Clear Lake State Park
DESCRIPTION:On the second Saturday of each month\, we will have a “Featured Story” along with a craft led by a State Park Employee!  Tell them at the gate you are there for StoryWalk and parking is free!
URL:https://www.discoverlakeportca.com/event/storywalk-at-clear-lake-state-park/2025-10-11/
LOCATION:Clear Lake State Park\, 5300 Soda Bay Road\, Kelseyville\, CA\, 95453\, United States
CATEGORIES:Event
ATTACH;FMTTYPE=image/png:https://www.discoverlakeportca.com/wp-content/uploads/2024/12/StoryWalk.png
END:VEVENT
BEGIN:VEVENT
DTSTART;TZID=America/Los_Angeles:20250913T110000
DTEND;TZID=America/Los_Angeles:20250913T140000
DTSTAMP:20260421T163626
CREATED:20250310T213723Z
LAST-MODIFIED:20250310T213723Z
UID:10004594-1757761200-1757772000@www.discoverlakeportca.com
SUMMARY:StoryWalk at Clear Lake State Park
DESCRIPTION:On the second Saturday of each month\, we will have a “Featured Story” along with a craft led by a State Park Employee!  Tell them at the gate you are there for StoryWalk and parking is free!
URL:https://www.discoverlakeportca.com/event/storywalk-at-clear-lake-state-park/2025-09-13/
LOCATION:Clear Lake State Park\, 5300 Soda Bay Road\, Kelseyville\, CA\, 95453\, United States
CATEGORIES:Event
ATTACH;FMTTYPE=image/png:https://www.discoverlakeportca.com/wp-content/uploads/2024/12/StoryWalk.png
END:VEVENT
BEGIN:VEVENT
DTSTART;TZID=America/Los_Angeles:20250809T110000
DTEND;TZID=America/Los_Angeles:20250809T140000
DTSTAMP:20260421T163626
CREATED:20250310T213723Z
LAST-MODIFIED:20250310T213723Z
UID:10004593-1754737200-1754748000@www.discoverlakeportca.com
SUMMARY:StoryWalk at Clear Lake State Park
DESCRIPTION:On the second Saturday of each month\, we will have a “Featured Story” along with a craft led by a State Park Employee!  Tell them at the gate you are there for StoryWalk and parking is free!
URL:https://www.discoverlakeportca.com/event/storywalk-at-clear-lake-state-park/2025-08-09/
LOCATION:Clear Lake State Park\, 5300 Soda Bay Road\, Kelseyville\, CA\, 95453\, United States
CATEGORIES:Event
ATTACH;FMTTYPE=image/png:https://www.discoverlakeportca.com/wp-content/uploads/2024/12/StoryWalk.png
END:VEVENT
BEGIN:VEVENT
DTSTART;TZID=America/Los_Angeles:20250712T110000
DTEND;TZID=America/Los_Angeles:20250712T140000
DTSTAMP:20260421T163626
CREATED:20250310T213723Z
LAST-MODIFIED:20250310T213723Z
UID:10004592-1752318000-1752328800@www.discoverlakeportca.com
SUMMARY:StoryWalk at Clear Lake State Park
DESCRIPTION:On the second Saturday of each month\, we will have a “Featured Story” along with a craft led by a State Park Employee!  Tell them at the gate you are there for StoryWalk and parking is free!
URL:https://www.discoverlakeportca.com/event/storywalk-at-clear-lake-state-park/2025-07-12/
LOCATION:Clear Lake State Park\, 5300 Soda Bay Road\, Kelseyville\, CA\, 95453\, United States
CATEGORIES:Event
ATTACH;FMTTYPE=image/png:https://www.discoverlakeportca.com/wp-content/uploads/2024/12/StoryWalk.png
END:VEVENT
BEGIN:VEVENT
DTSTART;TZID=America/Los_Angeles:20250614T110000
DTEND;TZID=America/Los_Angeles:20250614T140000
DTSTAMP:20260421T163626
CREATED:20250310T213723Z
LAST-MODIFIED:20250310T213723Z
UID:10004591-1749898800-1749909600@www.discoverlakeportca.com
SUMMARY:StoryWalk at Clear Lake State Park
DESCRIPTION:On the second Saturday of each month\, we will have a “Featured Story” along with a craft led by a State Park Employee!  Tell them at the gate you are there for StoryWalk and parking is free!
URL:https://www.discoverlakeportca.com/event/storywalk-at-clear-lake-state-park/2025-06-14/
LOCATION:Clear Lake State Park\, 5300 Soda Bay Road\, Kelseyville\, CA\, 95453\, United States
CATEGORIES:Event
ATTACH;FMTTYPE=image/png:https://www.discoverlakeportca.com/wp-content/uploads/2024/12/StoryWalk.png
END:VEVENT
BEGIN:VEVENT
DTSTART;TZID=America/Los_Angeles:20250510T110000
DTEND;TZID=America/Los_Angeles:20250510T140000
DTSTAMP:20260421T163626
CREATED:20250310T213723Z
LAST-MODIFIED:20250310T213723Z
UID:10004590-1746874800-1746885600@www.discoverlakeportca.com
SUMMARY:StoryWalk at Clear Lake State Park
DESCRIPTION:On the second Saturday of each month\, we will have a “Featured Story” along with a craft led by a State Park Employee!  Tell them at the gate you are there for StoryWalk and parking is free!
URL:https://www.discoverlakeportca.com/event/storywalk-at-clear-lake-state-park/2025-05-10/
LOCATION:Clear Lake State Park\, 5300 Soda Bay Road\, Kelseyville\, CA\, 95453\, United States
CATEGORIES:Event
ATTACH;FMTTYPE=image/png:https://www.discoverlakeportca.com/wp-content/uploads/2024/12/StoryWalk.png
END:VEVENT
BEGIN:VEVENT
DTSTART;TZID=America/Los_Angeles:20250412T110000
DTEND;TZID=America/Los_Angeles:20250412T140000
DTSTAMP:20260421T163626
CREATED:20250310T213723Z
LAST-MODIFIED:20250310T213723Z
UID:10004589-1744455600-1744466400@www.discoverlakeportca.com
SUMMARY:StoryWalk at Clear Lake State Park
DESCRIPTION:On the second Saturday of each month\, we will have a “Featured Story” along with a craft led by a State Park Employee!  Tell them at the gate you are there for StoryWalk and parking is free!
URL:https://www.discoverlakeportca.com/event/storywalk-at-clear-lake-state-park/2025-04-12/
LOCATION:Clear Lake State Park\, 5300 Soda Bay Road\, Kelseyville\, CA\, 95453\, United States
CATEGORIES:Event
ATTACH;FMTTYPE=image/png:https://www.discoverlakeportca.com/wp-content/uploads/2024/12/StoryWalk.png
END:VEVENT
END:VCALENDAR