BEGIN:VCALENDAR
VERSION:2.0
PRODID:-//Discover Lakeport CA - ECPv6.15.20//NONSGML v1.0//EN
CALSCALE:GREGORIAN
METHOD:PUBLISH
X-WR-CALNAME:Discover Lakeport CA
X-ORIGINAL-URL:https://www.discoverlakeportca.com
X-WR-CALDESC:Events for Discover Lakeport CA
REFRESH-INTERVAL;VALUE=DURATION:PT1H
X-Robots-Tag:noindex
X-PUBLISHED-TTL:PT1H
BEGIN:VTIMEZONE
TZID:America/Los_Angeles
BEGIN:DAYLIGHT
TZOFFSETFROM:-0800
TZOFFSETTO:-0700
TZNAME:PDT
DTSTART:20230312T100000
END:DAYLIGHT
BEGIN:STANDARD
TZOFFSETFROM:-0700
TZOFFSETTO:-0800
TZNAME:PST
DTSTART:20231105T090000
END:STANDARD
BEGIN:DAYLIGHT
TZOFFSETFROM:-0800
TZOFFSETTO:-0700
TZNAME:PDT
DTSTART:20240310T100000
END:DAYLIGHT
BEGIN:STANDARD
TZOFFSETFROM:-0700
TZOFFSETTO:-0800
TZNAME:PST
DTSTART:20241103T090000
END:STANDARD
BEGIN:DAYLIGHT
TZOFFSETFROM:-0800
TZOFFSETTO:-0700
TZNAME:PDT
DTSTART:20250309T100000
END:DAYLIGHT
BEGIN:STANDARD
TZOFFSETFROM:-0700
TZOFFSETTO:-0800
TZNAME:PST
DTSTART:20251102T090000
END:STANDARD
BEGIN:DAYLIGHT
TZOFFSETFROM:-0800
TZOFFSETTO:-0700
TZNAME:PDT
DTSTART:20260308T100000
END:DAYLIGHT
BEGIN:STANDARD
TZOFFSETFROM:-0700
TZOFFSETTO:-0800
TZNAME:PST
DTSTART:20261101T090000
END:STANDARD
END:VTIMEZONE
BEGIN:VEVENT
DTSTART;TZID=America/Los_Angeles:20251231T190000
DTEND;TZID=America/Los_Angeles:20251231T220000
DTSTAMP:20260421T211114
CREATED:20251105T173206Z
LAST-MODIFIED:20251105T173206Z
UID:10007045-1767207600-1767218400@www.discoverlakeportca.com
SUMMARY:Dave Broida's Blues Band at Clear Lake Grange
DESCRIPTION:Everyone is welcome!  $5 Members\, $10 Non Members \nPotluck & Music Social \n6:30 to 9:30 pm
URL:https://www.discoverlakeportca.com/event/dave-broidas-blues-band-at-clear-lake-grange/
LOCATION:Big Valley Grange\, 1510 Big Valley Road\, Lakeport\, CA\, 95453\, United States
CATEGORIES:Music
ATTACH;FMTTYPE=image/jpeg:https://www.discoverlakeportca.com/wp-content/uploads/2025/11/fb_img_17622657542293087092814519069499.jpg
END:VEVENT
BEGIN:VEVENT
DTSTART;TZID=America/Los_Angeles:20251218T183000
DTEND;TZID=America/Los_Angeles:20251218T213000
DTSTAMP:20260421T211114
CREATED:20251105T172637Z
LAST-MODIFIED:20251105T172726Z
UID:10007043-1766082600-1766093400@www.discoverlakeportca.com
SUMMARY:Fargo Brothers at the Clear Lake Grange
DESCRIPTION:Everyone is welcome!  $5 Members\, $10 Non Members \nPotluck & Music Social \n6:30 to 9:30 pm
URL:https://www.discoverlakeportca.com/event/fargo-brothers-at-the-clear-lake-grange/
LOCATION:Big Valley Grange\, 1510 Big Valley Road\, Lakeport\, CA\, 95453\, United States
CATEGORIES:Music
ATTACH;FMTTYPE=image/jpeg:https://www.discoverlakeportca.com/wp-content/uploads/2025/11/fb_img_17622657542293087092814519069499.jpg
END:VEVENT
BEGIN:VEVENT
DTSTART;TZID=America/Los_Angeles:20251118T183000
DTEND;TZID=America/Los_Angeles:20251118T213000
DTSTAMP:20260421T211114
CREATED:20251105T173048Z
LAST-MODIFIED:20251105T173048Z
UID:10007044-1763490600-1763501400@www.discoverlakeportca.com
SUMMARY:Audio Soul at the Clear Lake Grange
DESCRIPTION:Everyone is welcome!  $5 Members\, $10 Non Members \nPotluck & Music Social \n6:30 to 9:30 pm
URL:https://www.discoverlakeportca.com/event/audio-soul-at-the-clear-lake-grange/
LOCATION:Big Valley Grange\, 1510 Big Valley Road\, Lakeport\, CA\, 95453\, United States
CATEGORIES:Music
ATTACH;FMTTYPE=image/jpeg:https://www.discoverlakeportca.com/wp-content/uploads/2025/11/fb_img_17622657542293087092814519069499.jpg
END:VEVENT
BEGIN:VEVENT
DTSTART;TZID=America/Los_Angeles:20251108T100000
DTEND;TZID=America/Los_Angeles:20251108T150000
DTSTAMP:20260421T211114
CREATED:20250918T164437Z
LAST-MODIFIED:20250918T164437Z
UID:10006873-1762596000-1762614000@www.discoverlakeportca.com
SUMMARY:Annual Crafters Fair
DESCRIPTION:Huge bake sale…house made muffins\, chile\, minestrone soup\, and garlic bread for lunch and more than 20 local artists and crafters sharing everything from tea towels\, leather goods\, wood crafts\, an amazing collection of hand knit alpaca sweaters\, etc etc !! 
URL:https://www.discoverlakeportca.com/event/annual-crafters-fair/
LOCATION:Big Valley Grange\, 1510 Big Valley Road\, Lakeport\, CA\, 95453\, United States
CATEGORIES:Christmas,Event
ATTACH;FMTTYPE=image/png:https://www.discoverlakeportca.com/wp-content/uploads/2025/09/screenshot_20250918-0729598902722653534284063.jpg
END:VEVENT
BEGIN:VEVENT
DTSTART;TZID=America/Los_Angeles:20251031T190000
DTEND;TZID=America/Los_Angeles:20251031T220000
DTSTAMP:20260421T211115
CREATED:20251002T213858Z
LAST-MODIFIED:20251002T213858Z
UID:10006921-1761937200-1761948000@www.discoverlakeportca.com
SUMMARY:Halloween Party at Finley Grange
DESCRIPTION:Halloween Night 7-10 pm\nLC Diamonds\nPotluck & BYOB\nCostume Contest
URL:https://www.discoverlakeportca.com/event/halloween-party-at-finley-grange/
LOCATION:Big Valley Grange\, 1510 Big Valley Road\, Lakeport\, CA\, 95453\, United States
CATEGORIES:Event,Halloween
ATTACH;FMTTYPE=image/jpeg:https://www.discoverlakeportca.com/wp-content/uploads/2025/10/fb_img_17593618404224384344592987067705.jpg
END:VEVENT
BEGIN:VEVENT
DTSTART;TZID=America/Los_Angeles:20251031T190000
DTEND;TZID=America/Los_Angeles:20251031T220000
DTSTAMP:20260421T211115
CREATED:20250916T212621Z
LAST-MODIFIED:20250916T212621Z
UID:10006870-1761937200-1761948000@www.discoverlakeportca.com
SUMMARY:Halloween Party at the Clearlake Grange
DESCRIPTION:Halloween Party\, LC Diamonds Band\, Pot Luck Social\, Best Costume Dance
URL:https://www.discoverlakeportca.com/event/halloween-party-at-the-clearlake-grange/
LOCATION:Big Valley Grange\, 1510 Big Valley Road\, Lakeport\, CA\, 95453\, United States
CATEGORIES:Event,Halloween,Music
END:VEVENT
BEGIN:VEVENT
DTSTART;TZID=America/Los_Angeles:20251030T173000
DTEND;TZID=America/Los_Angeles:20251030T183000
DTSTAMP:20260421T211115
CREATED:20250918T164135Z
LAST-MODIFIED:20250925T181219Z
UID:10006886-1761845400-1761849000@www.discoverlakeportca.com
SUMMARY:Zumba With Melissa!
DESCRIPTION:Zumba!! We’ve got you back and your beat \nCome join us tonight at\, The Grange in Finley\, at 5:30pm.
URL:https://www.discoverlakeportca.com/event/zumba-with-melissa/2025-10-30/
LOCATION:Big Valley Grange\, 1510 Big Valley Road\, Lakeport\, CA\, 95453\, United States
CATEGORIES:Class,Exercise
ATTACH;FMTTYPE=image/png:https://www.discoverlakeportca.com/wp-content/uploads/2025/09/screenshot_20250918-063656674441155974067528.jpg
END:VEVENT
BEGIN:VEVENT
DTSTART;TZID=America/Los_Angeles:20251028T173000
DTEND;TZID=America/Los_Angeles:20251028T183000
DTSTAMP:20260421T211115
CREATED:20250918T164135Z
LAST-MODIFIED:20250925T181219Z
UID:10006885-1761672600-1761676200@www.discoverlakeportca.com
SUMMARY:Zumba With Melissa!
DESCRIPTION:Zumba!! We’ve got you back and your beat \nCome join us tonight at\, The Grange in Finley\, at 5:30pm.
URL:https://www.discoverlakeportca.com/event/zumba-with-melissa/2025-10-28/
LOCATION:Big Valley Grange\, 1510 Big Valley Road\, Lakeport\, CA\, 95453\, United States
CATEGORIES:Class,Exercise
ATTACH;FMTTYPE=image/png:https://www.discoverlakeportca.com/wp-content/uploads/2025/09/screenshot_20250918-063656674441155974067528.jpg
END:VEVENT
BEGIN:VEVENT
DTSTART;TZID=America/Los_Angeles:20251023T173000
DTEND;TZID=America/Los_Angeles:20251023T183000
DTSTAMP:20260421T211115
CREATED:20250918T164135Z
LAST-MODIFIED:20250925T181219Z
UID:10006884-1761240600-1761244200@www.discoverlakeportca.com
SUMMARY:Zumba With Melissa!
DESCRIPTION:Zumba!! We’ve got you back and your beat \nCome join us tonight at\, The Grange in Finley\, at 5:30pm.
URL:https://www.discoverlakeportca.com/event/zumba-with-melissa/2025-10-23/
LOCATION:Big Valley Grange\, 1510 Big Valley Road\, Lakeport\, CA\, 95453\, United States
CATEGORIES:Class,Exercise
ATTACH;FMTTYPE=image/png:https://www.discoverlakeportca.com/wp-content/uploads/2025/09/screenshot_20250918-063656674441155974067528.jpg
END:VEVENT
BEGIN:VEVENT
DTSTART;TZID=America/Los_Angeles:20251021T180000
DTEND;TZID=America/Los_Angeles:20251021T210000
DTSTAMP:20260421T211115
CREATED:20251015T163611Z
LAST-MODIFIED:20251015T163611Z
UID:10006932-1761069600-1761080400@www.discoverlakeportca.com
SUMMARY:Those Guys at the Clearlake Grange in Finley
DESCRIPTION:Tuesday Oct 21at The Grange\, Those Guys. This two men will really  impress you with their musical diversity . \nPot Luck as usual\,  BYO TOO! \n6pm till 9ish.. \nBring a friend..
URL:https://www.discoverlakeportca.com/event/those-guys-at-the-clearlake-grange-in-finley/
LOCATION:Big Valley Grange\, 1510 Big Valley Road\, Lakeport\, CA\, 95453\, United States
CATEGORIES:Event,Music
ATTACH;FMTTYPE=image/jpeg:https://www.discoverlakeportca.com/wp-content/uploads/2025/10/fb_img_1760447740565876152727477774782.jpg
END:VEVENT
BEGIN:VEVENT
DTSTART;TZID=America/Los_Angeles:20251021T180000
DTEND;TZID=America/Los_Angeles:20251021T210000
DTSTAMP:20260421T211115
CREATED:20250916T212446Z
LAST-MODIFIED:20250916T212446Z
UID:10006869-1761069600-1761080400@www.discoverlakeportca.com
SUMMARY:Those Guys Band at Clearlake Grange
DESCRIPTION:Those Guys Band\, Accoustic Rock and more.  Pot Luck monthly social event.
URL:https://www.discoverlakeportca.com/event/those-guys-band-at-clearlake-grange/
LOCATION:Big Valley Grange\, 1510 Big Valley Road\, Lakeport\, CA\, 95453\, United States
CATEGORIES:Event,Music
END:VEVENT
BEGIN:VEVENT
DTSTART;TZID=America/Los_Angeles:20251020T173000
DTEND;TZID=America/Los_Angeles:20251020T183000
DTSTAMP:20260421T211115
CREATED:20250918T164135Z
LAST-MODIFIED:20250925T181219Z
UID:10006883-1760981400-1760985000@www.discoverlakeportca.com
SUMMARY:Zumba With Melissa!
DESCRIPTION:Zumba!! We’ve got you back and your beat \nCome join us tonight at\, The Grange in Finley\, at 5:30pm.
URL:https://www.discoverlakeportca.com/event/zumba-with-melissa/2025-10-20/
LOCATION:Big Valley Grange\, 1510 Big Valley Road\, Lakeport\, CA\, 95453\, United States
CATEGORIES:Class,Exercise
ATTACH;FMTTYPE=image/png:https://www.discoverlakeportca.com/wp-content/uploads/2025/09/screenshot_20250918-063656674441155974067528.jpg
END:VEVENT
BEGIN:VEVENT
DTSTART;TZID=America/Los_Angeles:20251016T173000
DTEND;TZID=America/Los_Angeles:20251016T183000
DTSTAMP:20260421T211115
CREATED:20250918T164135Z
LAST-MODIFIED:20250925T181219Z
UID:10006882-1760635800-1760639400@www.discoverlakeportca.com
SUMMARY:Zumba With Melissa!
DESCRIPTION:Zumba!! We’ve got you back and your beat \nCome join us tonight at\, The Grange in Finley\, at 5:30pm.
URL:https://www.discoverlakeportca.com/event/zumba-with-melissa/2025-10-16/
LOCATION:Big Valley Grange\, 1510 Big Valley Road\, Lakeport\, CA\, 95453\, United States
CATEGORIES:Class,Exercise
ATTACH;FMTTYPE=image/png:https://www.discoverlakeportca.com/wp-content/uploads/2025/09/screenshot_20250918-063656674441155974067528.jpg
END:VEVENT
BEGIN:VEVENT
DTSTART;TZID=America/Los_Angeles:20251013T173000
DTEND;TZID=America/Los_Angeles:20251013T183000
DTSTAMP:20260421T211115
CREATED:20250918T164135Z
LAST-MODIFIED:20250925T181219Z
UID:10006881-1760376600-1760380200@www.discoverlakeportca.com
SUMMARY:Zumba With Melissa!
DESCRIPTION:Zumba!! We’ve got you back and your beat \nCome join us tonight at\, The Grange in Finley\, at 5:30pm.
URL:https://www.discoverlakeportca.com/event/zumba-with-melissa/2025-10-13/
LOCATION:Big Valley Grange\, 1510 Big Valley Road\, Lakeport\, CA\, 95453\, United States
CATEGORIES:Class,Exercise
ATTACH;FMTTYPE=image/png:https://www.discoverlakeportca.com/wp-content/uploads/2025/09/screenshot_20250918-063656674441155974067528.jpg
END:VEVENT
BEGIN:VEVENT
DTSTART;TZID=America/Los_Angeles:20251012T100000
DTEND;TZID=America/Los_Angeles:20251012T190000
DTSTAMP:20260421T211115
CREATED:20250904T202922Z
LAST-MODIFIED:20250904T202922Z
UID:10006843-1760263200-1760295600@www.discoverlakeportca.com
SUMMARY:Fall Harvest Festival
DESCRIPTION:Join us for music\, local craft vendors\, food & Drinks\, Plant Sale\, Raffle\, Prizes! \nHip replacements 11-12:30pm\nRoadhouse 1:00 – 2:00 pm\nRed’s Blues 3:00 – 4:00 pm\nWendy DeWitt Awesome Trio 5-6:30 pm \n$20 Per Person Donation at the door to support needed improvements for the Grange.
URL:https://www.discoverlakeportca.com/event/fall-harvest-festival/
LOCATION:Big Valley Grange\, 1510 Big Valley Road\, Lakeport\, CA\, 95453\, United States
CATEGORIES:Festival
ATTACH;FMTTYPE=image/jpeg:https://www.discoverlakeportca.com/wp-content/uploads/2025/09/fb_img_17569097693697062902769926760047.jpg
END:VEVENT
BEGIN:VEVENT
DTSTART;TZID=America/Los_Angeles:20251009T173000
DTEND;TZID=America/Los_Angeles:20251009T183000
DTSTAMP:20260421T211115
CREATED:20250918T164135Z
LAST-MODIFIED:20250925T181219Z
UID:10006880-1760031000-1760034600@www.discoverlakeportca.com
SUMMARY:Zumba With Melissa!
DESCRIPTION:Zumba!! We’ve got you back and your beat \nCome join us tonight at\, The Grange in Finley\, at 5:30pm.
URL:https://www.discoverlakeportca.com/event/zumba-with-melissa/2025-10-09/
LOCATION:Big Valley Grange\, 1510 Big Valley Road\, Lakeport\, CA\, 95453\, United States
CATEGORIES:Class,Exercise
ATTACH;FMTTYPE=image/png:https://www.discoverlakeportca.com/wp-content/uploads/2025/09/screenshot_20250918-063656674441155974067528.jpg
END:VEVENT
BEGIN:VEVENT
DTSTART;TZID=America/Los_Angeles:20251007T173000
DTEND;TZID=America/Los_Angeles:20251007T183000
DTSTAMP:20260421T211115
CREATED:20250918T164135Z
LAST-MODIFIED:20250925T181219Z
UID:10006879-1759858200-1759861800@www.discoverlakeportca.com
SUMMARY:Zumba With Melissa!
DESCRIPTION:Zumba!! We’ve got you back and your beat \nCome join us tonight at\, The Grange in Finley\, at 5:30pm.
URL:https://www.discoverlakeportca.com/event/zumba-with-melissa/2025-10-07/
LOCATION:Big Valley Grange\, 1510 Big Valley Road\, Lakeport\, CA\, 95453\, United States
CATEGORIES:Class,Exercise
ATTACH;FMTTYPE=image/png:https://www.discoverlakeportca.com/wp-content/uploads/2025/09/screenshot_20250918-063656674441155974067528.jpg
END:VEVENT
BEGIN:VEVENT
DTSTART;TZID=America/Los_Angeles:20251002T173000
DTEND;TZID=America/Los_Angeles:20251002T183000
DTSTAMP:20260421T211115
CREATED:20250918T164135Z
LAST-MODIFIED:20250925T181219Z
UID:10006872-1759426200-1759429800@www.discoverlakeportca.com
SUMMARY:Zumba With Melissa!
DESCRIPTION:Zumba!! We’ve got you back and your beat \nCome join us tonight at\, The Grange in Finley\, at 5:30pm.
URL:https://www.discoverlakeportca.com/event/zumba-with-melissa/2025-10-02/
LOCATION:Big Valley Grange\, 1510 Big Valley Road\, Lakeport\, CA\, 95453\, United States
CATEGORIES:Class,Exercise
ATTACH;FMTTYPE=image/png:https://www.discoverlakeportca.com/wp-content/uploads/2025/09/screenshot_20250918-063656674441155974067528.jpg
END:VEVENT
BEGIN:VEVENT
DTSTART;TZID=America/Los_Angeles:20250520T180000
DTEND;TZID=America/Los_Angeles:20250520T213000
DTSTAMP:20260421T211115
CREATED:20250310T203159Z
LAST-MODIFIED:20250310T203159Z
UID:10003598-1747764000-1747776600@www.discoverlakeportca.com
SUMMARY:Wendy Dewitt with Kirk Harwood & Friends at Big Valley Grange
DESCRIPTION:Every 3rd Tuesday of the month\, The Music Club hosts an evening of music\, dancing\, shared pot luck and offerings to delight!  Doors open at 6:00 pm and go to around 9:30 ish. \nServing up great tunes to get you moving!
URL:https://www.discoverlakeportca.com/event/wendy-dewitt-with-kirk-harwood-friends-at-big-valley-grange/
LOCATION:Big Valley Grange\, 1510 Big Valley Road\, Lakeport\, CA\, 95453\, United States
CATEGORIES:Music
ATTACH;FMTTYPE=image/jpeg:https://www.discoverlakeportca.com/wp-content/uploads/2025/03/FB_IMG_1741355499154.jpg
END:VEVENT
BEGIN:VEVENT
DTSTART;TZID=America/Los_Angeles:20250415T180000
DTEND;TZID=America/Los_Angeles:20250415T213000
DTSTAMP:20260421T211115
CREATED:20250310T202630Z
LAST-MODIFIED:20250310T202630Z
UID:10003596-1744740000-1744752600@www.discoverlakeportca.com
SUMMARY:Red's Blues at The Grange in Finley
DESCRIPTION:Sacramento Blues Scenes Veterans!  Beth Reid-Grigsby leads this traditional blues revue with Americana roots\, Dance music\, good time tunes you will enjoy!
URL:https://www.discoverlakeportca.com/event/reds-blues-at-the-grange-in-finley/
LOCATION:Big Valley Grange\, 1510 Big Valley Road\, Lakeport\, CA\, 95453\, United States
CATEGORIES:Music
ATTACH;FMTTYPE=image/jpeg:https://www.discoverlakeportca.com/wp-content/uploads/2025/03/FB_IMG_1741355499154.jpg
END:VEVENT
BEGIN:VEVENT
DTSTART;TZID=America/Los_Angeles:20250318T180000
DTEND;TZID=America/Los_Angeles:20250318T213000
DTSTAMP:20260421T211115
CREATED:20250310T202905Z
LAST-MODIFIED:20250310T202905Z
UID:10003597-1742320800-1742333400@www.discoverlakeportca.com
SUMMARY:Margo Fleming & Friends at the Grange in Finley
DESCRIPTION:Tis lady and her band are local favorites and has an unforgettable style with her take on popular hits! \nDancing\, shared pot luck and offerings to delight! \nDoors open at 6 pm and goes to around 9:30 ish.
URL:https://www.discoverlakeportca.com/event/margo-fleming-friends-at-the-grange-in-finley/
LOCATION:Big Valley Grange\, 1510 Big Valley Road\, Lakeport\, CA\, 95453\, United States
CATEGORIES:Music
ATTACH;FMTTYPE=image/jpeg:https://www.discoverlakeportca.com/wp-content/uploads/2025/03/FB_IMG_1741355499154.jpg
END:VEVENT
BEGIN:VEVENT
DTSTART;TZID=America/Los_Angeles:20241103T090000
DTEND;TZID=America/Los_Angeles:20241103T130000
DTSTAMP:20260421T211115
CREATED:20241022T002334Z
LAST-MODIFIED:20241022T002334Z
UID:10000008-1730624400-1730638800@www.discoverlakeportca.com
SUMMARY:Dirty Cello Benefit Concert
DESCRIPTION:Get ready for an unforgettable night of music as Dirty Cello takes the stage with their Blues\, Rock & American music at Big Valley Finley Grang Join us on Sunday\, Nov 3rd. at 5:00pm. .Tickets are $28.52 with Eventbrite\, $30 at the door. Children under 12 are free \nTickets:  https://www.eventbrite.com/e/dirty-cello-comes-to-lake-county-tickets-1038733087627?utm-campaign=social&utm-content=attendeeshare&utm-medium=discovery&utm-term=listing&utm-source=cp&aff=ebdsshcopyurl
URL:https://www.discoverlakeportca.com/event/dirty-cello-benefit-concert/
LOCATION:Big Valley Grange\, 1510 Big Valley Road\, Lakeport\, CA\, 95453\, United States
ATTACH;FMTTYPE=image/jpeg:https://www.discoverlakeportca.com/wp-content/uploads/2024/10/Dirty-Cello.jpg
END:VEVENT
END:VCALENDAR