BEGIN:VCALENDAR
VERSION:2.0
PRODID:-//Discover Lakeport CA - ECPv6.15.20//NONSGML v1.0//EN
CALSCALE:GREGORIAN
METHOD:PUBLISH
X-WR-CALNAME:Discover Lakeport CA
X-ORIGINAL-URL:https://www.discoverlakeportca.com
X-WR-CALDESC:Events for Discover Lakeport CA
REFRESH-INTERVAL;VALUE=DURATION:PT1H
X-Robots-Tag:noindex
X-PUBLISHED-TTL:PT1H
BEGIN:VTIMEZONE
TZID:America/Los_Angeles
BEGIN:DAYLIGHT
TZOFFSETFROM:-0800
TZOFFSETTO:-0700
TZNAME:PDT
DTSTART:20250309T100000
END:DAYLIGHT
BEGIN:STANDARD
TZOFFSETFROM:-0700
TZOFFSETTO:-0800
TZNAME:PST
DTSTART:20251102T090000
END:STANDARD
BEGIN:DAYLIGHT
TZOFFSETFROM:-0800
TZOFFSETTO:-0700
TZNAME:PDT
DTSTART:20260308T100000
END:DAYLIGHT
BEGIN:STANDARD
TZOFFSETFROM:-0700
TZOFFSETTO:-0800
TZNAME:PST
DTSTART:20261101T090000
END:STANDARD
BEGIN:DAYLIGHT
TZOFFSETFROM:-0800
TZOFFSETTO:-0700
TZNAME:PDT
DTSTART:20270314T100000
END:DAYLIGHT
BEGIN:STANDARD
TZOFFSETFROM:-0700
TZOFFSETTO:-0800
TZNAME:PST
DTSTART:20271107T090000
END:STANDARD
END:VTIMEZONE
BEGIN:VEVENT
DTSTART;TZID=America/Los_Angeles:20260529T190000
DTEND;TZID=America/Los_Angeles:20260529T210000
DTSTAMP:20260422T104150
CREATED:20260420T185721Z
LAST-MODIFIED:20260420T185721Z
UID:10007909-1780081200-1780088400@www.discoverlakeportca.com
SUMMARY:Lip Sync At The Movies
DESCRIPTION:Lake County’s Lip Sync At The Movies\nFriday\, May 29\, 2024 7:00 pm \nSaturday\, May 30\, 2024 7:00 pm \nSunday\, May 31\, 2024 2:00 pm \nTICKETS \nReserved Seating \n$15.00  – IN ADVANCE. \n$20.00  – AT THE DOOR \nAppropriate for all ages \nExperience the ultimate musical spectacle at the Lake County Theatre Company’s Lip Sync event.  Unleash your inner performer or cheer for your favorites as they bring iconic songs to life with flair and humor.  A night of laughter\, music\, and unforgettable moments awaits at this lively and entertaining showcase.
URL:https://www.discoverlakeportca.com/event/lip-sync-at-the-movies/2026-05-29/
LOCATION:Soper Reese Community Theater\, 275 S. Main Street\, Lakeport\, CA\, 95453\, United States
CATEGORIES:Event
ATTACH;FMTTYPE=image/png:https://www.discoverlakeportca.com/wp-content/uploads/2026/04/screenshot_20260419-0832173907101135378827042.jpg
END:VEVENT
BEGIN:VEVENT
DTSTART;TZID=America/Los_Angeles:20260530T190000
DTEND;TZID=America/Los_Angeles:20260530T210000
DTSTAMP:20260422T104150
CREATED:20260420T185721Z
LAST-MODIFIED:20260420T185721Z
UID:10007910-1780167600-1780174800@www.discoverlakeportca.com
SUMMARY:Lip Sync At The Movies
DESCRIPTION:Lake County’s Lip Sync At The Movies\nFriday\, May 29\, 2024 7:00 pm \nSaturday\, May 30\, 2024 7:00 pm \nSunday\, May 31\, 2024 2:00 pm \nTICKETS \nReserved Seating \n$15.00  – IN ADVANCE. \n$20.00  – AT THE DOOR \nAppropriate for all ages \nExperience the ultimate musical spectacle at the Lake County Theatre Company’s Lip Sync event.  Unleash your inner performer or cheer for your favorites as they bring iconic songs to life with flair and humor.  A night of laughter\, music\, and unforgettable moments awaits at this lively and entertaining showcase.
URL:https://www.discoverlakeportca.com/event/lip-sync-at-the-movies/2026-05-30/
LOCATION:Soper Reese Community Theater\, 275 S. Main Street\, Lakeport\, CA\, 95453\, United States
CATEGORIES:Event
ATTACH;FMTTYPE=image/png:https://www.discoverlakeportca.com/wp-content/uploads/2026/04/screenshot_20260419-0832173907101135378827042.jpg
END:VEVENT
BEGIN:VEVENT
DTSTART;TZID=America/Los_Angeles:20260531T140000
DTEND;TZID=America/Los_Angeles:20260531T160000
DTSTAMP:20260422T104150
CREATED:20260420T185721Z
LAST-MODIFIED:20260420T185721Z
UID:10007911-1780236000-1780243200@www.discoverlakeportca.com
SUMMARY:Lip Sync At The Movies
DESCRIPTION:Lake County’s Lip Sync At The Movies\nFriday\, May 29\, 2024 7:00 pm \nSaturday\, May 30\, 2024 7:00 pm \nSunday\, May 31\, 2024 2:00 pm \nTICKETS \nReserved Seating \n$15.00  – IN ADVANCE. \n$20.00  – AT THE DOOR \nAppropriate for all ages \nExperience the ultimate musical spectacle at the Lake County Theatre Company’s Lip Sync event.  Unleash your inner performer or cheer for your favorites as they bring iconic songs to life with flair and humor.  A night of laughter\, music\, and unforgettable moments awaits at this lively and entertaining showcase.
URL:https://www.discoverlakeportca.com/event/lip-sync-at-the-movies/2026-05-31/
LOCATION:Soper Reese Community Theater\, 275 S. Main Street\, Lakeport\, CA\, 95453\, United States
CATEGORIES:Event
ATTACH;FMTTYPE=image/png:https://www.discoverlakeportca.com/wp-content/uploads/2026/04/screenshot_20260419-0832173907101135378827042.jpg
END:VEVENT
END:VCALENDAR