BEGIN:VCALENDAR
VERSION:2.0
PRODID:-//Discover Lakeport CA - ECPv6.15.20//NONSGML v1.0//EN
CALSCALE:GREGORIAN
METHOD:PUBLISH
X-WR-CALNAME:Discover Lakeport CA
X-ORIGINAL-URL:https://www.discoverlakeportca.com
X-WR-CALDESC:Events for Discover Lakeport CA
REFRESH-INTERVAL;VALUE=DURATION:PT1H
X-Robots-Tag:noindex
X-PUBLISHED-TTL:PT1H
BEGIN:VTIMEZONE
TZID:America/Los_Angeles
BEGIN:DAYLIGHT
TZOFFSETFROM:-0800
TZOFFSETTO:-0700
TZNAME:PDT
DTSTART:20250309T100000
END:DAYLIGHT
BEGIN:STANDARD
TZOFFSETFROM:-0700
TZOFFSETTO:-0800
TZNAME:PST
DTSTART:20251102T090000
END:STANDARD
BEGIN:DAYLIGHT
TZOFFSETFROM:-0800
TZOFFSETTO:-0700
TZNAME:PDT
DTSTART:20260308T100000
END:DAYLIGHT
BEGIN:STANDARD
TZOFFSETFROM:-0700
TZOFFSETTO:-0800
TZNAME:PST
DTSTART:20261101T090000
END:STANDARD
BEGIN:DAYLIGHT
TZOFFSETFROM:-0800
TZOFFSETTO:-0700
TZNAME:PDT
DTSTART:20270314T100000
END:DAYLIGHT
BEGIN:STANDARD
TZOFFSETFROM:-0700
TZOFFSETTO:-0800
TZNAME:PST
DTSTART:20271107T090000
END:STANDARD
END:VTIMEZONE
BEGIN:VEVENT
DTSTART;TZID=America/Los_Angeles:20260422T110000
DTEND;TZID=America/Los_Angeles:20260422T150000
DTSTAMP:20260421T041018
CREATED:20250310T230837Z
LAST-MODIFIED:20250310T230837Z
UID:10004698-1776855600-1776870000@www.discoverlakeportca.com
SUMMARY:Blood Drive at United Christian Parish
DESCRIPTION:Give the Gift of Life: Join Us for a Blood Drive! \nYour donation can save lives! Join us at United Christian Parish for a community blood drive. Every pint of blood donated has the power to make a difference for patients in need—whether it’s for surgeries\, accidents\, or life-threatening conditions. \n✅ What to Expect: \n\nQuick and easy donation process.\nFriendly\, professional staff to guide you.\nRefreshments and snacks to enjoy afterward.\nA rewarding opportunity to give back to your community.\n\n📌 How to Prepare: \n\nDrink plenty of water and eat a healthy meal before donating.\nBring a valid photo ID.\nMake an appointment using the link below.\n\n💖 Every donor makes a difference! Whether you’re a first-time donor or a regular\, your contribution matters. Together\, we can save lives and make our community stronger. \n📞 Schedule Your Appointment: Visit Vitalant to reserve your spot today! Walk-ins are also welcome. \nLet’s come together and make an impact—one donation at a time. See you there!
URL:https://www.discoverlakeportca.com/event/blood-drive-at-united-christian-parish/2026-04-22/
LOCATION:United Christian Parish Lakeport\, 745 N. Brush Street\, Lakeport\, CA\, 95453\, United States
CATEGORIES:Event
ATTACH;FMTTYPE=image/png:https://www.discoverlakeportca.com/wp-content/uploads/2025/01/Red-White-Illustrative-Blood-Drive-Instagram-Post.png
END:VEVENT
BEGIN:VEVENT
DTSTART;TZID=America/Los_Angeles:20260527T110000
DTEND;TZID=America/Los_Angeles:20260527T150000
DTSTAMP:20260421T041018
CREATED:20250310T230837Z
LAST-MODIFIED:20250310T230837Z
UID:10004699-1779879600-1779894000@www.discoverlakeportca.com
SUMMARY:Blood Drive at United Christian Parish
DESCRIPTION:Give the Gift of Life: Join Us for a Blood Drive! \nYour donation can save lives! Join us at United Christian Parish for a community blood drive. Every pint of blood donated has the power to make a difference for patients in need—whether it’s for surgeries\, accidents\, or life-threatening conditions. \n✅ What to Expect: \n\nQuick and easy donation process.\nFriendly\, professional staff to guide you.\nRefreshments and snacks to enjoy afterward.\nA rewarding opportunity to give back to your community.\n\n📌 How to Prepare: \n\nDrink plenty of water and eat a healthy meal before donating.\nBring a valid photo ID.\nMake an appointment using the link below.\n\n💖 Every donor makes a difference! Whether you’re a first-time donor or a regular\, your contribution matters. Together\, we can save lives and make our community stronger. \n📞 Schedule Your Appointment: Visit Vitalant to reserve your spot today! Walk-ins are also welcome. \nLet’s come together and make an impact—one donation at a time. See you there!
URL:https://www.discoverlakeportca.com/event/blood-drive-at-united-christian-parish/2026-05-27/
LOCATION:United Christian Parish Lakeport\, 745 N. Brush Street\, Lakeport\, CA\, 95453\, United States
CATEGORIES:Event
ATTACH;FMTTYPE=image/png:https://www.discoverlakeportca.com/wp-content/uploads/2025/01/Red-White-Illustrative-Blood-Drive-Instagram-Post.png
END:VEVENT
BEGIN:VEVENT
DTSTART;TZID=America/Los_Angeles:20260624T110000
DTEND;TZID=America/Los_Angeles:20260624T150000
DTSTAMP:20260421T041018
CREATED:20250310T230837Z
LAST-MODIFIED:20250310T230837Z
UID:10004700-1782298800-1782313200@www.discoverlakeportca.com
SUMMARY:Blood Drive at United Christian Parish
DESCRIPTION:Give the Gift of Life: Join Us for a Blood Drive! \nYour donation can save lives! Join us at United Christian Parish for a community blood drive. Every pint of blood donated has the power to make a difference for patients in need—whether it’s for surgeries\, accidents\, or life-threatening conditions. \n✅ What to Expect: \n\nQuick and easy donation process.\nFriendly\, professional staff to guide you.\nRefreshments and snacks to enjoy afterward.\nA rewarding opportunity to give back to your community.\n\n📌 How to Prepare: \n\nDrink plenty of water and eat a healthy meal before donating.\nBring a valid photo ID.\nMake an appointment using the link below.\n\n💖 Every donor makes a difference! Whether you’re a first-time donor or a regular\, your contribution matters. Together\, we can save lives and make our community stronger. \n📞 Schedule Your Appointment: Visit Vitalant to reserve your spot today! Walk-ins are also welcome. \nLet’s come together and make an impact—one donation at a time. See you there!
URL:https://www.discoverlakeportca.com/event/blood-drive-at-united-christian-parish/2026-06-24/
LOCATION:United Christian Parish Lakeport\, 745 N. Brush Street\, Lakeport\, CA\, 95453\, United States
CATEGORIES:Event
ATTACH;FMTTYPE=image/png:https://www.discoverlakeportca.com/wp-content/uploads/2025/01/Red-White-Illustrative-Blood-Drive-Instagram-Post.png
END:VEVENT
BEGIN:VEVENT
DTSTART;TZID=America/Los_Angeles:20260722T110000
DTEND;TZID=America/Los_Angeles:20260722T150000
DTSTAMP:20260421T041018
CREATED:20250310T230837Z
LAST-MODIFIED:20250310T230837Z
UID:10004701-1784718000-1784732400@www.discoverlakeportca.com
SUMMARY:Blood Drive at United Christian Parish
DESCRIPTION:Give the Gift of Life: Join Us for a Blood Drive! \nYour donation can save lives! Join us at United Christian Parish for a community blood drive. Every pint of blood donated has the power to make a difference for patients in need—whether it’s for surgeries\, accidents\, or life-threatening conditions. \n✅ What to Expect: \n\nQuick and easy donation process.\nFriendly\, professional staff to guide you.\nRefreshments and snacks to enjoy afterward.\nA rewarding opportunity to give back to your community.\n\n📌 How to Prepare: \n\nDrink plenty of water and eat a healthy meal before donating.\nBring a valid photo ID.\nMake an appointment using the link below.\n\n💖 Every donor makes a difference! Whether you’re a first-time donor or a regular\, your contribution matters. Together\, we can save lives and make our community stronger. \n📞 Schedule Your Appointment: Visit Vitalant to reserve your spot today! Walk-ins are also welcome. \nLet’s come together and make an impact—one donation at a time. See you there!
URL:https://www.discoverlakeportca.com/event/blood-drive-at-united-christian-parish/2026-07-22/
LOCATION:United Christian Parish Lakeport\, 745 N. Brush Street\, Lakeport\, CA\, 95453\, United States
CATEGORIES:Event
ATTACH;FMTTYPE=image/png:https://www.discoverlakeportca.com/wp-content/uploads/2025/01/Red-White-Illustrative-Blood-Drive-Instagram-Post.png
END:VEVENT
BEGIN:VEVENT
DTSTART;TZID=America/Los_Angeles:20260826T110000
DTEND;TZID=America/Los_Angeles:20260826T150000
DTSTAMP:20260421T041018
CREATED:20250310T230837Z
LAST-MODIFIED:20250310T230837Z
UID:10004702-1787742000-1787756400@www.discoverlakeportca.com
SUMMARY:Blood Drive at United Christian Parish
DESCRIPTION:Give the Gift of Life: Join Us for a Blood Drive! \nYour donation can save lives! Join us at United Christian Parish for a community blood drive. Every pint of blood donated has the power to make a difference for patients in need—whether it’s for surgeries\, accidents\, or life-threatening conditions. \n✅ What to Expect: \n\nQuick and easy donation process.\nFriendly\, professional staff to guide you.\nRefreshments and snacks to enjoy afterward.\nA rewarding opportunity to give back to your community.\n\n📌 How to Prepare: \n\nDrink plenty of water and eat a healthy meal before donating.\nBring a valid photo ID.\nMake an appointment using the link below.\n\n💖 Every donor makes a difference! Whether you’re a first-time donor or a regular\, your contribution matters. Together\, we can save lives and make our community stronger. \n📞 Schedule Your Appointment: Visit Vitalant to reserve your spot today! Walk-ins are also welcome. \nLet’s come together and make an impact—one donation at a time. See you there!
URL:https://www.discoverlakeportca.com/event/blood-drive-at-united-christian-parish/2026-08-26/
LOCATION:United Christian Parish Lakeport\, 745 N. Brush Street\, Lakeport\, CA\, 95453\, United States
CATEGORIES:Event
ATTACH;FMTTYPE=image/png:https://www.discoverlakeportca.com/wp-content/uploads/2025/01/Red-White-Illustrative-Blood-Drive-Instagram-Post.png
END:VEVENT
BEGIN:VEVENT
DTSTART;TZID=America/Los_Angeles:20260923T110000
DTEND;TZID=America/Los_Angeles:20260923T150000
DTSTAMP:20260421T041018
CREATED:20250310T230837Z
LAST-MODIFIED:20250310T230837Z
UID:10004703-1790161200-1790175600@www.discoverlakeportca.com
SUMMARY:Blood Drive at United Christian Parish
DESCRIPTION:Give the Gift of Life: Join Us for a Blood Drive! \nYour donation can save lives! Join us at United Christian Parish for a community blood drive. Every pint of blood donated has the power to make a difference for patients in need—whether it’s for surgeries\, accidents\, or life-threatening conditions. \n✅ What to Expect: \n\nQuick and easy donation process.\nFriendly\, professional staff to guide you.\nRefreshments and snacks to enjoy afterward.\nA rewarding opportunity to give back to your community.\n\n📌 How to Prepare: \n\nDrink plenty of water and eat a healthy meal before donating.\nBring a valid photo ID.\nMake an appointment using the link below.\n\n💖 Every donor makes a difference! Whether you’re a first-time donor or a regular\, your contribution matters. Together\, we can save lives and make our community stronger. \n📞 Schedule Your Appointment: Visit Vitalant to reserve your spot today! Walk-ins are also welcome. \nLet’s come together and make an impact—one donation at a time. See you there!
URL:https://www.discoverlakeportca.com/event/blood-drive-at-united-christian-parish/2026-09-23/
LOCATION:United Christian Parish Lakeport\, 745 N. Brush Street\, Lakeport\, CA\, 95453\, United States
CATEGORIES:Event
ATTACH;FMTTYPE=image/png:https://www.discoverlakeportca.com/wp-content/uploads/2025/01/Red-White-Illustrative-Blood-Drive-Instagram-Post.png
END:VEVENT
BEGIN:VEVENT
DTSTART;TZID=America/Los_Angeles:20261028T110000
DTEND;TZID=America/Los_Angeles:20261028T150000
DTSTAMP:20260421T041018
CREATED:20250310T230837Z
LAST-MODIFIED:20250310T230837Z
UID:10004704-1793185200-1793199600@www.discoverlakeportca.com
SUMMARY:Blood Drive at United Christian Parish
DESCRIPTION:Give the Gift of Life: Join Us for a Blood Drive! \nYour donation can save lives! Join us at United Christian Parish for a community blood drive. Every pint of blood donated has the power to make a difference for patients in need—whether it’s for surgeries\, accidents\, or life-threatening conditions. \n✅ What to Expect: \n\nQuick and easy donation process.\nFriendly\, professional staff to guide you.\nRefreshments and snacks to enjoy afterward.\nA rewarding opportunity to give back to your community.\n\n📌 How to Prepare: \n\nDrink plenty of water and eat a healthy meal before donating.\nBring a valid photo ID.\nMake an appointment using the link below.\n\n💖 Every donor makes a difference! Whether you’re a first-time donor or a regular\, your contribution matters. Together\, we can save lives and make our community stronger. \n📞 Schedule Your Appointment: Visit Vitalant to reserve your spot today! Walk-ins are also welcome. \nLet’s come together and make an impact—one donation at a time. See you there!
URL:https://www.discoverlakeportca.com/event/blood-drive-at-united-christian-parish/2026-10-28/
LOCATION:United Christian Parish Lakeport\, 745 N. Brush Street\, Lakeport\, CA\, 95453\, United States
CATEGORIES:Event
ATTACH;FMTTYPE=image/png:https://www.discoverlakeportca.com/wp-content/uploads/2025/01/Red-White-Illustrative-Blood-Drive-Instagram-Post.png
END:VEVENT
BEGIN:VEVENT
DTSTART;TZID=America/Los_Angeles:20261125T110000
DTEND;TZID=America/Los_Angeles:20261125T150000
DTSTAMP:20260421T041018
CREATED:20250310T230837Z
LAST-MODIFIED:20250310T230837Z
UID:10004705-1795604400-1795618800@www.discoverlakeportca.com
SUMMARY:Blood Drive at United Christian Parish
DESCRIPTION:Give the Gift of Life: Join Us for a Blood Drive! \nYour donation can save lives! Join us at United Christian Parish for a community blood drive. Every pint of blood donated has the power to make a difference for patients in need—whether it’s for surgeries\, accidents\, or life-threatening conditions. \n✅ What to Expect: \n\nQuick and easy donation process.\nFriendly\, professional staff to guide you.\nRefreshments and snacks to enjoy afterward.\nA rewarding opportunity to give back to your community.\n\n📌 How to Prepare: \n\nDrink plenty of water and eat a healthy meal before donating.\nBring a valid photo ID.\nMake an appointment using the link below.\n\n💖 Every donor makes a difference! Whether you’re a first-time donor or a regular\, your contribution matters. Together\, we can save lives and make our community stronger. \n📞 Schedule Your Appointment: Visit Vitalant to reserve your spot today! Walk-ins are also welcome. \nLet’s come together and make an impact—one donation at a time. See you there!
URL:https://www.discoverlakeportca.com/event/blood-drive-at-united-christian-parish/2026-11-25/
LOCATION:United Christian Parish Lakeport\, 745 N. Brush Street\, Lakeport\, CA\, 95453\, United States
CATEGORIES:Event
ATTACH;FMTTYPE=image/png:https://www.discoverlakeportca.com/wp-content/uploads/2025/01/Red-White-Illustrative-Blood-Drive-Instagram-Post.png
END:VEVENT
BEGIN:VEVENT
DTSTART;TZID=America/Los_Angeles:20261223T110000
DTEND;TZID=America/Los_Angeles:20261223T150000
DTSTAMP:20260421T041018
CREATED:20250310T230837Z
LAST-MODIFIED:20250310T230837Z
UID:10004706-1798023600-1798038000@www.discoverlakeportca.com
SUMMARY:Blood Drive at United Christian Parish
DESCRIPTION:Give the Gift of Life: Join Us for a Blood Drive! \nYour donation can save lives! Join us at United Christian Parish for a community blood drive. Every pint of blood donated has the power to make a difference for patients in need—whether it’s for surgeries\, accidents\, or life-threatening conditions. \n✅ What to Expect: \n\nQuick and easy donation process.\nFriendly\, professional staff to guide you.\nRefreshments and snacks to enjoy afterward.\nA rewarding opportunity to give back to your community.\n\n📌 How to Prepare: \n\nDrink plenty of water and eat a healthy meal before donating.\nBring a valid photo ID.\nMake an appointment using the link below.\n\n💖 Every donor makes a difference! Whether you’re a first-time donor or a regular\, your contribution matters. Together\, we can save lives and make our community stronger. \n📞 Schedule Your Appointment: Visit Vitalant to reserve your spot today! Walk-ins are also welcome. \nLet’s come together and make an impact—one donation at a time. See you there!
URL:https://www.discoverlakeportca.com/event/blood-drive-at-united-christian-parish/2026-12-23/
LOCATION:United Christian Parish Lakeport\, 745 N. Brush Street\, Lakeport\, CA\, 95453\, United States
CATEGORIES:Event
ATTACH;FMTTYPE=image/png:https://www.discoverlakeportca.com/wp-content/uploads/2025/01/Red-White-Illustrative-Blood-Drive-Instagram-Post.png
END:VEVENT
END:VCALENDAR