BEGIN:VCALENDAR
VERSION:2.0
PRODID:-//Discover Lakeport CA - ECPv6.15.20//NONSGML v1.0//EN
CALSCALE:GREGORIAN
METHOD:PUBLISH
X-WR-CALNAME:Discover Lakeport CA
X-ORIGINAL-URL:https://www.discoverlakeportca.com
X-WR-CALDESC:Events for Discover Lakeport CA
REFRESH-INTERVAL;VALUE=DURATION:PT1H
X-Robots-Tag:noindex
X-PUBLISHED-TTL:PT1H
BEGIN:VTIMEZONE
TZID:America/Los_Angeles
BEGIN:DAYLIGHT
TZOFFSETFROM:-0800
TZOFFSETTO:-0700
TZNAME:PDT
DTSTART:20250309T100000
END:DAYLIGHT
BEGIN:STANDARD
TZOFFSETFROM:-0700
TZOFFSETTO:-0800
TZNAME:PST
DTSTART:20251102T090000
END:STANDARD
BEGIN:DAYLIGHT
TZOFFSETFROM:-0800
TZOFFSETTO:-0700
TZNAME:PDT
DTSTART:20260308T100000
END:DAYLIGHT
BEGIN:STANDARD
TZOFFSETFROM:-0700
TZOFFSETTO:-0800
TZNAME:PST
DTSTART:20261101T090000
END:STANDARD
BEGIN:DAYLIGHT
TZOFFSETFROM:-0800
TZOFFSETTO:-0700
TZNAME:PDT
DTSTART:20270314T100000
END:DAYLIGHT
BEGIN:STANDARD
TZOFFSETFROM:-0700
TZOFFSETTO:-0800
TZNAME:PST
DTSTART:20271107T090000
END:STANDARD
END:VTIMEZONE
BEGIN:VEVENT
DTSTART;TZID=America/Los_Angeles:20260424T130000
DTEND;TZID=America/Los_Angeles:20260424T140000
DTSTAMP:20260419T201316
CREATED:20250310T210459Z
LAST-MODIFIED:20250310T210459Z
UID:10003867-1777035600-1777039200@www.discoverlakeportca.com
SUMMARY:Tai Chi with Paul at the Lakeport Senior Center
DESCRIPTION:Join Paul for an hour of Tai Chi at the Lakeport Senior Activity Center!
URL:https://www.discoverlakeportca.com/event/tai-chi-with-paul-at-the-lakeport-senior-center/2026-04-24/
LOCATION:Lakeport Senior Activity Center\, 527 Konocti Avenue\, Lakeport\, CA\, 95453\, United States
CATEGORIES:Exercise
ATTACH;FMTTYPE=image/jpeg:https://www.discoverlakeportca.com/wp-content/uploads/2025/02/474743822_1162777102523177_703342928969843652_n.jpg
END:VEVENT
BEGIN:VEVENT
DTSTART;TZID=America/Los_Angeles:20260501T130000
DTEND;TZID=America/Los_Angeles:20260501T140000
DTSTAMP:20260419T201316
CREATED:20250310T210459Z
LAST-MODIFIED:20250310T210459Z
UID:10003868-1777640400-1777644000@www.discoverlakeportca.com
SUMMARY:Tai Chi with Paul at the Lakeport Senior Center
DESCRIPTION:Join Paul for an hour of Tai Chi at the Lakeport Senior Activity Center!
URL:https://www.discoverlakeportca.com/event/tai-chi-with-paul-at-the-lakeport-senior-center/2026-05-01/
LOCATION:Lakeport Senior Activity Center\, 527 Konocti Avenue\, Lakeport\, CA\, 95453\, United States
CATEGORIES:Exercise
ATTACH;FMTTYPE=image/jpeg:https://www.discoverlakeportca.com/wp-content/uploads/2025/02/474743822_1162777102523177_703342928969843652_n.jpg
END:VEVENT
BEGIN:VEVENT
DTSTART;TZID=America/Los_Angeles:20260508T130000
DTEND;TZID=America/Los_Angeles:20260508T140000
DTSTAMP:20260419T201316
CREATED:20250310T210459Z
LAST-MODIFIED:20250310T210459Z
UID:10003869-1778245200-1778248800@www.discoverlakeportca.com
SUMMARY:Tai Chi with Paul at the Lakeport Senior Center
DESCRIPTION:Join Paul for an hour of Tai Chi at the Lakeport Senior Activity Center!
URL:https://www.discoverlakeportca.com/event/tai-chi-with-paul-at-the-lakeport-senior-center/2026-05-08/
LOCATION:Lakeport Senior Activity Center\, 527 Konocti Avenue\, Lakeport\, CA\, 95453\, United States
CATEGORIES:Exercise
ATTACH;FMTTYPE=image/jpeg:https://www.discoverlakeportca.com/wp-content/uploads/2025/02/474743822_1162777102523177_703342928969843652_n.jpg
END:VEVENT
BEGIN:VEVENT
DTSTART;TZID=America/Los_Angeles:20260515T130000
DTEND;TZID=America/Los_Angeles:20260515T140000
DTSTAMP:20260419T201316
CREATED:20250310T210459Z
LAST-MODIFIED:20250310T210459Z
UID:10003870-1778850000-1778853600@www.discoverlakeportca.com
SUMMARY:Tai Chi with Paul at the Lakeport Senior Center
DESCRIPTION:Join Paul for an hour of Tai Chi at the Lakeport Senior Activity Center!
URL:https://www.discoverlakeportca.com/event/tai-chi-with-paul-at-the-lakeport-senior-center/2026-05-15/
LOCATION:Lakeport Senior Activity Center\, 527 Konocti Avenue\, Lakeport\, CA\, 95453\, United States
CATEGORIES:Exercise
ATTACH;FMTTYPE=image/jpeg:https://www.discoverlakeportca.com/wp-content/uploads/2025/02/474743822_1162777102523177_703342928969843652_n.jpg
END:VEVENT
BEGIN:VEVENT
DTSTART;TZID=America/Los_Angeles:20260522T130000
DTEND;TZID=America/Los_Angeles:20260522T140000
DTSTAMP:20260419T201316
CREATED:20250310T210459Z
LAST-MODIFIED:20250310T210459Z
UID:10003871-1779454800-1779458400@www.discoverlakeportca.com
SUMMARY:Tai Chi with Paul at the Lakeport Senior Center
DESCRIPTION:Join Paul for an hour of Tai Chi at the Lakeport Senior Activity Center!
URL:https://www.discoverlakeportca.com/event/tai-chi-with-paul-at-the-lakeport-senior-center/2026-05-22/
LOCATION:Lakeport Senior Activity Center\, 527 Konocti Avenue\, Lakeport\, CA\, 95453\, United States
CATEGORIES:Exercise
ATTACH;FMTTYPE=image/jpeg:https://www.discoverlakeportca.com/wp-content/uploads/2025/02/474743822_1162777102523177_703342928969843652_n.jpg
END:VEVENT
BEGIN:VEVENT
DTSTART;TZID=America/Los_Angeles:20260529T130000
DTEND;TZID=America/Los_Angeles:20260529T140000
DTSTAMP:20260419T201316
CREATED:20250310T210459Z
LAST-MODIFIED:20250310T210459Z
UID:10003872-1780059600-1780063200@www.discoverlakeportca.com
SUMMARY:Tai Chi with Paul at the Lakeport Senior Center
DESCRIPTION:Join Paul for an hour of Tai Chi at the Lakeport Senior Activity Center!
URL:https://www.discoverlakeportca.com/event/tai-chi-with-paul-at-the-lakeport-senior-center/2026-05-29/
LOCATION:Lakeport Senior Activity Center\, 527 Konocti Avenue\, Lakeport\, CA\, 95453\, United States
CATEGORIES:Exercise
ATTACH;FMTTYPE=image/jpeg:https://www.discoverlakeportca.com/wp-content/uploads/2025/02/474743822_1162777102523177_703342928969843652_n.jpg
END:VEVENT
BEGIN:VEVENT
DTSTART;TZID=America/Los_Angeles:20260605T130000
DTEND;TZID=America/Los_Angeles:20260605T140000
DTSTAMP:20260419T201316
CREATED:20250310T210459Z
LAST-MODIFIED:20250310T210459Z
UID:10003873-1780664400-1780668000@www.discoverlakeportca.com
SUMMARY:Tai Chi with Paul at the Lakeport Senior Center
DESCRIPTION:Join Paul for an hour of Tai Chi at the Lakeport Senior Activity Center!
URL:https://www.discoverlakeportca.com/event/tai-chi-with-paul-at-the-lakeport-senior-center/2026-06-05/
LOCATION:Lakeport Senior Activity Center\, 527 Konocti Avenue\, Lakeport\, CA\, 95453\, United States
CATEGORIES:Exercise
ATTACH;FMTTYPE=image/jpeg:https://www.discoverlakeportca.com/wp-content/uploads/2025/02/474743822_1162777102523177_703342928969843652_n.jpg
END:VEVENT
BEGIN:VEVENT
DTSTART;TZID=America/Los_Angeles:20260612T130000
DTEND;TZID=America/Los_Angeles:20260612T140000
DTSTAMP:20260419T201316
CREATED:20250310T210459Z
LAST-MODIFIED:20250310T210459Z
UID:10003874-1781269200-1781272800@www.discoverlakeportca.com
SUMMARY:Tai Chi with Paul at the Lakeport Senior Center
DESCRIPTION:Join Paul for an hour of Tai Chi at the Lakeport Senior Activity Center!
URL:https://www.discoverlakeportca.com/event/tai-chi-with-paul-at-the-lakeport-senior-center/2026-06-12/
LOCATION:Lakeport Senior Activity Center\, 527 Konocti Avenue\, Lakeport\, CA\, 95453\, United States
CATEGORIES:Exercise
ATTACH;FMTTYPE=image/jpeg:https://www.discoverlakeportca.com/wp-content/uploads/2025/02/474743822_1162777102523177_703342928969843652_n.jpg
END:VEVENT
BEGIN:VEVENT
DTSTART;TZID=America/Los_Angeles:20260619T130000
DTEND;TZID=America/Los_Angeles:20260619T140000
DTSTAMP:20260419T201316
CREATED:20250310T210459Z
LAST-MODIFIED:20250310T210459Z
UID:10003875-1781874000-1781877600@www.discoverlakeportca.com
SUMMARY:Tai Chi with Paul at the Lakeport Senior Center
DESCRIPTION:Join Paul for an hour of Tai Chi at the Lakeport Senior Activity Center!
URL:https://www.discoverlakeportca.com/event/tai-chi-with-paul-at-the-lakeport-senior-center/2026-06-19/
LOCATION:Lakeport Senior Activity Center\, 527 Konocti Avenue\, Lakeport\, CA\, 95453\, United States
CATEGORIES:Exercise
ATTACH;FMTTYPE=image/jpeg:https://www.discoverlakeportca.com/wp-content/uploads/2025/02/474743822_1162777102523177_703342928969843652_n.jpg
END:VEVENT
BEGIN:VEVENT
DTSTART;TZID=America/Los_Angeles:20260626T130000
DTEND;TZID=America/Los_Angeles:20260626T140000
DTSTAMP:20260419T201316
CREATED:20250310T210459Z
LAST-MODIFIED:20250310T210459Z
UID:10003876-1782478800-1782482400@www.discoverlakeportca.com
SUMMARY:Tai Chi with Paul at the Lakeport Senior Center
DESCRIPTION:Join Paul for an hour of Tai Chi at the Lakeport Senior Activity Center!
URL:https://www.discoverlakeportca.com/event/tai-chi-with-paul-at-the-lakeport-senior-center/2026-06-26/
LOCATION:Lakeport Senior Activity Center\, 527 Konocti Avenue\, Lakeport\, CA\, 95453\, United States
CATEGORIES:Exercise
ATTACH;FMTTYPE=image/jpeg:https://www.discoverlakeportca.com/wp-content/uploads/2025/02/474743822_1162777102523177_703342928969843652_n.jpg
END:VEVENT
BEGIN:VEVENT
DTSTART;TZID=America/Los_Angeles:20260703T130000
DTEND;TZID=America/Los_Angeles:20260703T140000
DTSTAMP:20260419T201316
CREATED:20250310T210459Z
LAST-MODIFIED:20250310T210459Z
UID:10003877-1783083600-1783087200@www.discoverlakeportca.com
SUMMARY:Tai Chi with Paul at the Lakeport Senior Center
DESCRIPTION:Join Paul for an hour of Tai Chi at the Lakeport Senior Activity Center!
URL:https://www.discoverlakeportca.com/event/tai-chi-with-paul-at-the-lakeport-senior-center/2026-07-03/
LOCATION:Lakeport Senior Activity Center\, 527 Konocti Avenue\, Lakeport\, CA\, 95453\, United States
CATEGORIES:Exercise
ATTACH;FMTTYPE=image/jpeg:https://www.discoverlakeportca.com/wp-content/uploads/2025/02/474743822_1162777102523177_703342928969843652_n.jpg
END:VEVENT
BEGIN:VEVENT
DTSTART;TZID=America/Los_Angeles:20260710T130000
DTEND;TZID=America/Los_Angeles:20260710T140000
DTSTAMP:20260419T201316
CREATED:20250310T210459Z
LAST-MODIFIED:20250310T210459Z
UID:10003878-1783688400-1783692000@www.discoverlakeportca.com
SUMMARY:Tai Chi with Paul at the Lakeport Senior Center
DESCRIPTION:Join Paul for an hour of Tai Chi at the Lakeport Senior Activity Center!
URL:https://www.discoverlakeportca.com/event/tai-chi-with-paul-at-the-lakeport-senior-center/2026-07-10/
LOCATION:Lakeport Senior Activity Center\, 527 Konocti Avenue\, Lakeport\, CA\, 95453\, United States
CATEGORIES:Exercise
ATTACH;FMTTYPE=image/jpeg:https://www.discoverlakeportca.com/wp-content/uploads/2025/02/474743822_1162777102523177_703342928969843652_n.jpg
END:VEVENT
BEGIN:VEVENT
DTSTART;TZID=America/Los_Angeles:20260717T130000
DTEND;TZID=America/Los_Angeles:20260717T140000
DTSTAMP:20260419T201316
CREATED:20250310T210459Z
LAST-MODIFIED:20250310T210459Z
UID:10003879-1784293200-1784296800@www.discoverlakeportca.com
SUMMARY:Tai Chi with Paul at the Lakeport Senior Center
DESCRIPTION:Join Paul for an hour of Tai Chi at the Lakeport Senior Activity Center!
URL:https://www.discoverlakeportca.com/event/tai-chi-with-paul-at-the-lakeport-senior-center/2026-07-17/
LOCATION:Lakeport Senior Activity Center\, 527 Konocti Avenue\, Lakeport\, CA\, 95453\, United States
CATEGORIES:Exercise
ATTACH;FMTTYPE=image/jpeg:https://www.discoverlakeportca.com/wp-content/uploads/2025/02/474743822_1162777102523177_703342928969843652_n.jpg
END:VEVENT
BEGIN:VEVENT
DTSTART;TZID=America/Los_Angeles:20260724T130000
DTEND;TZID=America/Los_Angeles:20260724T140000
DTSTAMP:20260419T201316
CREATED:20250310T210459Z
LAST-MODIFIED:20250310T210459Z
UID:10003880-1784898000-1784901600@www.discoverlakeportca.com
SUMMARY:Tai Chi with Paul at the Lakeport Senior Center
DESCRIPTION:Join Paul for an hour of Tai Chi at the Lakeport Senior Activity Center!
URL:https://www.discoverlakeportca.com/event/tai-chi-with-paul-at-the-lakeport-senior-center/2026-07-24/
LOCATION:Lakeport Senior Activity Center\, 527 Konocti Avenue\, Lakeport\, CA\, 95453\, United States
CATEGORIES:Exercise
ATTACH;FMTTYPE=image/jpeg:https://www.discoverlakeportca.com/wp-content/uploads/2025/02/474743822_1162777102523177_703342928969843652_n.jpg
END:VEVENT
BEGIN:VEVENT
DTSTART;TZID=America/Los_Angeles:20260731T130000
DTEND;TZID=America/Los_Angeles:20260731T140000
DTSTAMP:20260419T201316
CREATED:20250310T210459Z
LAST-MODIFIED:20250310T210459Z
UID:10003881-1785502800-1785506400@www.discoverlakeportca.com
SUMMARY:Tai Chi with Paul at the Lakeport Senior Center
DESCRIPTION:Join Paul for an hour of Tai Chi at the Lakeport Senior Activity Center!
URL:https://www.discoverlakeportca.com/event/tai-chi-with-paul-at-the-lakeport-senior-center/2026-07-31/
LOCATION:Lakeport Senior Activity Center\, 527 Konocti Avenue\, Lakeport\, CA\, 95453\, United States
CATEGORIES:Exercise
ATTACH;FMTTYPE=image/jpeg:https://www.discoverlakeportca.com/wp-content/uploads/2025/02/474743822_1162777102523177_703342928969843652_n.jpg
END:VEVENT
BEGIN:VEVENT
DTSTART;TZID=America/Los_Angeles:20260807T130000
DTEND;TZID=America/Los_Angeles:20260807T140000
DTSTAMP:20260419T201316
CREATED:20250310T210459Z
LAST-MODIFIED:20250310T210459Z
UID:10003882-1786107600-1786111200@www.discoverlakeportca.com
SUMMARY:Tai Chi with Paul at the Lakeport Senior Center
DESCRIPTION:Join Paul for an hour of Tai Chi at the Lakeport Senior Activity Center!
URL:https://www.discoverlakeportca.com/event/tai-chi-with-paul-at-the-lakeport-senior-center/2026-08-07/
LOCATION:Lakeport Senior Activity Center\, 527 Konocti Avenue\, Lakeport\, CA\, 95453\, United States
CATEGORIES:Exercise
ATTACH;FMTTYPE=image/jpeg:https://www.discoverlakeportca.com/wp-content/uploads/2025/02/474743822_1162777102523177_703342928969843652_n.jpg
END:VEVENT
BEGIN:VEVENT
DTSTART;TZID=America/Los_Angeles:20260814T130000
DTEND;TZID=America/Los_Angeles:20260814T140000
DTSTAMP:20260419T201316
CREATED:20250310T210459Z
LAST-MODIFIED:20250310T210459Z
UID:10003883-1786712400-1786716000@www.discoverlakeportca.com
SUMMARY:Tai Chi with Paul at the Lakeport Senior Center
DESCRIPTION:Join Paul for an hour of Tai Chi at the Lakeport Senior Activity Center!
URL:https://www.discoverlakeportca.com/event/tai-chi-with-paul-at-the-lakeport-senior-center/2026-08-14/
LOCATION:Lakeport Senior Activity Center\, 527 Konocti Avenue\, Lakeport\, CA\, 95453\, United States
CATEGORIES:Exercise
ATTACH;FMTTYPE=image/jpeg:https://www.discoverlakeportca.com/wp-content/uploads/2025/02/474743822_1162777102523177_703342928969843652_n.jpg
END:VEVENT
BEGIN:VEVENT
DTSTART;TZID=America/Los_Angeles:20260821T130000
DTEND;TZID=America/Los_Angeles:20260821T140000
DTSTAMP:20260419T201317
CREATED:20250310T210459Z
LAST-MODIFIED:20250310T210459Z
UID:10003884-1787317200-1787320800@www.discoverlakeportca.com
SUMMARY:Tai Chi with Paul at the Lakeport Senior Center
DESCRIPTION:Join Paul for an hour of Tai Chi at the Lakeport Senior Activity Center!
URL:https://www.discoverlakeportca.com/event/tai-chi-with-paul-at-the-lakeport-senior-center/2026-08-21/
LOCATION:Lakeport Senior Activity Center\, 527 Konocti Avenue\, Lakeport\, CA\, 95453\, United States
CATEGORIES:Exercise
ATTACH;FMTTYPE=image/jpeg:https://www.discoverlakeportca.com/wp-content/uploads/2025/02/474743822_1162777102523177_703342928969843652_n.jpg
END:VEVENT
BEGIN:VEVENT
DTSTART;TZID=America/Los_Angeles:20260828T130000
DTEND;TZID=America/Los_Angeles:20260828T140000
DTSTAMP:20260419T201317
CREATED:20250310T210459Z
LAST-MODIFIED:20250310T210459Z
UID:10003885-1787922000-1787925600@www.discoverlakeportca.com
SUMMARY:Tai Chi with Paul at the Lakeport Senior Center
DESCRIPTION:Join Paul for an hour of Tai Chi at the Lakeport Senior Activity Center!
URL:https://www.discoverlakeportca.com/event/tai-chi-with-paul-at-the-lakeport-senior-center/2026-08-28/
LOCATION:Lakeport Senior Activity Center\, 527 Konocti Avenue\, Lakeport\, CA\, 95453\, United States
CATEGORIES:Exercise
ATTACH;FMTTYPE=image/jpeg:https://www.discoverlakeportca.com/wp-content/uploads/2025/02/474743822_1162777102523177_703342928969843652_n.jpg
END:VEVENT
BEGIN:VEVENT
DTSTART;TZID=America/Los_Angeles:20260904T130000
DTEND;TZID=America/Los_Angeles:20260904T140000
DTSTAMP:20260419T201317
CREATED:20250310T210459Z
LAST-MODIFIED:20250310T210459Z
UID:10003886-1788526800-1788530400@www.discoverlakeportca.com
SUMMARY:Tai Chi with Paul at the Lakeport Senior Center
DESCRIPTION:Join Paul for an hour of Tai Chi at the Lakeport Senior Activity Center!
URL:https://www.discoverlakeportca.com/event/tai-chi-with-paul-at-the-lakeport-senior-center/2026-09-04/
LOCATION:Lakeport Senior Activity Center\, 527 Konocti Avenue\, Lakeport\, CA\, 95453\, United States
CATEGORIES:Exercise
ATTACH;FMTTYPE=image/jpeg:https://www.discoverlakeportca.com/wp-content/uploads/2025/02/474743822_1162777102523177_703342928969843652_n.jpg
END:VEVENT
BEGIN:VEVENT
DTSTART;TZID=America/Los_Angeles:20260911T130000
DTEND;TZID=America/Los_Angeles:20260911T140000
DTSTAMP:20260419T201317
CREATED:20250310T210459Z
LAST-MODIFIED:20250310T210459Z
UID:10003887-1789131600-1789135200@www.discoverlakeportca.com
SUMMARY:Tai Chi with Paul at the Lakeport Senior Center
DESCRIPTION:Join Paul for an hour of Tai Chi at the Lakeport Senior Activity Center!
URL:https://www.discoverlakeportca.com/event/tai-chi-with-paul-at-the-lakeport-senior-center/2026-09-11/
LOCATION:Lakeport Senior Activity Center\, 527 Konocti Avenue\, Lakeport\, CA\, 95453\, United States
CATEGORIES:Exercise
ATTACH;FMTTYPE=image/jpeg:https://www.discoverlakeportca.com/wp-content/uploads/2025/02/474743822_1162777102523177_703342928969843652_n.jpg
END:VEVENT
BEGIN:VEVENT
DTSTART;TZID=America/Los_Angeles:20260918T130000
DTEND;TZID=America/Los_Angeles:20260918T140000
DTSTAMP:20260419T201317
CREATED:20250310T210459Z
LAST-MODIFIED:20250310T210459Z
UID:10003888-1789736400-1789740000@www.discoverlakeportca.com
SUMMARY:Tai Chi with Paul at the Lakeport Senior Center
DESCRIPTION:Join Paul for an hour of Tai Chi at the Lakeport Senior Activity Center!
URL:https://www.discoverlakeportca.com/event/tai-chi-with-paul-at-the-lakeport-senior-center/2026-09-18/
LOCATION:Lakeport Senior Activity Center\, 527 Konocti Avenue\, Lakeport\, CA\, 95453\, United States
CATEGORIES:Exercise
ATTACH;FMTTYPE=image/jpeg:https://www.discoverlakeportca.com/wp-content/uploads/2025/02/474743822_1162777102523177_703342928969843652_n.jpg
END:VEVENT
BEGIN:VEVENT
DTSTART;TZID=America/Los_Angeles:20260925T130000
DTEND;TZID=America/Los_Angeles:20260925T140000
DTSTAMP:20260419T201317
CREATED:20250310T210459Z
LAST-MODIFIED:20250310T210459Z
UID:10003889-1790341200-1790344800@www.discoverlakeportca.com
SUMMARY:Tai Chi with Paul at the Lakeport Senior Center
DESCRIPTION:Join Paul for an hour of Tai Chi at the Lakeport Senior Activity Center!
URL:https://www.discoverlakeportca.com/event/tai-chi-with-paul-at-the-lakeport-senior-center/2026-09-25/
LOCATION:Lakeport Senior Activity Center\, 527 Konocti Avenue\, Lakeport\, CA\, 95453\, United States
CATEGORIES:Exercise
ATTACH;FMTTYPE=image/jpeg:https://www.discoverlakeportca.com/wp-content/uploads/2025/02/474743822_1162777102523177_703342928969843652_n.jpg
END:VEVENT
BEGIN:VEVENT
DTSTART;TZID=America/Los_Angeles:20261002T130000
DTEND;TZID=America/Los_Angeles:20261002T140000
DTSTAMP:20260419T201317
CREATED:20250310T210459Z
LAST-MODIFIED:20250310T210459Z
UID:10003890-1790946000-1790949600@www.discoverlakeportca.com
SUMMARY:Tai Chi with Paul at the Lakeport Senior Center
DESCRIPTION:Join Paul for an hour of Tai Chi at the Lakeport Senior Activity Center!
URL:https://www.discoverlakeportca.com/event/tai-chi-with-paul-at-the-lakeport-senior-center/2026-10-02/
LOCATION:Lakeport Senior Activity Center\, 527 Konocti Avenue\, Lakeport\, CA\, 95453\, United States
CATEGORIES:Exercise
ATTACH;FMTTYPE=image/jpeg:https://www.discoverlakeportca.com/wp-content/uploads/2025/02/474743822_1162777102523177_703342928969843652_n.jpg
END:VEVENT
BEGIN:VEVENT
DTSTART;TZID=America/Los_Angeles:20261009T130000
DTEND;TZID=America/Los_Angeles:20261009T140000
DTSTAMP:20260419T201317
CREATED:20250310T210459Z
LAST-MODIFIED:20250310T210459Z
UID:10003891-1791550800-1791554400@www.discoverlakeportca.com
SUMMARY:Tai Chi with Paul at the Lakeport Senior Center
DESCRIPTION:Join Paul for an hour of Tai Chi at the Lakeport Senior Activity Center!
URL:https://www.discoverlakeportca.com/event/tai-chi-with-paul-at-the-lakeport-senior-center/2026-10-09/
LOCATION:Lakeport Senior Activity Center\, 527 Konocti Avenue\, Lakeport\, CA\, 95453\, United States
CATEGORIES:Exercise
ATTACH;FMTTYPE=image/jpeg:https://www.discoverlakeportca.com/wp-content/uploads/2025/02/474743822_1162777102523177_703342928969843652_n.jpg
END:VEVENT
BEGIN:VEVENT
DTSTART;TZID=America/Los_Angeles:20261016T130000
DTEND;TZID=America/Los_Angeles:20261016T140000
DTSTAMP:20260419T201317
CREATED:20250310T210459Z
LAST-MODIFIED:20250310T210459Z
UID:10003892-1792155600-1792159200@www.discoverlakeportca.com
SUMMARY:Tai Chi with Paul at the Lakeport Senior Center
DESCRIPTION:Join Paul for an hour of Tai Chi at the Lakeport Senior Activity Center!
URL:https://www.discoverlakeportca.com/event/tai-chi-with-paul-at-the-lakeport-senior-center/2026-10-16/
LOCATION:Lakeport Senior Activity Center\, 527 Konocti Avenue\, Lakeport\, CA\, 95453\, United States
CATEGORIES:Exercise
ATTACH;FMTTYPE=image/jpeg:https://www.discoverlakeportca.com/wp-content/uploads/2025/02/474743822_1162777102523177_703342928969843652_n.jpg
END:VEVENT
BEGIN:VEVENT
DTSTART;TZID=America/Los_Angeles:20261023T130000
DTEND;TZID=America/Los_Angeles:20261023T140000
DTSTAMP:20260419T201317
CREATED:20250310T210459Z
LAST-MODIFIED:20250310T210459Z
UID:10003893-1792760400-1792764000@www.discoverlakeportca.com
SUMMARY:Tai Chi with Paul at the Lakeport Senior Center
DESCRIPTION:Join Paul for an hour of Tai Chi at the Lakeport Senior Activity Center!
URL:https://www.discoverlakeportca.com/event/tai-chi-with-paul-at-the-lakeport-senior-center/2026-10-23/
LOCATION:Lakeport Senior Activity Center\, 527 Konocti Avenue\, Lakeport\, CA\, 95453\, United States
CATEGORIES:Exercise
ATTACH;FMTTYPE=image/jpeg:https://www.discoverlakeportca.com/wp-content/uploads/2025/02/474743822_1162777102523177_703342928969843652_n.jpg
END:VEVENT
BEGIN:VEVENT
DTSTART;TZID=America/Los_Angeles:20261030T130000
DTEND;TZID=America/Los_Angeles:20261030T140000
DTSTAMP:20260419T201317
CREATED:20250310T210459Z
LAST-MODIFIED:20250310T210459Z
UID:10003894-1793365200-1793368800@www.discoverlakeportca.com
SUMMARY:Tai Chi with Paul at the Lakeport Senior Center
DESCRIPTION:Join Paul for an hour of Tai Chi at the Lakeport Senior Activity Center!
URL:https://www.discoverlakeportca.com/event/tai-chi-with-paul-at-the-lakeport-senior-center/2026-10-30/
LOCATION:Lakeport Senior Activity Center\, 527 Konocti Avenue\, Lakeport\, CA\, 95453\, United States
CATEGORIES:Exercise
ATTACH;FMTTYPE=image/jpeg:https://www.discoverlakeportca.com/wp-content/uploads/2025/02/474743822_1162777102523177_703342928969843652_n.jpg
END:VEVENT
BEGIN:VEVENT
DTSTART;TZID=America/Los_Angeles:20261106T130000
DTEND;TZID=America/Los_Angeles:20261106T140000
DTSTAMP:20260419T201317
CREATED:20250310T210459Z
LAST-MODIFIED:20250310T210459Z
UID:10003895-1793970000-1793973600@www.discoverlakeportca.com
SUMMARY:Tai Chi with Paul at the Lakeport Senior Center
DESCRIPTION:Join Paul for an hour of Tai Chi at the Lakeport Senior Activity Center!
URL:https://www.discoverlakeportca.com/event/tai-chi-with-paul-at-the-lakeport-senior-center/2026-11-06/
LOCATION:Lakeport Senior Activity Center\, 527 Konocti Avenue\, Lakeport\, CA\, 95453\, United States
CATEGORIES:Exercise
ATTACH;FMTTYPE=image/jpeg:https://www.discoverlakeportca.com/wp-content/uploads/2025/02/474743822_1162777102523177_703342928969843652_n.jpg
END:VEVENT
BEGIN:VEVENT
DTSTART;TZID=America/Los_Angeles:20261113T130000
DTEND;TZID=America/Los_Angeles:20261113T140000
DTSTAMP:20260419T201317
CREATED:20250310T210459Z
LAST-MODIFIED:20250310T210459Z
UID:10003896-1794574800-1794578400@www.discoverlakeportca.com
SUMMARY:Tai Chi with Paul at the Lakeport Senior Center
DESCRIPTION:Join Paul for an hour of Tai Chi at the Lakeport Senior Activity Center!
URL:https://www.discoverlakeportca.com/event/tai-chi-with-paul-at-the-lakeport-senior-center/2026-11-13/
LOCATION:Lakeport Senior Activity Center\, 527 Konocti Avenue\, Lakeport\, CA\, 95453\, United States
CATEGORIES:Exercise
ATTACH;FMTTYPE=image/jpeg:https://www.discoverlakeportca.com/wp-content/uploads/2025/02/474743822_1162777102523177_703342928969843652_n.jpg
END:VEVENT
END:VCALENDAR