BEGIN:VCALENDAR
VERSION:2.0
PRODID:-//Discover Lakeport CA - ECPv6.15.20//NONSGML v1.0//EN
CALSCALE:GREGORIAN
METHOD:PUBLISH
X-WR-CALNAME:Discover Lakeport CA
X-ORIGINAL-URL:https://www.discoverlakeportca.com
X-WR-CALDESC:Events for Discover Lakeport CA
REFRESH-INTERVAL;VALUE=DURATION:PT1H
X-Robots-Tag:noindex
X-PUBLISHED-TTL:PT1H
BEGIN:VTIMEZONE
TZID:America/Los_Angeles
BEGIN:DAYLIGHT
TZOFFSETFROM:-0800
TZOFFSETTO:-0700
TZNAME:PDT
DTSTART:20240310T100000
END:DAYLIGHT
BEGIN:STANDARD
TZOFFSETFROM:-0700
TZOFFSETTO:-0800
TZNAME:PST
DTSTART:20241103T090000
END:STANDARD
BEGIN:DAYLIGHT
TZOFFSETFROM:-0800
TZOFFSETTO:-0700
TZNAME:PDT
DTSTART:20250309T100000
END:DAYLIGHT
BEGIN:STANDARD
TZOFFSETFROM:-0700
TZOFFSETTO:-0800
TZNAME:PST
DTSTART:20251102T090000
END:STANDARD
BEGIN:DAYLIGHT
TZOFFSETFROM:-0800
TZOFFSETTO:-0700
TZNAME:PDT
DTSTART:20260308T100000
END:DAYLIGHT
BEGIN:STANDARD
TZOFFSETFROM:-0700
TZOFFSETTO:-0800
TZNAME:PST
DTSTART:20261101T090000
END:STANDARD
END:VTIMEZONE
BEGIN:VEVENT
DTSTART;TZID=America/Los_Angeles:20251114T130000
DTEND;TZID=America/Los_Angeles:20251114T140000
DTSTAMP:20260419T074829
CREATED:20250310T210459Z
LAST-MODIFIED:20250310T210459Z
UID:10003844-1763125200-1763128800@www.discoverlakeportca.com
SUMMARY:Tai Chi with Paul at the Lakeport Senior Center
DESCRIPTION:Join Paul for an hour of Tai Chi at the Lakeport Senior Activity Center!
URL:https://www.discoverlakeportca.com/event/tai-chi-with-paul-at-the-lakeport-senior-center/2025-11-14/
LOCATION:Lakeport Senior Activity Center\, 527 Konocti Avenue\, Lakeport\, CA\, 95453\, United States
CATEGORIES:Exercise
ATTACH;FMTTYPE=image/jpeg:https://www.discoverlakeportca.com/wp-content/uploads/2025/02/474743822_1162777102523177_703342928969843652_n.jpg
END:VEVENT
BEGIN:VEVENT
DTSTART;TZID=America/Los_Angeles:20251114T073000
DTEND;TZID=America/Los_Angeles:20251114T160000
DTSTAMP:20260419T074829
CREATED:20251114T000312Z
LAST-MODIFIED:20251114T000312Z
UID:10007063-1763105400-1763136000@www.discoverlakeportca.com
SUMMARY:CRV Buyback Recycling
DESCRIPTION:♻️ CRV Buy Back Recycling is coming to Lake County! ♻️ \nBring your CRV-eligible bottles and cans for redemption every Friday in Lakeport (1285 S. Main St.) and every Saturday in Lower Lake (9205 State HWY 53). \nHours: 7:30 a.m. – 4:00 p.m. (Closed for lunch 12:00–12:30 p.m.) \nPlease note: We strictly close at 4:00 p.m. No exceptions due to state regulations! Arrive early to ensure you’re served. \nBring your valid California ID\, keep containers clean and dry. \nPlease check the flier for daily limits and eligible items. \nQuestions? Call 707-234-6400 or visit CandSwaste.com. \nLet’s recycle right\, Lake County!
URL:https://www.discoverlakeportca.com/event/crv-buyback-recycling/2025-11-14/
LOCATION:Grocery Outlet Shopping Center\, 1285 S. Main Street\, Lakeport\, CA\, 95453\, United States
CATEGORIES:Event
ATTACH;FMTTYPE=image/jpeg:https://www.discoverlakeportca.com/wp-content/uploads/2025/11/fb_img_17624926993221978917777296919944.jpg
END:VEVENT
BEGIN:VEVENT
DTSTART;TZID=America/Los_Angeles:20251113T180000
DTEND;TZID=America/Los_Angeles:20251113T210000
DTSTAMP:20260419T074829
CREATED:20251017T170442Z
LAST-MODIFIED:20251017T170442Z
UID:10006951-1763056800-1763067600@www.discoverlakeportca.com
SUMMARY:Karaoke at Andre's Lounge
DESCRIPTION:It’s karaoke time! every Thursday 6 PM Andre’s Lounge 150 N. Main St.\, Lakeport
URL:https://www.discoverlakeportca.com/event/karaoke-at-andres-lounge/2025-11-13/
LOCATION:Andre’s Lounge\, 150 N. Main Street\, Lakeport\, CA\, 95453\, United States
CATEGORIES:Music
ATTACH;FMTTYPE=image/jpeg:https://www.discoverlakeportca.com/wp-content/uploads/2025/10/fb_img_1760657772060300912051942474366.jpg
END:VEVENT
BEGIN:VEVENT
DTSTART;TZID=America/Los_Angeles:20251113T170000
DTEND;TZID=America/Los_Angeles:20251113T190000
DTSTAMP:20260419T074829
CREATED:20251103T175420Z
LAST-MODIFIED:20251103T175434Z
UID:10007036-1763053200-1763060400@www.discoverlakeportca.com
SUMMARY:Multicultural Night at Lakeport Elementary School
DESCRIPTION:Join us!
URL:https://www.discoverlakeportca.com/event/multicultural-night-at-lakeport-elementary-school/
LOCATION:Lakeport Elementary School\, 150 Lange Street\, Lakeport\, CA\, 95453\, United States
CATEGORIES:Event
ATTACH;FMTTYPE=image/jpeg:https://www.discoverlakeportca.com/wp-content/uploads/2025/10/fb_img_17619267970042192047258424631199.jpg
END:VEVENT
BEGIN:VEVENT
DTSTART;TZID=America/Los_Angeles:20251113T170000
DTEND;TZID=America/Los_Angeles:20251113T190000
DTSTAMP:20260419T074829
CREATED:20250310T212816Z
LAST-MODIFIED:20250310T212816Z
UID:10004533-1763053200-1763060400@www.discoverlakeportca.com
SUMMARY:Second Thursday Writer's Circle
DESCRIPTION:5-7pm\, Second Thursday of each monthMain Street Gallery325 North Main Street\, Lakeport\nPlease join us on the second Thursday of each month to revel in writing time from prompts & to savor each other’s new work.\nA creative\, supportive gathering to grow in our craft together. Bring your latest\, unpublished work to share for feedback & inspiration.\nAll levels\, genres & ages welcome!\nLed by Lake County Poet Laureate\, Brenda Marie Yeager
URL:https://www.discoverlakeportca.com/event/second-thursday-writers-circle/2025-11-13/
LOCATION:Main Street Gallery\, 325 N. Main Street\, Lakeport\, CA\, 95453\, United States
CATEGORIES:Class
ATTACH;FMTTYPE=image/png:https://www.discoverlakeportca.com/wp-content/uploads/2025/01/Screenshot_20250109-061342.png
END:VEVENT
BEGIN:VEVENT
DTSTART;TZID=America/Los_Angeles:20251113T160000
DTEND;TZID=America/Los_Angeles:20251113T190000
DTSTAMP:20260419T074829
CREATED:20250420T002620Z
LAST-MODIFIED:20250420T002654Z
UID:10005060-1763049600-1763060400@www.discoverlakeportca.com
SUMMARY:Thirsty Thursday at The Mercantile
DESCRIPTION:Join us at The Mercantile from 4pm-7pm weekly and enjoy delicious eats + your favorite Shannon Ridge wines with featured purveyors:\nTaco Tuesday with La ChilanguitaBuck Shack + Burgers with Saw Shop SawmillThirsty Thursday with Rosie’s Bread n’ ButterPizza Friday with DoughBaby Artisan Pizza\n4350 Thomas Drive at Hwy 29\, Lakeport.See you there!
URL:https://www.discoverlakeportca.com/event/thirsty-thursday-at-the-mercantile/2025-11-13/
LOCATION:The Mercantile\, 4350 Thomas Drive\, Lakeport\, CA\, 95453\, United States
CATEGORIES:Event
ATTACH;FMTTYPE=image/jpeg:https://www.discoverlakeportca.com/wp-content/uploads/2025/04/488601747_1158863752704024_1101425532161592079_n.jpg
END:VEVENT
BEGIN:VEVENT
DTSTART;TZID=America/Los_Angeles:20251113T110000
DTEND;TZID=America/Los_Angeles:20251113T120000
DTSTAMP:20260419T074829
CREATED:20250521T173400Z
LAST-MODIFIED:20250521T173400Z
UID:10005598-1763031600-1763035200@www.discoverlakeportca.com
SUMMARY:First-Year Friends at Mother-Wise
DESCRIPTION:Every Thursday at 11am we welcome any mamas with babies one and under to join our new support group. Feeling a little alone? Overwhelmed? We got you
URL:https://www.discoverlakeportca.com/event/first-year-friends-at-mother-wise/2025-11-13/
LOCATION:Mother-Wise\, 180 N. Main Street\, Lakeport\, CA\, 95453\, United States
CATEGORIES:Class
ATTACH;FMTTYPE=image/jpeg:https://www.discoverlakeportca.com/wp-content/uploads/2025/05/fb_img_17473396839548586906765200201126.jpg
END:VEVENT
BEGIN:VEVENT
DTSTART;TZID=America/Los_Angeles:20251113T090000
DTEND;TZID=America/Los_Angeles:20251113T110000
DTSTAMP:20260419T074829
CREATED:20250310T212158Z
LAST-MODIFIED:20250310T212158Z
UID:10004370-1763024400-1763031600@www.discoverlakeportca.com
SUMMARY:Line Dancing at the Lakeport Senior Center
DESCRIPTION:Join us at the Lakeport Senior Activity Center every Tuesday and Thursday morning from 9:00 am to 11:00 am to line dance!  All levels welcome!
URL:https://www.discoverlakeportca.com/event/line-dancing-at-the-lakeport-senior-center/2025-11-13/
LOCATION:Lakeport Senior Activity Center\, 527 Konocti Avenue\, Lakeport\, CA\, 95453\, United States
CATEGORIES:Class
ATTACH;FMTTYPE=image/jpeg:https://www.discoverlakeportca.com/wp-content/uploads/2024/10/Screenshot_20241024-101152.jpg
END:VEVENT
BEGIN:VEVENT
DTSTART;TZID=America/Los_Angeles:20251112T190000
DTEND;TZID=America/Los_Angeles:20251112T210000
DTSTAMP:20260419T074829
CREATED:20250310T212524Z
LAST-MODIFIED:20250310T212524Z
UID:10004465-1762974000-1762981200@www.discoverlakeportca.com
SUMMARY:Nicky Hind\, Piano at Andre's Lounge
DESCRIPTION:Come on down to Andre’s Lounge on Wednesday evenings and enjoy the piano music by Nicky Hind!
URL:https://www.discoverlakeportca.com/event/nicky-hind-piano-at-andres-lounge/2025-11-12/
LOCATION:Andre’s Lounge\, 150 N. Main Street\, Lakeport\, CA\, 95453\, United States
CATEGORIES:Music
ATTACH;FMTTYPE=image/jpeg:https://www.discoverlakeportca.com/wp-content/uploads/2024/10/Screenshot_20241024-102315.jpg
END:VEVENT
BEGIN:VEVENT
DTSTART;TZID=America/Los_Angeles:20251112T180000
DTEND;TZID=America/Los_Angeles:20251112T210000
DTSTAMP:20260419T074829
CREATED:20250616T211518Z
LAST-MODIFIED:20250616T211518Z
UID:10005707-1762970400-1762981200@www.discoverlakeportca.com
SUMMARY:Wednesday's Unplugged at On The Waterfront
DESCRIPTION:Join us at On The Waterfront as we open our outdoor patio for live music every Wednesday evening during the summer! \nDinner service starts at 6:00pm.\nDrive\, boat or walk down and stop by or make a reservation by calling 707-256-8000 or on-line at https://www.onthewaterfrontlakeport.com/reservations.\nON THE WATERFRONT RESTAURANTLake County’s Local Sustainable Restaurant60 Third St\, Lakeport\, CA – 707-256-8000https://www.onthewaterfrontlakeport.com/
URL:https://www.discoverlakeportca.com/event/wednesdays-unplugged-at-on-the-waterfront/2025-11-12/
LOCATION:On The Waterfront\, 60 3rd Street\, Lakeport\, CA\, 95453\, United States
CATEGORIES:Event,Music
ATTACH;FMTTYPE=image/jpeg:https://www.discoverlakeportca.com/wp-content/uploads/2025/06/fb_img_17497565213505977141277202060634.jpg
END:VEVENT
BEGIN:VEVENT
DTSTART;TZID=America/Los_Angeles:20251112T180000
DTEND;TZID=America/Los_Angeles:20251112T200000
DTSTAMP:20260419T074829
CREATED:20250418T171604Z
LAST-MODIFIED:20251219T182926Z
UID:10007398-1762970400-1762977600@www.discoverlakeportca.com
SUMMARY:Weekly Line Dancing at Konocti Vista Casino
DESCRIPTION:Grab a friend and kick up your boots to you favorite songs!  All are welcome to come and watch!  Meet at the bar!
URL:https://www.discoverlakeportca.com/event/weekly-line-dancing-at-konocti-vista-casino/2025-11-12/
LOCATION:Konocti Vista Casino\, 2755 Mission Rancheria Rd.\, Lakeport\, CA\, 95453\, United States
CATEGORIES:Class
ATTACH;FMTTYPE=image/jpeg:https://www.discoverlakeportca.com/wp-content/uploads/2025/04/FB_IMG_1742604040116.jpg
END:VEVENT
BEGIN:VEVENT
DTSTART;TZID=America/Los_Angeles:20251112T174500
DTEND;TZID=America/Los_Angeles:20251112T184500
DTSTAMP:20260419T074829
CREATED:20251029T165424Z
LAST-MODIFIED:20251029T165424Z
UID:10007019-1762969500-1762973100@www.discoverlakeportca.com
SUMMARY:Whispers of Thanks Yoga Class
DESCRIPTION:Join us for this next series of Yoga at Lavender Moon focusing on every day blessings\nWe will focus on poses that release and open our heart \, calm our minds\, and integrate awareness of the little things in life that we can give thanks for. An attitude of gratitude can be a great first step to a more joyful life.\nText 707-245-9695 to sign up for series or reserve your spot for a drop-in class
URL:https://www.discoverlakeportca.com/event/whispers-of-thanks-yoga-class/2025-11-12/
LOCATION:Lavender Moon & Spa\, 127 N. Main Street\, Lakeport\, CA\, 95453\, United States
CATEGORIES:Class
ATTACH;FMTTYPE=image/png:https://www.discoverlakeportca.com/wp-content/uploads/2025/10/Whispers-of-Thanks.png
END:VEVENT
BEGIN:VEVENT
DTSTART;TZID=America/Los_Angeles:20251112T160000
DTEND;TZID=America/Los_Angeles:20251112T190000
DTSTAMP:20260419T074829
CREATED:20250420T002526Z
LAST-MODIFIED:20250420T002858Z
UID:10005235-1762963200-1762974000@www.discoverlakeportca.com
SUMMARY:Buck Shack & Burgers at The Mercantile
DESCRIPTION:Join us at The Mercantile from 4pm-7pm weekly and enjoy delicious eats + your favorite Shannon Ridge wines with featured purveyors:\nTaco Tuesday with La ChilanguitaBuck Shack + Burgers with Saw Shop SawmillThirsty Thursday with Rosie’s Bread n’ ButterPizza Friday with DoughBaby Artisan Pizza\n4350 Thomas Drive at Hwy 29\, Lakeport.See you there!
URL:https://www.discoverlakeportca.com/event/buck-shack-burgers-at-the-mercantile/2025-11-12/
LOCATION:The Mercantile\, 4350 Thomas Drive\, Lakeport\, CA\, 95453\, United States
CATEGORIES:Event
ATTACH;FMTTYPE=image/jpeg:https://www.discoverlakeportca.com/wp-content/uploads/2025/04/488601747_1158863752704024_1101425532161592079_n.jpg
END:VEVENT
BEGIN:VEVENT
DTSTART;TZID=America/Los_Angeles:20251112T090000
DTEND;TZID=America/Los_Angeles:20251112T100000
DTSTAMP:20260419T074829
CREATED:20250310T211631Z
LAST-MODIFIED:20250310T211631Z
UID:10004180-1762938000-1762941600@www.discoverlakeportca.com
SUMMARY:Tai Chi with Linda at Lakeport Senior Center
DESCRIPTION:Join Linda at the Lakeport Senior Activity Center for an hour of Tai Chi.
URL:https://www.discoverlakeportca.com/event/tai-chi-with-linda-at-lakeport-senior-center/2025-11-12/
LOCATION:Lakeport Senior Activity Center\, 527 Konocti Avenue\, Lakeport\, CA\, 95453\, United States
CATEGORIES:Class
ATTACH;FMTTYPE=image/jpeg:https://www.discoverlakeportca.com/wp-content/uploads/2025/02/474743822_1162777102523177_703342928969843652_n.jpg
END:VEVENT
BEGIN:VEVENT
DTSTART;TZID=America/Los_Angeles:20251111T190000
DTEND;TZID=America/Los_Angeles:20251111T213000
DTSTAMP:20260419T074829
CREATED:20250512T174837Z
LAST-MODIFIED:20250512T174837Z
UID:10005561-1762887600-1762896600@www.discoverlakeportca.com
SUMMARY:Pool Tournament - Weekly
DESCRIPTION:Join us at Harlowe’s Lounge for our weekly Pool Tournament.  Sign ups at 6:30\, tournament at 7:00 pm. Entry fee $20
URL:https://www.discoverlakeportca.com/event/pool-tournament-weekly/2025-11-11/
LOCATION:Harlowe’s Lounge\, 901 Bevins Street\, Lakeport\, CA\, 95453\, United States
CATEGORIES:Event
ATTACH;FMTTYPE=image/jpeg:https://www.discoverlakeportca.com/wp-content/uploads/2025/05/fb_img_17468843389015725039053936134123.jpg
END:VEVENT
BEGIN:VEVENT
DTSTART;TZID=America/Los_Angeles:20251111T160000
DTEND;TZID=America/Los_Angeles:20251111T190000
DTSTAMP:20260419T074829
CREATED:20250420T002422Z
LAST-MODIFIED:20250420T002422Z
UID:10004970-1762876800-1762887600@www.discoverlakeportca.com
SUMMARY:Taco Tuesday at The Mercantile
DESCRIPTION:Join us at The Mercantile from 4pm-7pm weekly and enjoy delicious eats + your favorite Shannon Ridge wines with featured purveyors:\nTaco Tuesday with La ChilanguitaBuck Shack + Burgers with Saw Shop SawmillThirsty Thursday with Rosie’s Bread n’ ButterPizza Friday with DoughBaby Artisan Pizza\n4350 Thomas Drive at Hwy 29\, Lakeport.See you there!
URL:https://www.discoverlakeportca.com/event/taco-tuesday-at-the-mercantile/2025-11-11/
LOCATION:The Mercantile\, 4350 Thomas Drive\, Lakeport\, CA\, 95453\, United States
CATEGORIES:Event
ATTACH;FMTTYPE=image/jpeg:https://www.discoverlakeportca.com/wp-content/uploads/2025/04/488601747_1158863752704024_1101425532161592079_n.jpg
END:VEVENT
BEGIN:VEVENT
DTSTART;TZID=America/Los_Angeles:20251111T133000
DTEND;TZID=America/Los_Angeles:20251111T153000
DTSTAMP:20260419T074829
CREATED:20250722T184229Z
LAST-MODIFIED:20250814T192417Z
UID:10006226-1762867800-1762875000@www.discoverlakeportca.com
SUMMARY:Mendo-Lake Chorus Rehearsal
DESCRIPTION:If you love to sing\, the Mendo-Lake Chorus (part of Sweet Adelines International) are always accepting new members.  The ladies acapella group sings 4 part harmony.  For more information\, contact Pam Klier (707) 400-8380 or Christine Diehl (707) 367-5910
URL:https://www.discoverlakeportca.com/event/mendo-lake-chorus-rehearsal/2025-11-11/
LOCATION:Four Square Church\, 1125 Martin Street\, Lakeport\, CA\, 95453\, United States
CATEGORIES:Class
ATTACH;FMTTYPE=application/pdf:https://www.discoverlakeportca.com/wp-content/uploads/2025/07/Untitled-design.pdf
END:VEVENT
BEGIN:VEVENT
DTSTART;TZID=America/Los_Angeles:20251111T110000
DTEND;TZID=America/Los_Angeles:20251111T120000
DTSTAMP:20260419T074829
CREATED:20250925T181730Z
LAST-MODIFIED:20250925T181730Z
UID:10006893-1762858800-1762862400@www.discoverlakeportca.com
SUMMARY:American Sign Language Class
DESCRIPTION:
URL:https://www.discoverlakeportca.com/event/american-sign-language-class/2025-11-11/
LOCATION:Skycatch Gymnastics\, 1833 N. High Street\, Lakeport\, CA\, 95453\, United States
CATEGORIES:Class
ATTACH;FMTTYPE=image/jpeg:https://www.discoverlakeportca.com/wp-content/uploads/2025/09/fb_img_17588125119369007834733986276328.jpg
END:VEVENT
BEGIN:VEVENT
DTSTART;TZID=America/Los_Angeles:20251111T100000
DTEND;TZID=America/Los_Angeles:20251111T130000
DTSTAMP:20260419T074829
CREATED:20251010T193917Z
LAST-MODIFIED:20251010T193917Z
UID:10006930-1762855200-1762866000@www.discoverlakeportca.com
SUMMARY:Veterans Day Celebration
DESCRIPTION:Join the Lake County United Veterans Council in a celebration of American Heroes! \nTuesday\, November 11\, 2025 from 10am to 1pm\nAt the Konocti Vista Casino Banquet Hall \nDoors open at 10am – Ceremony begins at 11am \nPlease use main building doors and not side door to preserve banquet room temperature.  \nThe Ceremony will include speakers\, a band performance by CLHS and conclude with a three-volley gun salute. \nComplimentary Lunch and Beverages following the ceremony. (While supplies last) \nKonocti Vista Casino proudly hosts this annual event for the Lake County United Veterans Council and donates the space and the complimentary lunch at no cost.
URL:https://www.discoverlakeportca.com/event/veterans-day-celebration/
LOCATION:Konocti Vista Casino\, 2755 Mission Rancheria Rd.\, Lakeport\, CA\, 95453\, United States
CATEGORIES:Event
ATTACH;FMTTYPE=image/jpeg:https://www.discoverlakeportca.com/wp-content/uploads/2025/10/fb_img_1760123884431363202397580698894.jpg
END:VEVENT
BEGIN:VEVENT
DTSTART;TZID=America/Los_Angeles:20251111T090000
DTEND;TZID=America/Los_Angeles:20251111T110000
DTSTAMP:20260419T074829
CREATED:20250310T212034Z
LAST-MODIFIED:20250310T212034Z
UID:10004275-1762851600-1762858800@www.discoverlakeportca.com
SUMMARY:Line Dancing at Lakeport Senior Center
DESCRIPTION:Join us at the Lakeport Senior Activity Center every Tuesday and Thursday morning from 9:00 am to 11:00 am to line dance!  All levels welcome!
URL:https://www.discoverlakeportca.com/event/line-dancing-at-lakeport-senior-center/2025-11-11/
LOCATION:Lakeport Senior Activity Center\, 527 Konocti Avenue\, Lakeport\, CA\, 95453\, United States
CATEGORIES:Class
ATTACH;FMTTYPE=image/jpeg:https://www.discoverlakeportca.com/wp-content/uploads/2024/10/Screenshot_20241024-101152.jpg
END:VEVENT
BEGIN:VEVENT
DTSTART;TZID=America/Los_Angeles:20251110T180000
DTEND;TZID=America/Los_Angeles:20251110T210000
DTSTAMP:20260419T074829
CREATED:20250316T223850Z
LAST-MODIFIED:20250316T223850Z
UID:10004765-1762797600-1762808400@www.discoverlakeportca.com
SUMMARY:Cornhole At Harlowe's Lounge
DESCRIPTION:Join us every Monday night for Cornhole on the outside patio area!\n\nGames start at 6:00 pm!
URL:https://www.discoverlakeportca.com/event/cornhole-at-harlowes-lounge/2025-11-10/
LOCATION:Harlowe’s Lounge\, 901 Bevins Street\, Lakeport\, CA\, 95453\, United States
CATEGORIES:Exercise
ATTACH;FMTTYPE=image/jpeg:https://www.discoverlakeportca.com/wp-content/uploads/2025/03/Screenshot_20250311-082452.jpg
END:VEVENT
BEGIN:VEVENT
DTSTART;TZID=America/Los_Angeles:20251110T171500
DTEND;TZID=America/Los_Angeles:20251110T174500
DTSTAMP:20260419T074829
CREATED:20250731T171800Z
LAST-MODIFIED:20250731T171800Z
UID:10006374-1762794900-1762796700@www.discoverlakeportca.com
SUMMARY:Monday Walking Moai
DESCRIPTION:On Monday evenings at 5:15 pm\, join Strong Financial Network for a Walk & Roll Moai in Xabatin Community Park! Bring your family & friends. We hope you join us!
URL:https://www.discoverlakeportca.com/event/monday-walking-moai/2025-11-10/
LOCATION:Xabatin Community Park\, 800 N. Main Street\, Lakeport\, CA\, 95453\, United States
CATEGORIES:Class,Exercise
ATTACH;FMTTYPE=image/jpeg:https://www.discoverlakeportca.com/wp-content/uploads/2024/12/FB_IMG_1733170625939.jpg
END:VEVENT
BEGIN:VEVENT
DTSTART;TZID=America/Los_Angeles:20251110T160000
DTEND;TZID=America/Los_Angeles:20251110T190000
DTSTAMP:20260419T074829
CREATED:20250310T214304Z
LAST-MODIFIED:20250310T214304Z
UID:10004638-1762790400-1762801200@www.discoverlakeportca.com
SUMMARY:Women Veterans of Lake County Meetup Group
DESCRIPTION:Calling all Women Veterans!  Join us at Frick Hall\, 853 11th Street\, Lakeport for an evening of connection and sharing!  Pot luck!
URL:https://www.discoverlakeportca.com/event/women-veterans-of-lake-county-meetup-group/2025-11-10/
LOCATION:Joy Madeiros Veterens Museum\, 857 11th Street\, Lakeport\, 95453\, United States
CATEGORIES:Event
ATTACH;FMTTYPE=image/jpeg:https://www.discoverlakeportca.com/wp-content/uploads/2025/01/Women-Veterans-of-Lake-County.jpg
END:VEVENT
BEGIN:VEVENT
DTSTART;TZID=America/Los_Angeles:20251108T160000
DTEND;TZID=America/Los_Angeles:20251108T180000
DTSTAMP:20260419T074829
CREATED:20250318T192630Z
LAST-MODIFIED:20250814T201021Z
UID:10006448-1762617600-1762624800@www.discoverlakeportca.com
SUMMARY:Second Saturday Artwalk
DESCRIPTION:Join us in Downtown Lakeport for the Second Saturday Art Walk.  New artists and artisans will be featured each month.  Watch the Lake County Arts Council Facebook for the complete listing!
URL:https://www.discoverlakeportca.com/event/second-saturday-artwalk/2025-11-08/
LOCATION:Main Street Gallery\, 325 N. Main Street\, Lakeport\, CA\, 95453\, United States
CATEGORIES:Event
ATTACH;FMTTYPE=image/jpeg:https://www.discoverlakeportca.com/wp-content/uploads/2025/03/Second-Saturday-Artwalk.jpg
END:VEVENT
BEGIN:VEVENT
DTSTART;TZID=America/Los_Angeles:20251108T110000
DTEND;TZID=America/Los_Angeles:20251108T160000
DTSTAMP:20260419T074829
CREATED:20250814T185149Z
LAST-MODIFIED:20250814T185449Z
UID:10006435-1762599600-1762617600@www.discoverlakeportca.com
SUMMARY:Punkin Chunkin Festival
DESCRIPTION:Join us for one of Lake County’s most unique fall traditions – PUNKIN CHUNKIN! Watch pumpkins fly\, enjoy great food\, and support local agriculture in a fun and festive setting.\n Event Highlights include pumpkin launching competitions\, local FFA team challenges\, kids’ activities & games\, photo ops\, and food vendors.\nCome celebrate the harvest season with your community!\n Tickets available at the gate – cash or card.\nFollow their Facebook page for updates as we announce vendors\, and more!
URL:https://www.discoverlakeportca.com/event/punkin-chunkin-festival-2/
LOCATION:That Ranch\, 4405 Thomas Drive\, Lakeport\, 95453\, United States
CATEGORIES:Festival
END:VEVENT
BEGIN:VEVENT
DTSTART;TZID=America/Los_Angeles:20251108T110000
DTEND;TZID=America/Los_Angeles:20251108T140000
DTSTAMP:20260419T074829
CREATED:20250310T213723Z
LAST-MODIFIED:20250310T213723Z
UID:10004596-1762599600-1762610400@www.discoverlakeportca.com
SUMMARY:StoryWalk at Clear Lake State Park
DESCRIPTION:On the second Saturday of each month\, we will have a “Featured Story” along with a craft led by a State Park Employee!  Tell them at the gate you are there for StoryWalk and parking is free!
URL:https://www.discoverlakeportca.com/event/storywalk-at-clear-lake-state-park/2025-11-08/
LOCATION:Clear Lake State Park\, 5300 Soda Bay Road\, Kelseyville\, CA\, 95453\, United States
CATEGORIES:Event
ATTACH;FMTTYPE=image/png:https://www.discoverlakeportca.com/wp-content/uploads/2024/12/StoryWalk.png
END:VEVENT
BEGIN:VEVENT
DTSTART;TZID=America/Los_Angeles:20251108T100000
DTEND;TZID=America/Los_Angeles:20251108T150000
DTSTAMP:20260419T074829
CREATED:20250918T164437Z
LAST-MODIFIED:20250918T164437Z
UID:10006873-1762596000-1762614000@www.discoverlakeportca.com
SUMMARY:Annual Crafters Fair
DESCRIPTION:Huge bake sale…house made muffins\, chile\, minestrone soup\, and garlic bread for lunch and more than 20 local artists and crafters sharing everything from tea towels\, leather goods\, wood crafts\, an amazing collection of hand knit alpaca sweaters\, etc etc !! 
URL:https://www.discoverlakeportca.com/event/annual-crafters-fair/
LOCATION:Big Valley Grange\, 1510 Big Valley Road\, Lakeport\, CA\, 95453\, United States
CATEGORIES:Christmas,Event
ATTACH;FMTTYPE=image/png:https://www.discoverlakeportca.com/wp-content/uploads/2025/09/screenshot_20250918-0729598902722653534284063.jpg
END:VEVENT
BEGIN:VEVENT
DTSTART;TZID=America/Los_Angeles:20251108T100000
DTEND;TZID=America/Los_Angeles:20251108T130000
DTSTAMP:20260419T074829
CREATED:20250310T210112Z
LAST-MODIFIED:20250310T210112Z
UID:10003749-1762596000-1762606800@www.discoverlakeportca.com
SUMMARY:Farmer's Market at The Mercantile
DESCRIPTION:The Saturday Market is at 4350 Thomas Drive (the Mercantile)\, off Hwy 29 between Lakeport and Kelseyville\, across from Rainbow AG.\, Lakeport\, CA\, United States\, California \nDiscover the best of our community at the Farmer’s Market! Stroll through a vibrant gathering of local farmers\, artisans\, and makers\, offering a delightful array of fresh produce\, handmade crafts\, and unique goods. \n🍎 What You’ll Find: \n\nFresh\, seasonal fruits and vegetables straight from local farms.\nArtisan bread\, honey\, jams\, and more.\nHandmade crafts\, jewelry\, and gifts perfect for any occasion.\nLive music and a welcoming atmosphere for the whole family.\n\nBring your friends and family\, support local businesses\, and experience the heart of our community. Don’t miss this celebration of fresh food\, creativity\, and connection
URL:https://www.discoverlakeportca.com/event/farmers-market-at-the-mercantile/2025-11-08/
LOCATION:The Mercantile\, 4350 Thomas Drive\, Lakeport\, CA\, 95453\, United States
CATEGORIES:Event
ATTACH;FMTTYPE=image/jpeg:https://www.discoverlakeportca.com/wp-content/uploads/2024/12/459910638_535159988873980_7135235949609434166_n.jpg
END:VEVENT
BEGIN:VEVENT
DTSTART;TZID=America/Los_Angeles:20251108T100000
DTEND;TZID=America/Los_Angeles:20251108T120000
DTSTAMP:20260419T074829
CREATED:20250310T213455Z
LAST-MODIFIED:20250310T213455Z
UID:10004575-1762596000-1762603200@www.discoverlakeportca.com
SUMMARY:Ladies of the Lake Quilt Guild Monthly Meeting
DESCRIPTION:Each meeting starts with a small business portion and is immediately followed by a program given by a skilled\, experienced quilter. Refreshments are served during a break. After the break we have “Show and Tell” during which members display their completed quilting projects. There are drawings at every meeting with various prizes. All levels are welcome to attend!
URL:https://www.discoverlakeportca.com/event/ladies-of-the-lake-quilt-guild-monthly-meeting/2025-11-08/
LOCATION:United Christian Parish Lakeport\, 745 N. Brush Street\, Lakeport\, CA\, 95453\, United States
CATEGORIES:Event
ATTACH;FMTTYPE=image/jpeg:https://www.discoverlakeportca.com/wp-content/uploads/2024/12/Ladies-of-the-Lake.jpg
END:VEVENT
BEGIN:VEVENT
DTSTART;TZID=America/Los_Angeles:20251108T090000
DTEND;TZID=America/Los_Angeles:20251108T140000
DTSTAMP:20260419T074829
CREATED:20250310T205827Z
LAST-MODIFIED:20250310T205827Z
UID:10003655-1762592400-1762610400@www.discoverlakeportca.com
SUMMARY:Hike at Rodman Preserve
DESCRIPTION:Visitors are welcome to enjoy unguided hikes. Heavy rains can impact the trails\, so at times water-proof boots are needed for comfortable walking. If trails need to be closed because of excessive rains\, we will do our best to notify the public through our website and Facebook posts. Please note because of the sensitive nature of the wildlife habitat\, dogs are not allowed on the trails. \nTo arrange an alternative day call 707-262-0707 or email us at LCLT@LakeCountyLandTrust.org.
URL:https://www.discoverlakeportca.com/event/hike-at-rodman-preserve/2025-11-08/
LOCATION:Rodman Preserve\, 6350 Westlake Road\, Lakeport\, CA\, 95453\, United States
CATEGORIES:Exercise
ATTACH;FMTTYPE=image/jpeg:https://www.discoverlakeportca.com/wp-content/uploads/2025/03/Hiking-at-Rodman-Preserve-Saturdays-900-am-to-200-pm.jpg
END:VEVENT
END:VCALENDAR