BEGIN:VCALENDAR
VERSION:2.0
PRODID:-//Discover Lakeport CA - ECPv6.15.20//NONSGML v1.0//EN
CALSCALE:GREGORIAN
METHOD:PUBLISH
X-WR-CALNAME:Discover Lakeport CA
X-ORIGINAL-URL:https://www.discoverlakeportca.com
X-WR-CALDESC:Events for Discover Lakeport CA
REFRESH-INTERVAL;VALUE=DURATION:PT1H
X-Robots-Tag:noindex
X-PUBLISHED-TTL:PT1H
BEGIN:VTIMEZONE
TZID:America/Los_Angeles
BEGIN:DAYLIGHT
TZOFFSETFROM:-0800
TZOFFSETTO:-0700
TZNAME:PDT
DTSTART:20250309T100000
END:DAYLIGHT
BEGIN:STANDARD
TZOFFSETFROM:-0700
TZOFFSETTO:-0800
TZNAME:PST
DTSTART:20251102T090000
END:STANDARD
BEGIN:DAYLIGHT
TZOFFSETFROM:-0800
TZOFFSETTO:-0700
TZNAME:PDT
DTSTART:20260308T100000
END:DAYLIGHT
BEGIN:STANDARD
TZOFFSETFROM:-0700
TZOFFSETTO:-0800
TZNAME:PST
DTSTART:20261101T090000
END:STANDARD
BEGIN:DAYLIGHT
TZOFFSETFROM:-0800
TZOFFSETTO:-0700
TZNAME:PDT
DTSTART:20270314T100000
END:DAYLIGHT
BEGIN:STANDARD
TZOFFSETFROM:-0700
TZOFFSETTO:-0800
TZNAME:PST
DTSTART:20271107T090000
END:STANDARD
END:VTIMEZONE
BEGIN:VEVENT
DTSTART;TZID=America/Los_Angeles:20260225T190000
DTEND;TZID=America/Los_Angeles:20260225T210000
DTSTAMP:20260422T112253
CREATED:20250310T212524Z
LAST-MODIFIED:20250310T212524Z
UID:10004480-1772046000-1772053200@www.discoverlakeportca.com
SUMMARY:Nicky Hind\, Piano at Andre's Lounge
DESCRIPTION:Come on down to Andre’s Lounge on Wednesday evenings and enjoy the piano music by Nicky Hind!
URL:https://www.discoverlakeportca.com/event/nicky-hind-piano-at-andres-lounge/2026-02-25/
LOCATION:Andre’s Lounge\, 150 N. Main Street\, Lakeport\, CA\, 95453\, United States
CATEGORIES:Music
ATTACH;FMTTYPE=image/jpeg:https://www.discoverlakeportca.com/wp-content/uploads/2024/10/Screenshot_20241024-102315.jpg
END:VEVENT
BEGIN:VEVENT
DTSTART;TZID=America/Los_Angeles:20260225T180000
DTEND;TZID=America/Los_Angeles:20260225T210000
DTSTAMP:20260422T112253
CREATED:20250616T211518Z
LAST-MODIFIED:20250616T211518Z
UID:10005722-1772042400-1772053200@www.discoverlakeportca.com
SUMMARY:Wednesday's Unplugged at On The Waterfront
DESCRIPTION:Join us at On The Waterfront as we open our outdoor patio for live music every Wednesday evening during the summer! \nDinner service starts at 6:00pm.\nDrive\, boat or walk down and stop by or make a reservation by calling 707-256-8000 or on-line at https://www.onthewaterfrontlakeport.com/reservations.\nON THE WATERFRONT RESTAURANTLake County’s Local Sustainable Restaurant60 Third St\, Lakeport\, CA – 707-256-8000https://www.onthewaterfrontlakeport.com/
URL:https://www.discoverlakeportca.com/event/wednesdays-unplugged-at-on-the-waterfront/2026-02-25/
LOCATION:On The Waterfront\, 60 3rd Street\, Lakeport\, CA\, 95453\, United States
CATEGORIES:Event,Music
ATTACH;FMTTYPE=image/jpeg:https://www.discoverlakeportca.com/wp-content/uploads/2025/06/fb_img_17497565213505977141277202060634.jpg
END:VEVENT
BEGIN:VEVENT
DTSTART;TZID=America/Los_Angeles:20260225T180000
DTEND;TZID=America/Los_Angeles:20260225T200000
DTSTAMP:20260422T112253
CREATED:20250418T171604Z
LAST-MODIFIED:20251219T182926Z
UID:10007413-1772042400-1772049600@www.discoverlakeportca.com
SUMMARY:Weekly Line Dancing at Konocti Vista Casino
DESCRIPTION:Grab a friend and kick up your boots to you favorite songs!  All are welcome to come and watch!  Meet at the bar!
URL:https://www.discoverlakeportca.com/event/weekly-line-dancing-at-konocti-vista-casino/2026-02-25/
LOCATION:Konocti Vista Casino\, 2755 Mission Rancheria Rd.\, Lakeport\, CA\, 95453\, United States
CATEGORIES:Class
ATTACH;FMTTYPE=image/jpeg:https://www.discoverlakeportca.com/wp-content/uploads/2025/04/FB_IMG_1742604040116.jpg
END:VEVENT
BEGIN:VEVENT
DTSTART;TZID=America/Los_Angeles:20260225T160000
DTEND;TZID=America/Los_Angeles:20260225T190000
DTSTAMP:20260422T112253
CREATED:20250420T002526Z
LAST-MODIFIED:20250420T002858Z
UID:10005250-1772035200-1772046000@www.discoverlakeportca.com
SUMMARY:Buck Shack & Burgers at The Mercantile
DESCRIPTION:Join us at The Mercantile from 4pm-7pm weekly and enjoy delicious eats + your favorite Shannon Ridge wines with featured purveyors:\nTaco Tuesday with La ChilanguitaBuck Shack + Burgers with Saw Shop SawmillThirsty Thursday with Rosie’s Bread n’ ButterPizza Friday with DoughBaby Artisan Pizza\n4350 Thomas Drive at Hwy 29\, Lakeport.See you there!
URL:https://www.discoverlakeportca.com/event/buck-shack-burgers-at-the-mercantile/2026-02-25/
LOCATION:The Mercantile\, 4350 Thomas Drive\, Lakeport\, CA\, 95453\, United States
CATEGORIES:Event
ATTACH;FMTTYPE=image/jpeg:https://www.discoverlakeportca.com/wp-content/uploads/2025/04/488601747_1158863752704024_1101425532161592079_n.jpg
END:VEVENT
BEGIN:VEVENT
DTSTART;TZID=America/Los_Angeles:20260225T110000
DTEND;TZID=America/Los_Angeles:20260225T150000
DTSTAMP:20260422T112253
CREATED:20250310T230837Z
LAST-MODIFIED:20250310T230837Z
UID:10004696-1772017200-1772031600@www.discoverlakeportca.com
SUMMARY:Blood Drive at United Christian Parish
DESCRIPTION:Give the Gift of Life: Join Us for a Blood Drive! \nYour donation can save lives! Join us at United Christian Parish for a community blood drive. Every pint of blood donated has the power to make a difference for patients in need—whether it’s for surgeries\, accidents\, or life-threatening conditions. \n✅ What to Expect: \n\nQuick and easy donation process.\nFriendly\, professional staff to guide you.\nRefreshments and snacks to enjoy afterward.\nA rewarding opportunity to give back to your community.\n\n📌 How to Prepare: \n\nDrink plenty of water and eat a healthy meal before donating.\nBring a valid photo ID.\nMake an appointment using the link below.\n\n💖 Every donor makes a difference! Whether you’re a first-time donor or a regular\, your contribution matters. Together\, we can save lives and make our community stronger. \n📞 Schedule Your Appointment: Visit Vitalant to reserve your spot today! Walk-ins are also welcome. \nLet’s come together and make an impact—one donation at a time. See you there!
URL:https://www.discoverlakeportca.com/event/blood-drive-at-united-christian-parish/2026-02-25/
LOCATION:United Christian Parish Lakeport\, 745 N. Brush Street\, Lakeport\, CA\, 95453\, United States
CATEGORIES:Event
ATTACH;FMTTYPE=image/png:https://www.discoverlakeportca.com/wp-content/uploads/2025/01/Red-White-Illustrative-Blood-Drive-Instagram-Post.png
END:VEVENT
BEGIN:VEVENT
DTSTART;TZID=America/Los_Angeles:20260225T090000
DTEND;TZID=America/Los_Angeles:20260225T100000
DTSTAMP:20260422T112253
CREATED:20250310T211631Z
LAST-MODIFIED:20250310T211631Z
UID:10004195-1772010000-1772013600@www.discoverlakeportca.com
SUMMARY:Tai Chi with Linda at Lakeport Senior Center
DESCRIPTION:Join Linda at the Lakeport Senior Activity Center for an hour of Tai Chi.
URL:https://www.discoverlakeportca.com/event/tai-chi-with-linda-at-lakeport-senior-center/2026-02-25/
LOCATION:Lakeport Senior Activity Center\, 527 Konocti Avenue\, Lakeport\, CA\, 95453\, United States
CATEGORIES:Class
ATTACH;FMTTYPE=image/jpeg:https://www.discoverlakeportca.com/wp-content/uploads/2025/02/474743822_1162777102523177_703342928969843652_n.jpg
END:VEVENT
BEGIN:VEVENT
DTSTART;TZID=America/Los_Angeles:20260225T080000
DTEND;TZID=America/Los_Angeles:20260225T230000
DTSTAMP:20260422T112253
CREATED:20260114T185336Z
LAST-MODIFIED:20260114T185336Z
UID:10007508-1772006400-1772060400@www.discoverlakeportca.com
SUMMARY:Restaurant Week
DESCRIPTION:This event is promoted through the Lake County Chamber of Commerce. \nCheck their website and the Facebook Pages of many local restaurants for their specials during this week!
URL:https://www.discoverlakeportca.com/event/restaurant-week/2026-02-25/
LOCATION:Lakeport\, CA\, 95453\, United States
CATEGORIES:Event
END:VEVENT
BEGIN:VEVENT
DTSTART;TZID=America/Los_Angeles:20260224T180000
DTEND;TZID=America/Los_Angeles:20260224T200000
DTSTAMP:20260422T112253
CREATED:20260114T184603Z
LAST-MODIFIED:20260114T184603Z
UID:10007504-1771956000-1771963200@www.discoverlakeportca.com
SUMMARY:FREE MOVIE - Citizen Kane
DESCRIPTION:Citizen Kane\n\nCitizen Kane\nTuesday\, February 24\, 2026\n6:00pm    Doors open 5:30 pm\n\nFree entry. Donations greatly appreciated.\nConcessions open for purchase.\nAssistive listening devices available.\nSponsored by Val & Mike\n\nWhen he is entrusted with the duty of uncovering the meaning of newspaper tycoon Charles Foster Kane’s (Orson Welles) mysterious final utterance\, a reporter slowly begins to uncover the intriguing glimpse of a multi-faceted personality that had ascended from nowhere to dizzyingly lofty pinnacles. Largely assisted by Kane’s best friend and colleague\, Jedediah Leland (Joseph Cotten)\, and his lover\, singer and opera miniaturist\, Susan Alexander (Dorothy Comingore)\, he is afraid he may never get to the meaning of the mysterious final word\, “Rosebud.”\n\nReleased May 1\, 1941\nRated PG\n\nGenre Drama\n\nRuntime 1h 59m
URL:https://www.discoverlakeportca.com/event/free-movie-citizen-kane/
LOCATION:Soper Reese Community Theater\, 275 S. Main Street\, Lakeport\, CA\, 95453\, United States
CATEGORIES:Movie
ATTACH;FMTTYPE=image/jpeg:https://www.discoverlakeportca.com/wp-content/uploads/2026/01/Citizen-Kane.jpg
END:VEVENT
BEGIN:VEVENT
DTSTART;TZID=America/Los_Angeles:20260224T160000
DTEND;TZID=America/Los_Angeles:20260224T190000
DTSTAMP:20260422T112253
CREATED:20250420T002422Z
LAST-MODIFIED:20250420T002422Z
UID:10004985-1771948800-1771959600@www.discoverlakeportca.com
SUMMARY:Taco Tuesday at The Mercantile
DESCRIPTION:Join us at The Mercantile from 4pm-7pm weekly and enjoy delicious eats + your favorite Shannon Ridge wines with featured purveyors:\nTaco Tuesday with La ChilanguitaBuck Shack + Burgers with Saw Shop SawmillThirsty Thursday with Rosie’s Bread n’ ButterPizza Friday with DoughBaby Artisan Pizza\n4350 Thomas Drive at Hwy 29\, Lakeport.See you there!
URL:https://www.discoverlakeportca.com/event/taco-tuesday-at-the-mercantile/2026-02-24/
LOCATION:The Mercantile\, 4350 Thomas Drive\, Lakeport\, CA\, 95453\, United States
CATEGORIES:Event
ATTACH;FMTTYPE=image/jpeg:https://www.discoverlakeportca.com/wp-content/uploads/2025/04/488601747_1158863752704024_1101425532161592079_n.jpg
END:VEVENT
BEGIN:VEVENT
DTSTART;TZID=America/Los_Angeles:20260224T133000
DTEND;TZID=America/Los_Angeles:20260224T153000
DTSTAMP:20260422T112253
CREATED:20250722T184229Z
LAST-MODIFIED:20250814T192417Z
UID:10006241-1771939800-1771947000@www.discoverlakeportca.com
SUMMARY:Mendo-Lake Chorus Rehearsal
DESCRIPTION:If you love to sing\, the Mendo-Lake Chorus (part of Sweet Adelines International) are always accepting new members.  The ladies acapella group sings 4 part harmony.  For more information\, contact Pam Klier (707) 400-8380 or Christine Diehl (707) 367-5910
URL:https://www.discoverlakeportca.com/event/mendo-lake-chorus-rehearsal/2026-02-24/
LOCATION:Four Square Church\, 1125 Martin Street\, Lakeport\, CA\, 95453\, United States
CATEGORIES:Class
ATTACH;FMTTYPE=application/pdf:https://www.discoverlakeportca.com/wp-content/uploads/2025/07/Untitled-design.pdf
END:VEVENT
BEGIN:VEVENT
DTSTART;TZID=America/Los_Angeles:20260224T090000
DTEND;TZID=America/Los_Angeles:20260224T110000
DTSTAMP:20260422T112253
CREATED:20250310T212034Z
LAST-MODIFIED:20250310T212034Z
UID:10004290-1771923600-1771930800@www.discoverlakeportca.com
SUMMARY:Line Dancing at Lakeport Senior Center
DESCRIPTION:Join us at the Lakeport Senior Activity Center every Tuesday and Thursday morning from 9:00 am to 11:00 am to line dance!  All levels welcome!
URL:https://www.discoverlakeportca.com/event/line-dancing-at-lakeport-senior-center/2026-02-24/
LOCATION:Lakeport Senior Activity Center\, 527 Konocti Avenue\, Lakeport\, CA\, 95453\, United States
CATEGORIES:Class
ATTACH;FMTTYPE=image/jpeg:https://www.discoverlakeportca.com/wp-content/uploads/2024/10/Screenshot_20241024-101152.jpg
END:VEVENT
BEGIN:VEVENT
DTSTART;TZID=America/Los_Angeles:20260224T080000
DTEND;TZID=America/Los_Angeles:20260224T230000
DTSTAMP:20260422T112253
CREATED:20260114T185336Z
LAST-MODIFIED:20260114T185336Z
UID:10007507-1771920000-1771974000@www.discoverlakeportca.com
SUMMARY:Restaurant Week
DESCRIPTION:This event is promoted through the Lake County Chamber of Commerce. \nCheck their website and the Facebook Pages of many local restaurants for their specials during this week!
URL:https://www.discoverlakeportca.com/event/restaurant-week/2026-02-24/
LOCATION:Lakeport\, CA\, 95453\, United States
CATEGORIES:Event
END:VEVENT
BEGIN:VEVENT
DTSTART;TZID=America/Los_Angeles:20260223T180000
DTEND;TZID=America/Los_Angeles:20260223T210000
DTSTAMP:20260422T112253
CREATED:20250316T223850Z
LAST-MODIFIED:20250316T223850Z
UID:10004780-1771869600-1771880400@www.discoverlakeportca.com
SUMMARY:Cornhole At Harlowe's Lounge
DESCRIPTION:Join us every Monday night for Cornhole on the outside patio area!\n\nGames start at 6:00 pm!
URL:https://www.discoverlakeportca.com/event/cornhole-at-harlowes-lounge/2026-02-23/
LOCATION:Harlowe’s Lounge\, 901 Bevins Street\, Lakeport\, CA\, 95453\, United States
CATEGORIES:Exercise
ATTACH;FMTTYPE=image/jpeg:https://www.discoverlakeportca.com/wp-content/uploads/2025/03/Screenshot_20250311-082452.jpg
END:VEVENT
BEGIN:VEVENT
DTSTART;TZID=America/Los_Angeles:20260223T171500
DTEND;TZID=America/Los_Angeles:20260223T174500
DTSTAMP:20260422T112253
CREATED:20250731T171800Z
LAST-MODIFIED:20250731T171800Z
UID:10006389-1771866900-1771868700@www.discoverlakeportca.com
SUMMARY:Monday Walking Moai
DESCRIPTION:On Monday evenings at 5:15 pm\, join Strong Financial Network for a Walk & Roll Moai in Xabatin Community Park! Bring your family & friends. We hope you join us!
URL:https://www.discoverlakeportca.com/event/monday-walking-moai/2026-02-23/
LOCATION:Xabatin Community Park\, 800 N. Main Street\, Lakeport\, CA\, 95453\, United States
CATEGORIES:Class,Exercise
ATTACH;FMTTYPE=image/jpeg:https://www.discoverlakeportca.com/wp-content/uploads/2024/12/FB_IMG_1733170625939.jpg
END:VEVENT
BEGIN:VEVENT
DTSTART;TZID=America/Los_Angeles:20260223T080000
DTEND;TZID=America/Los_Angeles:20260223T230000
DTSTAMP:20260422T112253
CREATED:20260114T185336Z
LAST-MODIFIED:20260114T185336Z
UID:10007506-1771833600-1771887600@www.discoverlakeportca.com
SUMMARY:Restaurant Week
DESCRIPTION:This event is promoted through the Lake County Chamber of Commerce. \nCheck their website and the Facebook Pages of many local restaurants for their specials during this week!
URL:https://www.discoverlakeportca.com/event/restaurant-week/2026-02-23/
LOCATION:Lakeport\, CA\, 95453\, United States
CATEGORIES:Event
END:VEVENT
BEGIN:VEVENT
DTSTART;TZID=America/Los_Angeles:20260222T080000
DTEND;TZID=America/Los_Angeles:20260222T230000
DTSTAMP:20260422T112253
CREATED:20260114T185336Z
LAST-MODIFIED:20260114T185336Z
UID:10007505-1771747200-1771801200@www.discoverlakeportca.com
SUMMARY:Restaurant Week
DESCRIPTION:This event is promoted through the Lake County Chamber of Commerce. \nCheck their website and the Facebook Pages of many local restaurants for their specials during this week!
URL:https://www.discoverlakeportca.com/event/restaurant-week/2026-02-22/
LOCATION:Lakeport\, CA\, 95453\, United States
CATEGORIES:Event
END:VEVENT
BEGIN:VEVENT
DTSTART;TZID=America/Los_Angeles:20260221T100000
DTEND;TZID=America/Los_Angeles:20260221T130000
DTSTAMP:20260422T112253
CREATED:20250310T210112Z
LAST-MODIFIED:20250310T210112Z
UID:10003764-1771668000-1771678800@www.discoverlakeportca.com
SUMMARY:Farmer's Market at The Mercantile
DESCRIPTION:The Saturday Market is at 4350 Thomas Drive (the Mercantile)\, off Hwy 29 between Lakeport and Kelseyville\, across from Rainbow AG.\, Lakeport\, CA\, United States\, California \nDiscover the best of our community at the Farmer’s Market! Stroll through a vibrant gathering of local farmers\, artisans\, and makers\, offering a delightful array of fresh produce\, handmade crafts\, and unique goods. \n🍎 What You’ll Find: \n\nFresh\, seasonal fruits and vegetables straight from local farms.\nArtisan bread\, honey\, jams\, and more.\nHandmade crafts\, jewelry\, and gifts perfect for any occasion.\nLive music and a welcoming atmosphere for the whole family.\n\nBring your friends and family\, support local businesses\, and experience the heart of our community. Don’t miss this celebration of fresh food\, creativity\, and connection
URL:https://www.discoverlakeportca.com/event/farmers-market-at-the-mercantile/2026-02-21/
LOCATION:The Mercantile\, 4350 Thomas Drive\, Lakeport\, CA\, 95453\, United States
CATEGORIES:Event
ATTACH;FMTTYPE=image/jpeg:https://www.discoverlakeportca.com/wp-content/uploads/2024/12/459910638_535159988873980_7135235949609434166_n.jpg
END:VEVENT
BEGIN:VEVENT
DTSTART;TZID=America/Los_Angeles:20260221T090000
DTEND;TZID=America/Los_Angeles:20260221T140000
DTSTAMP:20260422T112253
CREATED:20250310T205827Z
LAST-MODIFIED:20250310T205827Z
UID:10003670-1771664400-1771682400@www.discoverlakeportca.com
SUMMARY:Hike at Rodman Preserve
DESCRIPTION:Visitors are welcome to enjoy unguided hikes. Heavy rains can impact the trails\, so at times water-proof boots are needed for comfortable walking. If trails need to be closed because of excessive rains\, we will do our best to notify the public through our website and Facebook posts. Please note because of the sensitive nature of the wildlife habitat\, dogs are not allowed on the trails. \nTo arrange an alternative day call 707-262-0707 or email us at LCLT@LakeCountyLandTrust.org.
URL:https://www.discoverlakeportca.com/event/hike-at-rodman-preserve/2026-02-21/
LOCATION:Rodman Preserve\, 6350 Westlake Road\, Lakeport\, CA\, 95453\, United States
CATEGORIES:Exercise
ATTACH;FMTTYPE=image/jpeg:https://www.discoverlakeportca.com/wp-content/uploads/2025/03/Hiking-at-Rodman-Preserve-Saturdays-900-am-to-200-pm.jpg
END:VEVENT
BEGIN:VEVENT
DTSTART;TZID=America/Los_Angeles:20260221T090000
DTEND;TZID=America/Los_Angeles:20260221T130000
DTSTAMP:20260422T112253
CREATED:20260121T002556Z
LAST-MODIFIED:20260121T002556Z
UID:10007514-1771664400-1771678800@www.discoverlakeportca.com
SUMMARY:Hazardous Waste Drop Off
DESCRIPTION:The transfer station on Soda Bay Road will be accepting Hazardous Waste from 9am to 1pm.
URL:https://www.discoverlakeportca.com/event/hazardous-waste-drop-off/2026-02-21/
LOCATION:Lake Count Waste Solutions Transfer Station & Recycling Yard\, 230 Soda Bay Road\, Lakeport\, CA\, 95453\, United States
ATTACH;FMTTYPE=image/jpeg:https://www.discoverlakeportca.com/wp-content/uploads/2026/01/fb_img_17686081950885011907980320765158.jpg
END:VEVENT
BEGIN:VEVENT
DTSTART;TZID=America/Los_Angeles:20260220T160000
DTEND;TZID=America/Los_Angeles:20260220T190000
DTSTAMP:20260422T112253
CREATED:20250420T002811Z
LAST-MODIFIED:20250420T002811Z
UID:10005163-1771603200-1771614000@www.discoverlakeportca.com
SUMMARY:Friday Night Pizza at The Mercantile
DESCRIPTION:Join us at The Mercantile from 4pm-7pm weekly and enjoy delicious eats + your favorite Shannon Ridge wines with featured purveyors:\nTaco Tuesday with La ChilanguitaBuck Shack + Burgers with Saw Shop SawmillThirsty Thursday with Rosie’s Bread n’ ButterPizza Friday with DoughBaby Artisan Pizza\n4350 Thomas Drive at Hwy 29\, Lakeport.See you there!
URL:https://www.discoverlakeportca.com/event/friday-night-pizza-at-the-mercantile/2026-02-20/
LOCATION:The Mercantile\, 4350 Thomas Drive\, Lakeport\, CA\, 95453\, United States
CATEGORIES:Event
ATTACH;FMTTYPE=image/jpeg:https://www.discoverlakeportca.com/wp-content/uploads/2025/04/488601747_1158863752704024_1101425532161592079_n.jpg
END:VEVENT
BEGIN:VEVENT
DTSTART;TZID=America/Los_Angeles:20260220T130000
DTEND;TZID=America/Los_Angeles:20260220T140000
DTSTAMP:20260422T112253
CREATED:20250310T210459Z
LAST-MODIFIED:20250310T210459Z
UID:10003858-1771592400-1771596000@www.discoverlakeportca.com
SUMMARY:Tai Chi with Paul at the Lakeport Senior Center
DESCRIPTION:Join Paul for an hour of Tai Chi at the Lakeport Senior Activity Center!
URL:https://www.discoverlakeportca.com/event/tai-chi-with-paul-at-the-lakeport-senior-center/2026-02-20/
LOCATION:Lakeport Senior Activity Center\, 527 Konocti Avenue\, Lakeport\, CA\, 95453\, United States
CATEGORIES:Exercise
ATTACH;FMTTYPE=image/jpeg:https://www.discoverlakeportca.com/wp-content/uploads/2025/02/474743822_1162777102523177_703342928969843652_n.jpg
END:VEVENT
BEGIN:VEVENT
DTSTART;TZID=America/Los_Angeles:20260220T090000
DTEND;TZID=America/Los_Angeles:20260220T130000
DTSTAMP:20260422T112253
CREATED:20260121T002556Z
LAST-MODIFIED:20260121T002556Z
UID:10007513-1771578000-1771592400@www.discoverlakeportca.com
SUMMARY:Hazardous Waste Drop Off
DESCRIPTION:The transfer station on Soda Bay Road will be accepting Hazardous Waste from 9am to 1pm.
URL:https://www.discoverlakeportca.com/event/hazardous-waste-drop-off/2026-02-20/
LOCATION:Lake Count Waste Solutions Transfer Station & Recycling Yard\, 230 Soda Bay Road\, Lakeport\, CA\, 95453\, United States
ATTACH;FMTTYPE=image/jpeg:https://www.discoverlakeportca.com/wp-content/uploads/2026/01/fb_img_17686081950885011907980320765158.jpg
END:VEVENT
BEGIN:VEVENT
DTSTART;TZID=America/Los_Angeles:20260220T073000
DTEND;TZID=America/Los_Angeles:20260220T160000
DTSTAMP:20260422T112253
CREATED:20251114T000312Z
LAST-MODIFIED:20251114T000312Z
UID:10007077-1771572600-1771603200@www.discoverlakeportca.com
SUMMARY:CRV Buyback Recycling
DESCRIPTION:♻️ CRV Buy Back Recycling is coming to Lake County! ♻️ \nBring your CRV-eligible bottles and cans for redemption every Friday in Lakeport (1285 S. Main St.) and every Saturday in Lower Lake (9205 State HWY 53). \nHours: 7:30 a.m. – 4:00 p.m. (Closed for lunch 12:00–12:30 p.m.) \nPlease note: We strictly close at 4:00 p.m. No exceptions due to state regulations! Arrive early to ensure you’re served. \nBring your valid California ID\, keep containers clean and dry. \nPlease check the flier for daily limits and eligible items. \nQuestions? Call 707-234-6400 or visit CandSwaste.com. \nLet’s recycle right\, Lake County!
URL:https://www.discoverlakeportca.com/event/crv-buyback-recycling/2026-02-20/
LOCATION:Grocery Outlet Shopping Center\, 1285 S. Main Street\, Lakeport\, CA\, 95453\, United States
CATEGORIES:Event
ATTACH;FMTTYPE=image/jpeg:https://www.discoverlakeportca.com/wp-content/uploads/2025/11/fb_img_17624926993221978917777296919944.jpg
END:VEVENT
BEGIN:VEVENT
DTSTART;TZID=America/Los_Angeles:20260219T180000
DTEND;TZID=America/Los_Angeles:20260219T210000
DTSTAMP:20260422T112253
CREATED:20251017T170442Z
LAST-MODIFIED:20251017T170442Z
UID:10006965-1771524000-1771534800@www.discoverlakeportca.com
SUMMARY:Karaoke at Andre's Lounge
DESCRIPTION:It’s karaoke time! every Thursday 6 PM Andre’s Lounge 150 N. Main St.\, Lakeport
URL:https://www.discoverlakeportca.com/event/karaoke-at-andres-lounge/2026-02-19/
LOCATION:Andre’s Lounge\, 150 N. Main Street\, Lakeport\, CA\, 95453\, United States
CATEGORIES:Music
ATTACH;FMTTYPE=image/jpeg:https://www.discoverlakeportca.com/wp-content/uploads/2025/10/fb_img_1760657772060300912051942474366.jpg
END:VEVENT
BEGIN:VEVENT
DTSTART;TZID=America/Los_Angeles:20260219T180000
DTEND;TZID=America/Los_Angeles:20260219T200000
DTSTAMP:20260422T112253
CREATED:20251216T211145Z
LAST-MODIFIED:20251216T211145Z
UID:10007358-1771524000-1771531200@www.discoverlakeportca.com
SUMMARY:Operation Tango Mike Monthly Packing Party
DESCRIPTION:Join us at Columbia Bank to put together the monthly packages for our troops!  Support our troops! Honor our veterans! Never forget our fallen!
URL:https://www.discoverlakeportca.com/event/operation-tango-mike-monthly-packing-party-4/2026-02-19/
LOCATION:Columbia Bank\, 805 11th Street\, Lakeport\, CA\, 95453\, United States
CATEGORIES:Event
ATTACH;FMTTYPE=image/jpeg:https://www.discoverlakeportca.com/wp-content/uploads/2025/12/518295864_1199779282194471_6855842319688047897_n.jpg
END:VEVENT
BEGIN:VEVENT
DTSTART;TZID=America/Los_Angeles:20260219T160000
DTEND;TZID=America/Los_Angeles:20260219T190000
DTSTAMP:20260422T112253
CREATED:20250420T002620Z
LAST-MODIFIED:20250420T002654Z
UID:10005074-1771516800-1771527600@www.discoverlakeportca.com
SUMMARY:Thirsty Thursday at The Mercantile
DESCRIPTION:Join us at The Mercantile from 4pm-7pm weekly and enjoy delicious eats + your favorite Shannon Ridge wines with featured purveyors:\nTaco Tuesday with La ChilanguitaBuck Shack + Burgers with Saw Shop SawmillThirsty Thursday with Rosie’s Bread n’ ButterPizza Friday with DoughBaby Artisan Pizza\n4350 Thomas Drive at Hwy 29\, Lakeport.See you there!
URL:https://www.discoverlakeportca.com/event/thirsty-thursday-at-the-mercantile/2026-02-19/
LOCATION:The Mercantile\, 4350 Thomas Drive\, Lakeport\, CA\, 95453\, United States
CATEGORIES:Event
ATTACH;FMTTYPE=image/jpeg:https://www.discoverlakeportca.com/wp-content/uploads/2025/04/488601747_1158863752704024_1101425532161592079_n.jpg
END:VEVENT
BEGIN:VEVENT
DTSTART;TZID=America/Los_Angeles:20260219T110000
DTEND;TZID=America/Los_Angeles:20260219T120000
DTSTAMP:20260422T112253
CREATED:20250521T173400Z
LAST-MODIFIED:20250521T173400Z
UID:10005612-1771498800-1771502400@www.discoverlakeportca.com
SUMMARY:First-Year Friends at Mother-Wise
DESCRIPTION:Every Thursday at 11am we welcome any mamas with babies one and under to join our new support group. Feeling a little alone? Overwhelmed? We got you
URL:https://www.discoverlakeportca.com/event/first-year-friends-at-mother-wise/2026-02-19/
LOCATION:Mother-Wise\, 180 N. Main Street\, Lakeport\, CA\, 95453\, United States
CATEGORIES:Class
ATTACH;FMTTYPE=image/jpeg:https://www.discoverlakeportca.com/wp-content/uploads/2025/05/fb_img_17473396839548586906765200201126.jpg
END:VEVENT
BEGIN:VEVENT
DTSTART;TZID=America/Los_Angeles:20260219T090000
DTEND;TZID=America/Los_Angeles:20260219T110000
DTSTAMP:20260422T112253
CREATED:20250310T212158Z
LAST-MODIFIED:20250310T212158Z
UID:10004384-1771491600-1771498800@www.discoverlakeportca.com
SUMMARY:Line Dancing at the Lakeport Senior Center
DESCRIPTION:Join us at the Lakeport Senior Activity Center every Tuesday and Thursday morning from 9:00 am to 11:00 am to line dance!  All levels welcome!
URL:https://www.discoverlakeportca.com/event/line-dancing-at-the-lakeport-senior-center/2026-02-19/
LOCATION:Lakeport Senior Activity Center\, 527 Konocti Avenue\, Lakeport\, CA\, 95453\, United States
CATEGORIES:Class
ATTACH;FMTTYPE=image/jpeg:https://www.discoverlakeportca.com/wp-content/uploads/2024/10/Screenshot_20241024-101152.jpg
END:VEVENT
BEGIN:VEVENT
DTSTART;TZID=America/Los_Angeles:20260218T190000
DTEND;TZID=America/Los_Angeles:20260218T210000
DTSTAMP:20260422T112253
CREATED:20250310T212524Z
LAST-MODIFIED:20250310T212524Z
UID:10004479-1771441200-1771448400@www.discoverlakeportca.com
SUMMARY:Nicky Hind\, Piano at Andre's Lounge
DESCRIPTION:Come on down to Andre’s Lounge on Wednesday evenings and enjoy the piano music by Nicky Hind!
URL:https://www.discoverlakeportca.com/event/nicky-hind-piano-at-andres-lounge/2026-02-18/
LOCATION:Andre’s Lounge\, 150 N. Main Street\, Lakeport\, CA\, 95453\, United States
CATEGORIES:Music
ATTACH;FMTTYPE=image/jpeg:https://www.discoverlakeportca.com/wp-content/uploads/2024/10/Screenshot_20241024-102315.jpg
END:VEVENT
BEGIN:VEVENT
DTSTART;TZID=America/Los_Angeles:20260218T180000
DTEND;TZID=America/Los_Angeles:20260218T210000
DTSTAMP:20260422T112253
CREATED:20250616T211518Z
LAST-MODIFIED:20250616T211518Z
UID:10005721-1771437600-1771448400@www.discoverlakeportca.com
SUMMARY:Wednesday's Unplugged at On The Waterfront
DESCRIPTION:Join us at On The Waterfront as we open our outdoor patio for live music every Wednesday evening during the summer! \nDinner service starts at 6:00pm.\nDrive\, boat or walk down and stop by or make a reservation by calling 707-256-8000 or on-line at https://www.onthewaterfrontlakeport.com/reservations.\nON THE WATERFRONT RESTAURANTLake County’s Local Sustainable Restaurant60 Third St\, Lakeport\, CA – 707-256-8000https://www.onthewaterfrontlakeport.com/
URL:https://www.discoverlakeportca.com/event/wednesdays-unplugged-at-on-the-waterfront/2026-02-18/
LOCATION:On The Waterfront\, 60 3rd Street\, Lakeport\, CA\, 95453\, United States
CATEGORIES:Event,Music
ATTACH;FMTTYPE=image/jpeg:https://www.discoverlakeportca.com/wp-content/uploads/2025/06/fb_img_17497565213505977141277202060634.jpg
END:VEVENT
END:VCALENDAR