BEGIN:VCALENDAR
VERSION:2.0
PRODID:-//Discover Lakeport CA - ECPv6.15.20//NONSGML v1.0//EN
CALSCALE:GREGORIAN
METHOD:PUBLISH
X-ORIGINAL-URL:https://www.discoverlakeportca.com
X-WR-CALDESC:Events for Discover Lakeport CA
REFRESH-INTERVAL;VALUE=DURATION:PT1H
X-Robots-Tag:noindex
X-PUBLISHED-TTL:PT1H
BEGIN:VTIMEZONE
TZID:America/Los_Angeles
BEGIN:DAYLIGHT
TZOFFSETFROM:-0800
TZOFFSETTO:-0700
TZNAME:PDT
DTSTART:20250309T100000
END:DAYLIGHT
BEGIN:STANDARD
TZOFFSETFROM:-0700
TZOFFSETTO:-0800
TZNAME:PST
DTSTART:20251102T090000
END:STANDARD
BEGIN:DAYLIGHT
TZOFFSETFROM:-0800
TZOFFSETTO:-0700
TZNAME:PDT
DTSTART:20260308T100000
END:DAYLIGHT
BEGIN:STANDARD
TZOFFSETFROM:-0700
TZOFFSETTO:-0800
TZNAME:PST
DTSTART:20261101T090000
END:STANDARD
BEGIN:DAYLIGHT
TZOFFSETFROM:-0800
TZOFFSETTO:-0700
TZNAME:PDT
DTSTART:20270314T100000
END:DAYLIGHT
BEGIN:STANDARD
TZOFFSETFROM:-0700
TZOFFSETTO:-0800
TZNAME:PST
DTSTART:20271107T090000
END:STANDARD
END:VTIMEZONE
BEGIN:VEVENT
DTSTART;TZID=America/Los_Angeles:20260512T180000
DTEND;TZID=America/Los_Angeles:20260512T200000
DTSTAMP:20260419T210201
CREATED:20260415T185809Z
LAST-MODIFIED:20260415T185809Z
UID:10007818-1778608800-1778616000@www.discoverlakeportca.com
SUMMARY:Something's Gotta Give - FREE MOVIE
DESCRIPTION:Something’s Gotta Give\n\nSomething’s Gotta Give\nTuesday\, May 12\, 2026\n6:00pm    Doors open 5:30 pm\n\nFree entry. Donations greatly appreciated.\nConcessions open for purchase.\nAssistive listening devices available.\n\nSponsored by Tracy Parker\n\n\n\n\n\n\nAging womanizer Harry Sanborn (Jack Nicholson) and his young girlfriend Marin (Amanda Peet) head to her family’s beach house in the Hamptons\, only to discover that her mother\, playwright Erica Barry (Diane Keaton)\, is also staying for the weekend. Erica is shocked by their relationship and Harry’s attitudes. After Harry suffers a heart attack\, a doctor (Keanu Reeves) tells him to rest at the Barry home. During his recovery\, Harry starts to fall for Erica\, who might finally be someone he can’t win over easily.\n\n\n\n\n\n\n\n\n\n\n\nReleased Dec 12\, 2003\nRated PG-13\n\nRomance Comedy\n\nRuntime 2h 5m
URL:https://www.discoverlakeportca.com/event/somethings-gotta-give-free-movie/
LOCATION:Soper Reese Community Theater\, 275 S. Main Street\, Lakeport\, CA\, 95453\, United States
CATEGORIES:Movie
ATTACH;FMTTYPE=image/png:https://www.discoverlakeportca.com/wp-content/uploads/2026/04/screenshot_20260415-1155577033611725301668142.jpg
END:VEVENT
BEGIN:VEVENT
DTSTART;TZID=America/Los_Angeles:20260526T180000
DTEND;TZID=America/Los_Angeles:20260526T193000
DTSTAMP:20260419T210201
CREATED:20260415T230534Z
LAST-MODIFIED:20260415T230534Z
UID:10007906-1779818400-1779823800@www.discoverlakeportca.com
SUMMARY:That Touch of Mink - FREE MOVIE
DESCRIPTION:That Touch of Mink\n\nThat Touch of Mink\nTuesday\, May 26\, 2026\n6:00pm    Doors open 5:30 pm\n\nFree entry. Donations greatly appreciated.\nConcessions open for purchase.\nAssistive listening devices available.\n\nSponsored by Craig Waters\n\n\n\n\n\n\nHarry Sanborn (Jack Nicholson)\, an older man known for dating younger women\, goes with his girlfriend Marin (Amanda Peet) to her family’s beach house in the Hamptons. They are surprised to find Marin’s mother\, Erica Barry (Diane Keaton)\, already there. Erica is unsettled by Harry and Marin’s relationship. When Harry has a heart attack\, a doctor (Keanu Reeves) advises him to stay at the house to recover. As he gets better\, Harry finds himself drawn to Erica\, who may be the first woman he can’t easily charm.\n\n\n\n\n\n\n\n\n\n\n\nReleased June 14\, 1962\nRomance Comedy\n\n\nRuntime 1h 39m
URL:https://www.discoverlakeportca.com/event/that-touch-of-mink-free-movie/
LOCATION:Soper Reese Community Theater\, 275 S. Main Street\, Lakeport\, CA\, 95453\, United States
CATEGORIES:Movie
END:VEVENT
BEGIN:VEVENT
DTSTART;TZID=America/Los_Angeles:20260607T150000
DTEND;TZID=America/Los_Angeles:20260607T170000
DTSTAMP:20260419T210201
CREATED:20260415T190035Z
LAST-MODIFIED:20260415T190035Z
UID:10007819-1780844400-1780851600@www.discoverlakeportca.com
SUMMARY:Vivo - FREE Spanish Language Movie
DESCRIPTION:VIVO\n\nVivo\nSunday\, June 7\, 2026\n3:00pm\nentrada libre\n\n\n\nUna pelicula en español para todas la famila!\n\nVivo es una película musical animada que sigue a un kinkajú (oso de miel) cantante llamado Vivo. Ambientada en La Habana y Miami\, Vivo emprende un viaje para entregar una canción de amor de parte de su dueño\, Andrés\, a la famosa Marta Sandoval. Con la ayuda de Gabi\, una niña energética\, Vivo cumple su misión y celebra la cultura cubana.
URL:https://www.discoverlakeportca.com/event/vivo-free-spanish-language-movie/
LOCATION:Soper Reese Community Theater\, 275 S. Main Street\, Lakeport\, CA\, 95453\, United States
CATEGORIES:Movie
ATTACH;FMTTYPE=image/png:https://www.discoverlakeportca.com/wp-content/uploads/2026/04/screenshot_20260415-1158367674812497948288478.jpg
END:VEVENT
END:VCALENDAR