BEGIN:VCALENDAR
VERSION:2.0
PRODID:-//Discover Lakeport CA - ECPv6.15.20//NONSGML v1.0//EN
CALSCALE:GREGORIAN
METHOD:PUBLISH
X-ORIGINAL-URL:https://www.discoverlakeportca.com
X-WR-CALDESC:Events for Discover Lakeport CA
REFRESH-INTERVAL;VALUE=DURATION:PT1H
X-Robots-Tag:noindex
X-PUBLISHED-TTL:PT1H
BEGIN:VTIMEZONE
TZID:America/Los_Angeles
BEGIN:DAYLIGHT
TZOFFSETFROM:-0800
TZOFFSETTO:-0700
TZNAME:PDT
DTSTART:20250309T100000
END:DAYLIGHT
BEGIN:STANDARD
TZOFFSETFROM:-0700
TZOFFSETTO:-0800
TZNAME:PST
DTSTART:20251102T090000
END:STANDARD
BEGIN:DAYLIGHT
TZOFFSETFROM:-0800
TZOFFSETTO:-0700
TZNAME:PDT
DTSTART:20260308T100000
END:DAYLIGHT
BEGIN:STANDARD
TZOFFSETFROM:-0700
TZOFFSETTO:-0800
TZNAME:PST
DTSTART:20261101T090000
END:STANDARD
BEGIN:DAYLIGHT
TZOFFSETFROM:-0800
TZOFFSETTO:-0700
TZNAME:PDT
DTSTART:20270314T100000
END:DAYLIGHT
BEGIN:STANDARD
TZOFFSETFROM:-0700
TZOFFSETTO:-0800
TZNAME:PST
DTSTART:20271107T090000
END:STANDARD
END:VTIMEZONE
BEGIN:VEVENT
DTSTART;TZID=America/Los_Angeles:20260704T000000
DTEND;TZID=America/Los_Angeles:20260704T233000
DTSTAMP:20260419T210058
CREATED:20260211T184847Z
LAST-MODIFIED:20260211T184847Z
UID:10007672-1783123200-1783207800@www.discoverlakeportca.com
SUMMARY:Free National Park Day
DESCRIPTION:All National Parks have FREE ENTRY on these dates in 2026! \nFebruary 16\nMay 25\nJune 14\nJuly 3-5\nAugust 25\nSeptember 17\nOctober 27\nNovember 11
URL:https://www.discoverlakeportca.com/event/free-national-park-day/2026-07-04/
LOCATION:CA
CATEGORIES:Event
ATTACH;FMTTYPE=image/jpeg:https://www.discoverlakeportca.com/wp-content/uploads/2026/02/2026-Free-National-Park-Days.jpg
END:VEVENT
BEGIN:VEVENT
DTSTART;TZID=America/Los_Angeles:20260704T100000
DTEND;TZID=America/Los_Angeles:20260704T130000
DTSTAMP:20260419T210058
CREATED:20250310T210112Z
LAST-MODIFIED:20250310T210112Z
UID:10003783-1783159200-1783170000@www.discoverlakeportca.com
SUMMARY:Farmer's Market at The Mercantile
DESCRIPTION:The Saturday Market is at 4350 Thomas Drive (the Mercantile)\, off Hwy 29 between Lakeport and Kelseyville\, across from Rainbow AG.\, Lakeport\, CA\, United States\, California \nDiscover the best of our community at the Farmer’s Market! Stroll through a vibrant gathering of local farmers\, artisans\, and makers\, offering a delightful array of fresh produce\, handmade crafts\, and unique goods. \n🍎 What You’ll Find: \n\nFresh\, seasonal fruits and vegetables straight from local farms.\nArtisan bread\, honey\, jams\, and more.\nHandmade crafts\, jewelry\, and gifts perfect for any occasion.\nLive music and a welcoming atmosphere for the whole family.\n\nBring your friends and family\, support local businesses\, and experience the heart of our community. Don’t miss this celebration of fresh food\, creativity\, and connection
URL:https://www.discoverlakeportca.com/event/farmers-market-at-the-mercantile/2026-07-04/
LOCATION:The Mercantile\, 4350 Thomas Drive\, Lakeport\, CA\, 95453\, United States
CATEGORIES:Event
ATTACH;FMTTYPE=image/jpeg:https://www.discoverlakeportca.com/wp-content/uploads/2024/12/459910638_535159988873980_7135235949609434166_n.jpg
END:VEVENT
END:VCALENDAR