BEGIN:VCALENDAR
VERSION:2.0
PRODID:-//Discover Lakeport CA - ECPv6.15.20//NONSGML v1.0//EN
CALSCALE:GREGORIAN
METHOD:PUBLISH
X-ORIGINAL-URL:https://www.discoverlakeportca.com
X-WR-CALDESC:Events for Discover Lakeport CA
REFRESH-INTERVAL;VALUE=DURATION:PT1H
X-Robots-Tag:noindex
X-PUBLISHED-TTL:PT1H
BEGIN:VTIMEZONE
TZID:America/Los_Angeles
BEGIN:DAYLIGHT
TZOFFSETFROM:-0800
TZOFFSETTO:-0700
TZNAME:PDT
DTSTART:20250309T100000
END:DAYLIGHT
BEGIN:STANDARD
TZOFFSETFROM:-0700
TZOFFSETTO:-0800
TZNAME:PST
DTSTART:20251102T090000
END:STANDARD
BEGIN:DAYLIGHT
TZOFFSETFROM:-0800
TZOFFSETTO:-0700
TZNAME:PDT
DTSTART:20260308T100000
END:DAYLIGHT
BEGIN:STANDARD
TZOFFSETFROM:-0700
TZOFFSETTO:-0800
TZNAME:PST
DTSTART:20261101T090000
END:STANDARD
BEGIN:DAYLIGHT
TZOFFSETFROM:-0800
TZOFFSETTO:-0700
TZNAME:PDT
DTSTART:20270314T100000
END:DAYLIGHT
BEGIN:STANDARD
TZOFFSETFROM:-0700
TZOFFSETTO:-0800
TZNAME:PST
DTSTART:20271107T090000
END:STANDARD
END:VTIMEZONE
BEGIN:VEVENT
DTSTART;TZID=America/Los_Angeles:20260523T070000
DTEND;TZID=America/Los_Angeles:20260523T230000
DTSTAMP:20260419T181120
CREATED:20260415T184740Z
LAST-MODIFIED:20260415T184740Z
UID:10007814-1779519600-1779577200@www.discoverlakeportca.com
SUMMARY:Kiwanis & Lake County 4H Pancake Breakfast at Silveira Center
DESCRIPTION:Kiwanis Memorial Day Pancake Breakfast to benefit Lake County 4H Program. All proceeds go to Lake County 4H. Following breakfast be sure to visit the Lakeport Rotary Craft Fair at Xabatin Community Park. The Memorial Day Parade will be on Main Street starting at 11 AM. We hope to see you out supporting the community at these events! The breakfast price is $10.00. Tickets can be purchased at the gate or prior to the event from 4H members.  Credit cards accepted with an additional fee. \nRight next door in Xabatin Community Park will be the Memorial Day Craft Fair from 9:00 am to 2:00 pm. \nThe Lakeport Memorial Day Parade is on Main Street starting at 11:00 am.
URL:https://www.discoverlakeportca.com/event/kiwanis-lake-county-4h-pancake-breakfast-at-silveira-center-2/
LOCATION:Silveira Community Center\, 500 N. Main Street\, Lakeport\, CA\, 95453\, United States
CATEGORIES:Event
ATTACH;FMTTYPE=image/jpeg:https://www.discoverlakeportca.com/wp-content/uploads/2026/04/Pancake-Breakfast-Sponsors-1.jpg
END:VEVENT
BEGIN:VEVENT
DTSTART;TZID=America/Los_Angeles:20260523T090000
DTEND;TZID=America/Los_Angeles:20260523T140000
DTSTAMP:20260419T181120
CREATED:20260123T211650Z
LAST-MODIFIED:20260123T211729Z
UID:10007538-1779526800-1779544800@www.discoverlakeportca.com
SUMMARY:Memorial Day Craft Fair
DESCRIPTION:The craft fair will feature a wide variety of handmade crafts\, artisan goods\, and unique products from talented local vendors. It’s the perfect opportunity to shop local\, find one-of-a-kind treasures\, and support small businesses.\nA Full Day of Memorial Day Celebrations\nIn addition to the craft fair\, the day will include two other beloved Lakeport traditions:\nKiwanis Annual Pancake Breakfast: Start your day with a hearty breakfast from 7:00 AM to 11:00 AM at the Silveira Community Center. Enjoy pancakes\, eggs\, sausage\, and beverages while supporting a great cause.\nMemorial Day Parade: Don’t miss the patriotic spirit of the Memorial Day Parade\, which begins at 11:00 AM on Main Street in downtown Lakeport. This annual event honors those who have served our country and celebrates the unity of our community.\nVendor Applications Now Open\nAre you an artisan\, craftsperson\, or vendor looking to showcase your creations? Applications for vendor spaces at the Memorial Day Craft Fair are now being accepted. Don’t miss this chance to be part of one of Lakeport’s most anticipated events. Visit our website to apply today.\nCelebrate Community and Tradition\nThe Memorial Day Craft Fair and accompanying events offer a wonderful way to honor the holiday\, connect with neighbors\, and enjoy the vibrant spirit of Lakeport. Bring your family\, invite your friends\, and join us for a day filled with celebration and community pride.\nFor more information about the event or vendor applications\, please contact Discover Lakeport CA. www.DiscoverLakeportCA.com\nVendors:  CLICK HERE for more information.
URL:https://www.discoverlakeportca.com/event/memorial-day-craft-fair/
LOCATION:Xabatin Community Park\, 800 N. Main Street\, Lakeport\, CA\, 95453\, United States
CATEGORIES:Event
ATTACH;FMTTYPE=image/jpeg:https://www.discoverlakeportca.com/wp-content/uploads/2026/01/Memorial-Day-Craft-Fair.jpg
END:VEVENT
BEGIN:VEVENT
DTSTART;TZID=America/Los_Angeles:20260523T100000
DTEND;TZID=America/Los_Angeles:20260523T130000
DTSTAMP:20260419T181120
CREATED:20250310T210112Z
LAST-MODIFIED:20250310T210112Z
UID:10003777-1779530400-1779541200@www.discoverlakeportca.com
SUMMARY:Farmer's Market at The Mercantile
DESCRIPTION:The Saturday Market is at 4350 Thomas Drive (the Mercantile)\, off Hwy 29 between Lakeport and Kelseyville\, across from Rainbow AG.\, Lakeport\, CA\, United States\, California \nDiscover the best of our community at the Farmer’s Market! Stroll through a vibrant gathering of local farmers\, artisans\, and makers\, offering a delightful array of fresh produce\, handmade crafts\, and unique goods. \n🍎 What You’ll Find: \n\nFresh\, seasonal fruits and vegetables straight from local farms.\nArtisan bread\, honey\, jams\, and more.\nHandmade crafts\, jewelry\, and gifts perfect for any occasion.\nLive music and a welcoming atmosphere for the whole family.\n\nBring your friends and family\, support local businesses\, and experience the heart of our community. Don’t miss this celebration of fresh food\, creativity\, and connection
URL:https://www.discoverlakeportca.com/event/farmers-market-at-the-mercantile/2026-05-23/
LOCATION:The Mercantile\, 4350 Thomas Drive\, Lakeport\, CA\, 95453\, United States
CATEGORIES:Event
ATTACH;FMTTYPE=image/jpeg:https://www.discoverlakeportca.com/wp-content/uploads/2024/12/459910638_535159988873980_7135235949609434166_n.jpg
END:VEVENT
END:VCALENDAR