BEGIN:VCALENDAR
VERSION:2.0
PRODID:-//Discover Lakeport CA - ECPv6.15.20//NONSGML v1.0//EN
CALSCALE:GREGORIAN
METHOD:PUBLISH
X-WR-CALNAME:Discover Lakeport CA
X-ORIGINAL-URL:https://www.discoverlakeportca.com
X-WR-CALDESC:Events for Discover Lakeport CA
REFRESH-INTERVAL;VALUE=DURATION:PT1H
X-Robots-Tag:noindex
X-PUBLISHED-TTL:PT1H
BEGIN:VTIMEZONE
TZID:America/Los_Angeles
BEGIN:DAYLIGHT
TZOFFSETFROM:-0800
TZOFFSETTO:-0700
TZNAME:PDT
DTSTART:20250309T100000
END:DAYLIGHT
BEGIN:STANDARD
TZOFFSETFROM:-0700
TZOFFSETTO:-0800
TZNAME:PST
DTSTART:20251102T090000
END:STANDARD
BEGIN:DAYLIGHT
TZOFFSETFROM:-0800
TZOFFSETTO:-0700
TZNAME:PDT
DTSTART:20260308T100000
END:DAYLIGHT
BEGIN:STANDARD
TZOFFSETFROM:-0700
TZOFFSETTO:-0800
TZNAME:PST
DTSTART:20261101T090000
END:STANDARD
BEGIN:DAYLIGHT
TZOFFSETFROM:-0800
TZOFFSETTO:-0700
TZNAME:PDT
DTSTART:20270314T100000
END:DAYLIGHT
BEGIN:STANDARD
TZOFFSETFROM:-0700
TZOFFSETTO:-0800
TZNAME:PST
DTSTART:20271107T090000
END:STANDARD
END:VTIMEZONE
BEGIN:VEVENT
DTSTART;TZID=America/Los_Angeles:20260522T073000
DTEND;TZID=America/Los_Angeles:20260522T160000
DTSTAMP:20260419T180830
CREATED:20251114T000312Z
LAST-MODIFIED:20251114T000312Z
UID:10007090-1779435000-1779465600@www.discoverlakeportca.com
SUMMARY:CRV Buyback Recycling
DESCRIPTION:♻️ CRV Buy Back Recycling is coming to Lake County! ♻️ \nBring your CRV-eligible bottles and cans for redemption every Friday in Lakeport (1285 S. Main St.) and every Saturday in Lower Lake (9205 State HWY 53). \nHours: 7:30 a.m. – 4:00 p.m. (Closed for lunch 12:00–12:30 p.m.) \nPlease note: We strictly close at 4:00 p.m. No exceptions due to state regulations! Arrive early to ensure you’re served. \nBring your valid California ID\, keep containers clean and dry. \nPlease check the flier for daily limits and eligible items. \nQuestions? Call 707-234-6400 or visit CandSwaste.com. \nLet’s recycle right\, Lake County!
URL:https://www.discoverlakeportca.com/event/crv-buyback-recycling/2026-05-22/
LOCATION:Grocery Outlet Shopping Center\, 1285 S. Main Street\, Lakeport\, CA\, 95453\, United States
CATEGORIES:Event
ATTACH;FMTTYPE=image/jpeg:https://www.discoverlakeportca.com/wp-content/uploads/2025/11/fb_img_17624926993221978917777296919944.jpg
END:VEVENT
BEGIN:VEVENT
DTSTART;TZID=America/Los_Angeles:20260522T160000
DTEND;TZID=America/Los_Angeles:20260522T190000
DTSTAMP:20260419T180830
CREATED:20250420T002811Z
LAST-MODIFIED:20250420T002811Z
UID:10005176-1779465600-1779476400@www.discoverlakeportca.com
SUMMARY:Friday Night Pizza at The Mercantile
DESCRIPTION:Join us at The Mercantile from 4pm-7pm weekly and enjoy delicious eats + your favorite Shannon Ridge wines with featured purveyors:\nTaco Tuesday with La ChilanguitaBuck Shack + Burgers with Saw Shop SawmillThirsty Thursday with Rosie’s Bread n’ ButterPizza Friday with DoughBaby Artisan Pizza\n4350 Thomas Drive at Hwy 29\, Lakeport.See you there!
URL:https://www.discoverlakeportca.com/event/friday-night-pizza-at-the-mercantile/2026-05-22/
LOCATION:The Mercantile\, 4350 Thomas Drive\, Lakeport\, CA\, 95453\, United States
CATEGORIES:Event
ATTACH;FMTTYPE=image/jpeg:https://www.discoverlakeportca.com/wp-content/uploads/2025/04/488601747_1158863752704024_1101425532161592079_n.jpg
END:VEVENT
END:VCALENDAR