BEGIN:VCALENDAR
VERSION:2.0
PRODID:-//Discover Lakeport CA - ECPv6.15.20//NONSGML v1.0//EN
CALSCALE:GREGORIAN
METHOD:PUBLISH
X-WR-CALNAME:Discover Lakeport CA
X-ORIGINAL-URL:https://www.discoverlakeportca.com
X-WR-CALDESC:Events for Discover Lakeport CA
REFRESH-INTERVAL;VALUE=DURATION:PT1H
X-Robots-Tag:noindex
X-PUBLISHED-TTL:PT1H
BEGIN:VTIMEZONE
TZID:America/Los_Angeles
BEGIN:DAYLIGHT
TZOFFSETFROM:-0800
TZOFFSETTO:-0700
TZNAME:PDT
DTSTART:20250309T100000
END:DAYLIGHT
BEGIN:STANDARD
TZOFFSETFROM:-0700
TZOFFSETTO:-0800
TZNAME:PST
DTSTART:20251102T090000
END:STANDARD
BEGIN:DAYLIGHT
TZOFFSETFROM:-0800
TZOFFSETTO:-0700
TZNAME:PDT
DTSTART:20260308T100000
END:DAYLIGHT
BEGIN:STANDARD
TZOFFSETFROM:-0700
TZOFFSETTO:-0800
TZNAME:PST
DTSTART:20261101T090000
END:STANDARD
BEGIN:DAYLIGHT
TZOFFSETFROM:-0800
TZOFFSETTO:-0700
TZNAME:PDT
DTSTART:20270314T100000
END:DAYLIGHT
BEGIN:STANDARD
TZOFFSETFROM:-0700
TZOFFSETTO:-0800
TZNAME:PST
DTSTART:20271107T090000
END:STANDARD
END:VTIMEZONE
BEGIN:VEVENT
DTSTART;TZID=America/Los_Angeles:20260516T090000
DTEND;TZID=America/Los_Angeles:20260516T120000
DTSTAMP:20260419T205800
CREATED:20260323T185523Z
LAST-MODIFIED:20260323T185523Z
UID:10007802-1778922000-1778932800@www.discoverlakeportca.com
SUMMARY:Lakeport Downtown Beautification Day
DESCRIPTION:Join us for Lakeport Beautification Day on Saturday\, May 16\, from 9:00 AM to 12:00 PM! This community event is a great opportunity to come together\, give back\, and help keep Lakeport looking its best. \nVolunteers of all ages are welcome to participate in sprucing up public spaces\, clearing debris\, and making our town shine. Whether you can stay for an hour or the whole morning\, every helping hand makes a difference. \nWhat to bring: gloves\, rakes\, blowers\, dusters\, and brooms. \nLet’s work together to make Lakeport cleaner\, greener\, and more beautiful. We hope to see you there!  We will meet in front of the Museum!
URL:https://www.discoverlakeportca.com/event/lakeport-downtown-beautification-day/
LOCATION:Historic Courthouse Museum\, 255 N. Main Street\, Lakeport\, CA\, 95453\, United States
CATEGORIES:Event
ATTACH;FMTTYPE=image/jpeg:https://www.discoverlakeportca.com/wp-content/uploads/2026/03/Downtown-Lakeport-Beautification-Day.jpg
END:VEVENT
BEGIN:VEVENT
DTSTART;TZID=America/Los_Angeles:20260516T100000
DTEND;TZID=America/Los_Angeles:20260516T130000
DTSTAMP:20260419T205800
CREATED:20250310T210112Z
LAST-MODIFIED:20250310T210112Z
UID:10003776-1778925600-1778936400@www.discoverlakeportca.com
SUMMARY:Farmer's Market at The Mercantile
DESCRIPTION:The Saturday Market is at 4350 Thomas Drive (the Mercantile)\, off Hwy 29 between Lakeport and Kelseyville\, across from Rainbow AG.\, Lakeport\, CA\, United States\, California \nDiscover the best of our community at the Farmer’s Market! Stroll through a vibrant gathering of local farmers\, artisans\, and makers\, offering a delightful array of fresh produce\, handmade crafts\, and unique goods. \n🍎 What You’ll Find: \n\nFresh\, seasonal fruits and vegetables straight from local farms.\nArtisan bread\, honey\, jams\, and more.\nHandmade crafts\, jewelry\, and gifts perfect for any occasion.\nLive music and a welcoming atmosphere for the whole family.\n\nBring your friends and family\, support local businesses\, and experience the heart of our community. Don’t miss this celebration of fresh food\, creativity\, and connection
URL:https://www.discoverlakeportca.com/event/farmers-market-at-the-mercantile/2026-05-16/
LOCATION:The Mercantile\, 4350 Thomas Drive\, Lakeport\, CA\, 95453\, United States
CATEGORIES:Event
ATTACH;FMTTYPE=image/jpeg:https://www.discoverlakeportca.com/wp-content/uploads/2024/12/459910638_535159988873980_7135235949609434166_n.jpg
END:VEVENT
BEGIN:VEVENT
DTSTART;TZID=America/Los_Angeles:20260516T100000
DTEND;TZID=America/Los_Angeles:20260516T140000
DTSTAMP:20260419T205800
CREATED:20260317T210203Z
LAST-MODIFIED:20260317T210203Z
UID:10007795-1778925600-1778940000@www.discoverlakeportca.com
SUMMARY:Big Valley Small Farms Tour
DESCRIPTION:Save the date!  Saturday\, May 16th is our annual spring Big Valley Small Farms Tour.  We look forward to welcoming you to our farm.
URL:https://www.discoverlakeportca.com/event/big-valley-small-farms-tour/
LOCATION:CA
CATEGORIES:Event
ATTACH;FMTTYPE=image/jpeg:https://www.discoverlakeportca.com/wp-content/uploads/2026/03/fb_img_17737040182565669496208003812750.jpg
END:VEVENT
BEGIN:VEVENT
DTSTART;TZID=America/Los_Angeles:20260516T130000
DTEND;TZID=America/Los_Angeles:20260516T150000
DTSTAMP:20260419T205800
CREATED:20260402T200811Z
LAST-MODIFIED:20260402T200811Z
UID:10007806-1778936400-1778943600@www.discoverlakeportca.com
SUMMARY:Dreams Catch Fire
DESCRIPTION:Center Stage Studios’ Spring Show 2026 “Dreams Catch Fire” is coming up Saturday\, May 16 at 1PM & 6PM at the Marge Alakzay Center in Lakeport. \nTickets on Sale April 1\, 2026 at www.centerstage.studio  \nHope to see you there!
URL:https://www.discoverlakeportca.com/event/dreams-catch-fire/2026-05-16/1/
LOCATION:Terrace Middle School MAC Auditorium\, 250 Lange Street\, Lakeport\, CA\, 95453\, United States
CATEGORIES:Event
ATTACH;FMTTYPE=image/jpeg:https://www.discoverlakeportca.com/wp-content/uploads/2026/03/fb_img_1775016708046702534523247123177.jpg
END:VEVENT
BEGIN:VEVENT
DTSTART;TZID=America/Los_Angeles:20260516T160000
DTEND;TZID=America/Los_Angeles:20260516T180000
DTSTAMP:20260419T205800
CREATED:20260312T174332Z
LAST-MODIFIED:20260312T174332Z
UID:10007766-1778947200-1778954400@www.discoverlakeportca.com
SUMMARY:Lake County Passion Play
DESCRIPTION:THE LAKE COUNTY OUTDOOR PASSION PLAY\nMAY 16th & 17th\, 2026\n7010 Westlake Road\nUpper Lake\, CA 95485\n707-263-0349\n\n\nThe play is presented in its entirety on both days (Saturday and Sunday in May\, the weekend following Mother’s Day).\n\n\nTime: 4:00 p.m.\nThe play lasts about 2 hours.\n\n\nLOCATION:\nThe Passion Play Grounds are located at 7010 Westlake Road\, Upper Lake\, CA 95485 (off Highway 29\, about 7 miles north of Lakeport in Lake County).\nThe sweeping vistas offered by our shoreline location in Upper Lake add great beauty and depth to our production.\nNestled in the foothills of Lake County\, just 2-1/2 hours north of San Francisco\, and 2 hours northwest of Sacramento\, you will find Clear Lake — California’s largest natural fresh water lake.\n\n\nAdmission is free.\n\n\nPlease call us if you have questions\, 707-263-0349.\n\n\nPlease bring your own chair.\n\n\nNo smoking\, food\, drinks\, or pets are allowed on the grounds. Fresh spring water is available.\n\n\nThe earliest dramatic representations of the Crucifixion\, in Latin verse\, were given early in the 13th Century. One hundred years later\, Passion Plays were being performed by amateur players in both German and French. At the height of their popularity\, in the middle of the 15th Century\, they had developed into elaborate productions requiring three days to perform.\n\n\nOf the passion Plays performed in modern times\, the best known is one dating from 1634 at Oberammergau in the Bavarian Alps. In 1939\, some immigrants from Germany presented the first performance of the Black Hills Passion Play in Spearfish\, South Dakota.\n\n\nMore than 150 players re-enact this most touching of dramas. Mounted Roman soldiers sweep across the 1\,000 foot stage; sheep wander across the hillside; a powerful sound system carries the dialogue faithfully drawn from Matthew\, Mark\, Luke\, and John. A talented team of directors\, producers\, and costume designers work throughout the year to create this experience.\n\n\nThe Passion Play is not a spectacle. Rather\, it is a prayerful expression of the faith of the people involved.\n\n\n\n\n\n\n\n\n\n\n\n\n\n\n\n\n\n\n\n\n\n\n\n\n\n\n\n\n\n\n\n\nlakecountypassionplay.org
URL:https://www.discoverlakeportca.com/event/lake-county-passion-play/2026-05-16/
LOCATION:Lake County Outdoor Passion Play Grounds\, 7010 Westlake Road\, Upper Lake\, California\, 95485\, United States
CATEGORIES:Event
ATTACH;FMTTYPE=image/jpeg:https://www.discoverlakeportca.com/wp-content/uploads/2026/03/fb_img_1772924222260806925524761675638.jpg
END:VEVENT
BEGIN:VEVENT
DTSTART;TZID=America/Los_Angeles:20260516T180000
DTEND;TZID=America/Los_Angeles:20260516T200000
DTSTAMP:20260419T205800
CREATED:20260402T200811Z
LAST-MODIFIED:20260402T200811Z
UID:10007807-1778954400-1778961600@www.discoverlakeportca.com
SUMMARY:Dreams Catch Fire
DESCRIPTION:Center Stage Studios’ Spring Show 2026 “Dreams Catch Fire” is coming up Saturday\, May 16 at 1PM & 6PM at the Marge Alakzay Center in Lakeport. \nTickets on Sale April 1\, 2026 at www.centerstage.studio  \nHope to see you there!
URL:https://www.discoverlakeportca.com/event/dreams-catch-fire/2026-05-16/2/
LOCATION:Terrace Middle School MAC Auditorium\, 250 Lange Street\, Lakeport\, CA\, 95453\, United States
CATEGORIES:Event
ATTACH;FMTTYPE=image/jpeg:https://www.discoverlakeportca.com/wp-content/uploads/2026/03/fb_img_1775016708046702534523247123177.jpg
END:VEVENT
END:VCALENDAR