BEGIN:VCALENDAR
VERSION:2.0
PRODID:-//Discover Lakeport CA - ECPv6.15.20//NONSGML v1.0//EN
CALSCALE:GREGORIAN
METHOD:PUBLISH
X-ORIGINAL-URL:https://www.discoverlakeportca.com
X-WR-CALDESC:Events for Discover Lakeport CA
REFRESH-INTERVAL;VALUE=DURATION:PT1H
X-Robots-Tag:noindex
X-PUBLISHED-TTL:PT1H
BEGIN:VTIMEZONE
TZID:America/Los_Angeles
BEGIN:DAYLIGHT
TZOFFSETFROM:-0800
TZOFFSETTO:-0700
TZNAME:PDT
DTSTART:20250309T100000
END:DAYLIGHT
BEGIN:STANDARD
TZOFFSETFROM:-0700
TZOFFSETTO:-0800
TZNAME:PST
DTSTART:20251102T090000
END:STANDARD
BEGIN:DAYLIGHT
TZOFFSETFROM:-0800
TZOFFSETTO:-0700
TZNAME:PDT
DTSTART:20260308T100000
END:DAYLIGHT
BEGIN:STANDARD
TZOFFSETFROM:-0700
TZOFFSETTO:-0800
TZNAME:PST
DTSTART:20261101T090000
END:STANDARD
BEGIN:DAYLIGHT
TZOFFSETFROM:-0800
TZOFFSETTO:-0700
TZNAME:PDT
DTSTART:20270314T100000
END:DAYLIGHT
BEGIN:STANDARD
TZOFFSETFROM:-0700
TZOFFSETTO:-0800
TZNAME:PST
DTSTART:20271107T090000
END:STANDARD
END:VTIMEZONE
BEGIN:VEVENT
DTSTART;TZID=America/Los_Angeles:20260511T173000
DTEND;TZID=America/Los_Angeles:20260511T193000
DTSTAMP:20260419T181100
CREATED:20260415T192015Z
LAST-MODIFIED:20260415T192015Z
UID:10007827-1778520600-1778527800@www.discoverlakeportca.com
SUMMARY:B2B Mixer & Ribbon Cutting
DESCRIPTION:Join the Lake County Chamber of Commerce and the Economic Development Corporation for a dynamic B2B Mixer at Skylark Shores Resort. This high-energy networking event will feature a tabling showcase of local and regional businesses\, giving attendees the chance to connect\, collaborate\, and discover new opportunities across industries.\nEnjoy light food offerings\, wine available for purchase\, and a raffle with great prizes throughout the evening. The event will also include a special ribbon cutting ceremony to celebrate the grand opening of Skylark Shores’ new conference room—an exciting addition to Lake County’s business and event landscape.\nChamber members are invited to participate with a table to highlight their business and engage directly with fellow professionals. Interested in tabling? Be sure to fill out the form linked on the registration page.\nFree to Attend.Registration Encouraged!\nhttps://support.lakecochamber.com/…/b2b-mixer-ribbon…
URL:https://www.discoverlakeportca.com/event/b2b-mixer-ribbon-cutting/
LOCATION:CA
CATEGORIES:Event
ATTACH;FMTTYPE=image/jpeg:https://www.discoverlakeportca.com/wp-content/uploads/2026/04/657550470_1434723308693937_5415007890245993030_n.jpg
END:VEVENT
END:VCALENDAR