BEGIN:VCALENDAR
VERSION:2.0
PRODID:-//Discover Lakeport CA - ECPv6.15.20//NONSGML v1.0//EN
CALSCALE:GREGORIAN
METHOD:PUBLISH
X-WR-CALNAME:Discover Lakeport CA
X-ORIGINAL-URL:https://www.discoverlakeportca.com
X-WR-CALDESC:Events for Discover Lakeport CA
REFRESH-INTERVAL;VALUE=DURATION:PT1H
X-Robots-Tag:noindex
X-PUBLISHED-TTL:PT1H
BEGIN:VTIMEZONE
TZID:America/Los_Angeles
BEGIN:DAYLIGHT
TZOFFSETFROM:-0800
TZOFFSETTO:-0700
TZNAME:PDT
DTSTART:20250309T100000
END:DAYLIGHT
BEGIN:STANDARD
TZOFFSETFROM:-0700
TZOFFSETTO:-0800
TZNAME:PST
DTSTART:20251102T090000
END:STANDARD
BEGIN:DAYLIGHT
TZOFFSETFROM:-0800
TZOFFSETTO:-0700
TZNAME:PDT
DTSTART:20260308T100000
END:DAYLIGHT
BEGIN:STANDARD
TZOFFSETFROM:-0700
TZOFFSETTO:-0800
TZNAME:PST
DTSTART:20261101T090000
END:STANDARD
BEGIN:DAYLIGHT
TZOFFSETFROM:-0800
TZOFFSETTO:-0700
TZNAME:PDT
DTSTART:20270314T100000
END:DAYLIGHT
BEGIN:STANDARD
TZOFFSETFROM:-0700
TZOFFSETTO:-0800
TZNAME:PST
DTSTART:20271107T090000
END:STANDARD
END:VTIMEZONE
BEGIN:VEVENT
DTSTART;TZID=America/Los_Angeles:20260416T160000
DTEND;TZID=America/Los_Angeles:20260416T190000
DTSTAMP:20260419T165750
CREATED:20250420T002620Z
LAST-MODIFIED:20250420T002654Z
UID:10005082-1776355200-1776366000@www.discoverlakeportca.com
SUMMARY:Thirsty Thursday at The Mercantile
DESCRIPTION:Join us at The Mercantile from 4pm-7pm weekly and enjoy delicious eats + your favorite Shannon Ridge wines with featured purveyors:\nTaco Tuesday with La ChilanguitaBuck Shack + Burgers with Saw Shop SawmillThirsty Thursday with Rosie’s Bread n’ ButterPizza Friday with DoughBaby Artisan Pizza\n4350 Thomas Drive at Hwy 29\, Lakeport.See you there!
URL:https://www.discoverlakeportca.com/event/thirsty-thursday-at-the-mercantile/2026-04-16/
LOCATION:The Mercantile\, 4350 Thomas Drive\, Lakeport\, CA\, 95453\, United States
CATEGORIES:Event
ATTACH;FMTTYPE=image/jpeg:https://www.discoverlakeportca.com/wp-content/uploads/2025/04/488601747_1158863752704024_1101425532161592079_n.jpg
END:VEVENT
BEGIN:VEVENT
DTSTART;TZID=America/Los_Angeles:20260416T180000
DTEND;TZID=America/Los_Angeles:20260416T200000
DTSTAMP:20260419T165750
CREATED:20251216T211145Z
LAST-MODIFIED:20251216T211145Z
UID:10007360-1776362400-1776369600@www.discoverlakeportca.com
SUMMARY:Operation Tango Mike Monthly Packing Party
DESCRIPTION:Join us at Columbia Bank to put together the monthly packages for our troops!  Support our troops! Honor our veterans! Never forget our fallen!
URL:https://www.discoverlakeportca.com/event/operation-tango-mike-monthly-packing-party-4/2026-04-16/
LOCATION:Columbia Bank\, 805 11th Street\, Lakeport\, CA\, 95453\, United States
CATEGORIES:Event
ATTACH;FMTTYPE=image/jpeg:https://www.discoverlakeportca.com/wp-content/uploads/2025/12/518295864_1199779282194471_6855842319688047897_n.jpg
END:VEVENT
END:VCALENDAR