BEGIN:VCALENDAR
VERSION:2.0
PRODID:-//Discover Lakeport CA - ECPv6.15.20//NONSGML v1.0//EN
CALSCALE:GREGORIAN
METHOD:PUBLISH
X-WR-CALNAME:Discover Lakeport CA
X-ORIGINAL-URL:https://www.discoverlakeportca.com
X-WR-CALDESC:Events for Discover Lakeport CA
REFRESH-INTERVAL;VALUE=DURATION:PT1H
X-Robots-Tag:noindex
X-PUBLISHED-TTL:PT1H
BEGIN:VTIMEZONE
TZID:America/Los_Angeles
BEGIN:DAYLIGHT
TZOFFSETFROM:-0800
TZOFFSETTO:-0700
TZNAME:PDT
DTSTART:20250309T100000
END:DAYLIGHT
BEGIN:STANDARD
TZOFFSETFROM:-0700
TZOFFSETTO:-0800
TZNAME:PST
DTSTART:20251102T090000
END:STANDARD
BEGIN:DAYLIGHT
TZOFFSETFROM:-0800
TZOFFSETTO:-0700
TZNAME:PDT
DTSTART:20260308T100000
END:DAYLIGHT
BEGIN:STANDARD
TZOFFSETFROM:-0700
TZOFFSETTO:-0800
TZNAME:PST
DTSTART:20261101T090000
END:STANDARD
BEGIN:DAYLIGHT
TZOFFSETFROM:-0800
TZOFFSETTO:-0700
TZNAME:PDT
DTSTART:20270314T100000
END:DAYLIGHT
BEGIN:STANDARD
TZOFFSETFROM:-0700
TZOFFSETTO:-0800
TZNAME:PST
DTSTART:20271107T090000
END:STANDARD
END:VTIMEZONE
BEGIN:VEVENT
DTSTART;TZID=America/Los_Angeles:20260404T100000
DTEND;TZID=America/Los_Angeles:20260404T130000
DTSTAMP:20260419T182647
CREATED:20250310T210112Z
LAST-MODIFIED:20250310T210112Z
UID:10003770-1775296800-1775307600@www.discoverlakeportca.com
SUMMARY:Farmer's Market at The Mercantile
DESCRIPTION:The Saturday Market is at 4350 Thomas Drive (the Mercantile)\, off Hwy 29 between Lakeport and Kelseyville\, across from Rainbow AG.\, Lakeport\, CA\, United States\, California \nDiscover the best of our community at the Farmer’s Market! Stroll through a vibrant gathering of local farmers\, artisans\, and makers\, offering a delightful array of fresh produce\, handmade crafts\, and unique goods. \n🍎 What You’ll Find: \n\nFresh\, seasonal fruits and vegetables straight from local farms.\nArtisan bread\, honey\, jams\, and more.\nHandmade crafts\, jewelry\, and gifts perfect for any occasion.\nLive music and a welcoming atmosphere for the whole family.\n\nBring your friends and family\, support local businesses\, and experience the heart of our community. Don’t miss this celebration of fresh food\, creativity\, and connection
URL:https://www.discoverlakeportca.com/event/farmers-market-at-the-mercantile/2026-04-04/
LOCATION:The Mercantile\, 4350 Thomas Drive\, Lakeport\, CA\, 95453\, United States
CATEGORIES:Event
ATTACH;FMTTYPE=image/jpeg:https://www.discoverlakeportca.com/wp-content/uploads/2024/12/459910638_535159988873980_7135235949609434166_n.jpg
END:VEVENT
BEGIN:VEVENT
DTSTART;TZID=America/Los_Angeles:20260404T120000
DTEND;TZID=America/Los_Angeles:20260404T160000
DTSTAMP:20260419T182647
CREATED:20260402T202209Z
LAST-MODIFIED:20260402T202209Z
UID:10007810-1775304000-1775318400@www.discoverlakeportca.com
SUMMARY:Autism Celebration Event
DESCRIPTION:Save the Date! 4th Annual Autism Celebration Event Come out for the 4th Annual Autism Celebration Event hosted by Autism Advocacy and Intervention! Saturday\, April 4 12:00 – 4:00 PM Xabatin Park\, LakeportEnjoy a fun-filled afternoon with outdoor games\, popcorn\, cotton candy\, and special appearances from local organizations—all while celebrating and supporting the autism community. Free entry for all!Mark your calendars and stay tuned for more details!
URL:https://www.discoverlakeportca.com/event/autism-celebration-event/
LOCATION:Xabatin Community Park\, 800 N. Main Street\, Lakeport\, CA\, 95453\, United States
CATEGORIES:Event
ATTACH;FMTTYPE=image/jpeg:https://www.discoverlakeportca.com/wp-content/uploads/2026/04/658047853_1356999769795851_3185633930114516391_n.jpg
END:VEVENT
END:VCALENDAR