BEGIN:VCALENDAR
VERSION:2.0
PRODID:-//Discover Lakeport CA - ECPv6.15.20//NONSGML v1.0//EN
CALSCALE:GREGORIAN
METHOD:PUBLISH
X-ORIGINAL-URL:https://www.discoverlakeportca.com
X-WR-CALDESC:Events for Discover Lakeport CA
REFRESH-INTERVAL;VALUE=DURATION:PT1H
X-Robots-Tag:noindex
X-PUBLISHED-TTL:PT1H
BEGIN:VTIMEZONE
TZID:America/Los_Angeles
BEGIN:DAYLIGHT
TZOFFSETFROM:-0800
TZOFFSETTO:-0700
TZNAME:PDT
DTSTART:20250309T100000
END:DAYLIGHT
BEGIN:STANDARD
TZOFFSETFROM:-0700
TZOFFSETTO:-0800
TZNAME:PST
DTSTART:20251102T090000
END:STANDARD
BEGIN:DAYLIGHT
TZOFFSETFROM:-0800
TZOFFSETTO:-0700
TZNAME:PDT
DTSTART:20260308T100000
END:DAYLIGHT
BEGIN:STANDARD
TZOFFSETFROM:-0700
TZOFFSETTO:-0800
TZNAME:PST
DTSTART:20261101T090000
END:STANDARD
BEGIN:DAYLIGHT
TZOFFSETFROM:-0800
TZOFFSETTO:-0700
TZNAME:PDT
DTSTART:20270314T100000
END:DAYLIGHT
BEGIN:STANDARD
TZOFFSETFROM:-0700
TZOFFSETTO:-0800
TZNAME:PST
DTSTART:20271107T090000
END:STANDARD
END:VTIMEZONE
BEGIN:VEVENT
DTSTART;TZID=America/Los_Angeles:20260327T073000
DTEND;TZID=America/Los_Angeles:20260327T160000
DTSTAMP:20260419T195718
CREATED:20251114T000312Z
LAST-MODIFIED:20251114T000312Z
UID:10007082-1774596600-1774627200@www.discoverlakeportca.com
SUMMARY:CRV Buyback Recycling
DESCRIPTION:♻️ CRV Buy Back Recycling is coming to Lake County! ♻️ \nBring your CRV-eligible bottles and cans for redemption every Friday in Lakeport (1285 S. Main St.) and every Saturday in Lower Lake (9205 State HWY 53). \nHours: 7:30 a.m. – 4:00 p.m. (Closed for lunch 12:00–12:30 p.m.) \nPlease note: We strictly close at 4:00 p.m. No exceptions due to state regulations! Arrive early to ensure you’re served. \nBring your valid California ID\, keep containers clean and dry. \nPlease check the flier for daily limits and eligible items. \nQuestions? Call 707-234-6400 or visit CandSwaste.com. \nLet’s recycle right\, Lake County!
URL:https://www.discoverlakeportca.com/event/crv-buyback-recycling/2026-03-27/
LOCATION:Grocery Outlet Shopping Center\, 1285 S. Main Street\, Lakeport\, CA\, 95453\, United States
CATEGORIES:Event
ATTACH;FMTTYPE=image/jpeg:https://www.discoverlakeportca.com/wp-content/uploads/2025/11/fb_img_17624926993221978917777296919944.jpg
END:VEVENT
BEGIN:VEVENT
DTSTART;TZID=America/Los_Angeles:20260327T160000
DTEND;TZID=America/Los_Angeles:20260327T190000
DTSTAMP:20260419T195718
CREATED:20250420T002811Z
LAST-MODIFIED:20250420T002811Z
UID:10005168-1774627200-1774638000@www.discoverlakeportca.com
SUMMARY:Friday Night Pizza at The Mercantile
DESCRIPTION:Join us at The Mercantile from 4pm-7pm weekly and enjoy delicious eats + your favorite Shannon Ridge wines with featured purveyors:\nTaco Tuesday with La ChilanguitaBuck Shack + Burgers with Saw Shop SawmillThirsty Thursday with Rosie’s Bread n’ ButterPizza Friday with DoughBaby Artisan Pizza\n4350 Thomas Drive at Hwy 29\, Lakeport.See you there!
URL:https://www.discoverlakeportca.com/event/friday-night-pizza-at-the-mercantile/2026-03-27/
LOCATION:The Mercantile\, 4350 Thomas Drive\, Lakeport\, CA\, 95453\, United States
CATEGORIES:Event
ATTACH;FMTTYPE=image/jpeg:https://www.discoverlakeportca.com/wp-content/uploads/2025/04/488601747_1158863752704024_1101425532161592079_n.jpg
END:VEVENT
BEGIN:VEVENT
DTSTART;TZID=America/Los_Angeles:20260327T193000
DTEND;TZID=America/Los_Angeles:20260327T203000
DTSTAMP:20260419T195718
CREATED:20260322T194504Z
LAST-MODIFIED:20260322T194504Z
UID:10007800-1774639800-1774643400@www.discoverlakeportca.com
SUMMARY:The Untold Story of Apollo 15
DESCRIPTION:The Untold Story of Apollo 15\n  \nIn 1972 astronauts Steve Scott\, Jim Irwin\, and Al Worden embarked on an epic voyage of scientific discovery. Apollo 15 was the fourth moon landing and the most daring. Dave Scott piloted the lunar module through a mountain pass landing near the rim of a deep canyon. Why did NASA choose such a risky landing site? What were the scientific goals? \nSamples returned by Apollo 15 revolutionized our understanding of the moon\, the Earth\, and the Solar system.  Yet few people are aware it ever happened. Learn all about this amazing adventure in “The Untold Story of Apollo15”. \n Following this one hour presentation (weather permitting) guests are invited to view the night sky through the Observatory’s telescopes. \n Weather you’re a seasoned astronomer or just curious about the cosmos\, this event promises to be an unforgettable experience. This event is open to all Lake County families. This event will be hosted by Lake County Office of Education Astronomy expert Angelo Parisi. \nFor more information\, contact Angelo Parisi at aparisi@lakecoe.org \nWhen:  Friday March 27\, 2026 \nTime: 7:30 pm\nWhere: Taylor Observatory\n5725 Oak Hills Lane\, Kelseyville \nSeats are limited. \nFor tickets click the link below: \n  \nhttps://taylorobservatoryapollo26.eventbrite.com/
URL:https://www.discoverlakeportca.com/event/the-untold-story-of-apollo-15/
LOCATION:Taylor Observatory\, 5725 Oak Hills Lane\, Kelseyville\, CA\, 95451\, United States
CATEGORIES:Event
END:VEVENT
BEGIN:VEVENT
DTSTART;TZID=America/Los_Angeles:20260327T193000
DTEND;TZID=America/Los_Angeles:20260327T210000
DTSTAMP:20260419T195718
CREATED:20260312T232249Z
LAST-MODIFIED:20260312T232249Z
UID:10007791-1774639800-1774645200@www.discoverlakeportca.com
SUMMARY:Easter Egg Hunt at Skycatch Gymnastics
DESCRIPTION:
URL:https://www.discoverlakeportca.com/event/easter-egg-hunt-at-skycatch-gymnastics/
LOCATION:Skycatch Gymnastics\, 1833 N. High Street\, Lakeport\, CA\, 95453\, United States
CATEGORIES:Easter,Event
ATTACH;FMTTYPE=image/jpeg:https://www.discoverlakeportca.com/wp-content/uploads/2026/03/fb_img_17733551170573731063161461337539.jpg
END:VEVENT
BEGIN:VEVENT
DTSTART;TZID=America/Los_Angeles:20260327T193000
DTEND;TZID=America/Los_Angeles:20260327T210000
DTSTAMP:20260419T195718
CREATED:20260316T223418Z
LAST-MODIFIED:20260316T223418Z
UID:10007792-1774639800-1774645200@www.discoverlakeportca.com
SUMMARY:Kids Night Out Easter Egg Hunt at Skycatch Gymnastics
DESCRIPTION:Open gym play time!Easter craft time\, decorate your own snack box!Egg Hunt!Holiday fun!Great time to checkout Skycatch Gymnastics\, fun for the whole family!All ages\, limited space! Text me now for a payment link to hold your spot!Or pay with cash or Venmo!7073490655
URL:https://www.discoverlakeportca.com/event/kids-night-out-easter-egg-hunt-at-skycatch-gymnastics/
LOCATION:Skycatch Gymnastics\, 1833 N. High Street\, Lakeport\, CA\, 95453\, United States
CATEGORIES:Event
ATTACH;FMTTYPE=image/jpeg:https://www.discoverlakeportca.com/wp-content/uploads/2026/03/fb_img_17733551170573731063161461337539.jpg
END:VEVENT
END:VCALENDAR