BEGIN:VCALENDAR
VERSION:2.0
PRODID:-//Discover Lakeport CA - ECPv6.15.20//NONSGML v1.0//EN
CALSCALE:GREGORIAN
METHOD:PUBLISH
X-WR-CALNAME:Discover Lakeport CA
X-ORIGINAL-URL:https://www.discoverlakeportca.com
X-WR-CALDESC:Events for Discover Lakeport CA
REFRESH-INTERVAL;VALUE=DURATION:PT1H
X-Robots-Tag:noindex
X-PUBLISHED-TTL:PT1H
BEGIN:VTIMEZONE
TZID:America/Los_Angeles
BEGIN:DAYLIGHT
TZOFFSETFROM:-0800
TZOFFSETTO:-0700
TZNAME:PDT
DTSTART:20250309T100000
END:DAYLIGHT
BEGIN:STANDARD
TZOFFSETFROM:-0700
TZOFFSETTO:-0800
TZNAME:PST
DTSTART:20251102T090000
END:STANDARD
BEGIN:DAYLIGHT
TZOFFSETFROM:-0800
TZOFFSETTO:-0700
TZNAME:PDT
DTSTART:20260308T100000
END:DAYLIGHT
BEGIN:STANDARD
TZOFFSETFROM:-0700
TZOFFSETTO:-0800
TZNAME:PST
DTSTART:20261101T090000
END:STANDARD
BEGIN:DAYLIGHT
TZOFFSETFROM:-0800
TZOFFSETTO:-0700
TZNAME:PDT
DTSTART:20270314T100000
END:DAYLIGHT
BEGIN:STANDARD
TZOFFSETFROM:-0700
TZOFFSETTO:-0800
TZNAME:PST
DTSTART:20271107T090000
END:STANDARD
END:VTIMEZONE
BEGIN:VEVENT
DTSTART;TZID=America/Los_Angeles:20260325T110000
DTEND;TZID=America/Los_Angeles:20260325T150000
DTSTAMP:20260419T212747
CREATED:20250310T230837Z
LAST-MODIFIED:20250310T230837Z
UID:10004697-1774436400-1774450800@www.discoverlakeportca.com
SUMMARY:Blood Drive at United Christian Parish
DESCRIPTION:Give the Gift of Life: Join Us for a Blood Drive! \nYour donation can save lives! Join us at United Christian Parish for a community blood drive. Every pint of blood donated has the power to make a difference for patients in need—whether it’s for surgeries\, accidents\, or life-threatening conditions. \n✅ What to Expect: \n\nQuick and easy donation process.\nFriendly\, professional staff to guide you.\nRefreshments and snacks to enjoy afterward.\nA rewarding opportunity to give back to your community.\n\n📌 How to Prepare: \n\nDrink plenty of water and eat a healthy meal before donating.\nBring a valid photo ID.\nMake an appointment using the link below.\n\n💖 Every donor makes a difference! Whether you’re a first-time donor or a regular\, your contribution matters. Together\, we can save lives and make our community stronger. \n📞 Schedule Your Appointment: Visit Vitalant to reserve your spot today! Walk-ins are also welcome. \nLet’s come together and make an impact—one donation at a time. See you there!
URL:https://www.discoverlakeportca.com/event/blood-drive-at-united-christian-parish/2026-03-25/
LOCATION:United Christian Parish Lakeport\, 745 N. Brush Street\, Lakeport\, CA\, 95453\, United States
CATEGORIES:Event
ATTACH;FMTTYPE=image/png:https://www.discoverlakeportca.com/wp-content/uploads/2025/01/Red-White-Illustrative-Blood-Drive-Instagram-Post.png
END:VEVENT
BEGIN:VEVENT
DTSTART;TZID=America/Los_Angeles:20260325T160000
DTEND;TZID=America/Los_Angeles:20260325T190000
DTSTAMP:20260419T212747
CREATED:20250420T002526Z
LAST-MODIFIED:20250420T002858Z
UID:10005254-1774454400-1774465200@www.discoverlakeportca.com
SUMMARY:Buck Shack & Burgers at The Mercantile
DESCRIPTION:Join us at The Mercantile from 4pm-7pm weekly and enjoy delicious eats + your favorite Shannon Ridge wines with featured purveyors:\nTaco Tuesday with La ChilanguitaBuck Shack + Burgers with Saw Shop SawmillThirsty Thursday with Rosie’s Bread n’ ButterPizza Friday with DoughBaby Artisan Pizza\n4350 Thomas Drive at Hwy 29\, Lakeport.See you there!
URL:https://www.discoverlakeportca.com/event/buck-shack-burgers-at-the-mercantile/2026-03-25/
LOCATION:The Mercantile\, 4350 Thomas Drive\, Lakeport\, CA\, 95453\, United States
CATEGORIES:Event
ATTACH;FMTTYPE=image/jpeg:https://www.discoverlakeportca.com/wp-content/uploads/2025/04/488601747_1158863752704024_1101425532161592079_n.jpg
END:VEVENT
BEGIN:VEVENT
DTSTART;TZID=America/Los_Angeles:20260325T180000
DTEND;TZID=America/Los_Angeles:20260325T193000
DTSTAMP:20260419T212747
CREATED:20260322T192956Z
LAST-MODIFIED:20260322T192956Z
UID:10007798-1774461600-1774467000@www.discoverlakeportca.com
SUMMARY:EUTROPHIX TOWN HALL PRESENTATION
DESCRIPTION:EutroPHIX Town Hall \nWednesday\, March 25\, 2026\n6 PM to 7:30 PM\nOpen seating\nFree admission\n\nJoin EutroPHIX for a public Town Hall on the next step in restoring Clear Lake. Learn about the\nspring 2026 demonstration project and how it will help build the scientific foundation\, shared\nunderstanding\, and community momentum needed to guide future restoration. The presentation will\nbe followed by a public Q&A.
URL:https://www.discoverlakeportca.com/event/eutrophix-town-hall-presentation/
LOCATION:Soper Reese Community Theater\, 275 S. Main Street\, Lakeport\, CA\, 95453\, United States
CATEGORIES:Event
ATTACH;FMTTYPE=image/jpeg:https://www.discoverlakeportca.com/wp-content/uploads/2026/03/image.jpg
END:VEVENT
BEGIN:VEVENT
DTSTART;TZID=America/Los_Angeles:20260325T180000
DTEND;TZID=America/Los_Angeles:20260325T210000
DTSTAMP:20260419T212747
CREATED:20250616T211518Z
LAST-MODIFIED:20250616T211518Z
UID:10005726-1774461600-1774472400@www.discoverlakeportca.com
SUMMARY:Wednesday's Unplugged at On The Waterfront
DESCRIPTION:Join us at On The Waterfront as we open our outdoor patio for live music every Wednesday evening during the summer! \nDinner service starts at 6:00pm.\nDrive\, boat or walk down and stop by or make a reservation by calling 707-256-8000 or on-line at https://www.onthewaterfrontlakeport.com/reservations.\nON THE WATERFRONT RESTAURANTLake County’s Local Sustainable Restaurant60 Third St\, Lakeport\, CA – 707-256-8000https://www.onthewaterfrontlakeport.com/
URL:https://www.discoverlakeportca.com/event/wednesdays-unplugged-at-on-the-waterfront/2026-03-25/
LOCATION:On The Waterfront\, 60 3rd Street\, Lakeport\, CA\, 95453\, United States
CATEGORIES:Event,Music
ATTACH;FMTTYPE=image/jpeg:https://www.discoverlakeportca.com/wp-content/uploads/2025/06/fb_img_17497565213505977141277202060634.jpg
END:VEVENT
END:VCALENDAR