BEGIN:VCALENDAR
VERSION:2.0
PRODID:-//Discover Lakeport CA - ECPv6.15.20//NONSGML v1.0//EN
CALSCALE:GREGORIAN
METHOD:PUBLISH
X-WR-CALNAME:Discover Lakeport CA
X-ORIGINAL-URL:https://www.discoverlakeportca.com
X-WR-CALDESC:Events for Discover Lakeport CA
REFRESH-INTERVAL;VALUE=DURATION:PT1H
X-Robots-Tag:noindex
X-PUBLISHED-TTL:PT1H
BEGIN:VTIMEZONE
TZID:America/Los_Angeles
BEGIN:DAYLIGHT
TZOFFSETFROM:-0800
TZOFFSETTO:-0700
TZNAME:PDT
DTSTART:20250309T100000
END:DAYLIGHT
BEGIN:STANDARD
TZOFFSETFROM:-0700
TZOFFSETTO:-0800
TZNAME:PST
DTSTART:20251102T090000
END:STANDARD
BEGIN:DAYLIGHT
TZOFFSETFROM:-0800
TZOFFSETTO:-0700
TZNAME:PDT
DTSTART:20260308T100000
END:DAYLIGHT
BEGIN:STANDARD
TZOFFSETFROM:-0700
TZOFFSETTO:-0800
TZNAME:PST
DTSTART:20261101T090000
END:STANDARD
BEGIN:DAYLIGHT
TZOFFSETFROM:-0800
TZOFFSETTO:-0700
TZNAME:PDT
DTSTART:20270314T100000
END:DAYLIGHT
BEGIN:STANDARD
TZOFFSETFROM:-0700
TZOFFSETTO:-0800
TZNAME:PST
DTSTART:20271107T090000
END:STANDARD
END:VTIMEZONE
BEGIN:VEVENT
DTSTART;TZID=America/Los_Angeles:20260319T153000
DTEND;TZID=America/Los_Angeles:20260319T170000
DTSTAMP:20260419T182642
CREATED:20260209T182633Z
LAST-MODIFIED:20260209T182633Z
UID:10007667-1773934200-1773939600@www.discoverlakeportca.com
SUMMARY:Puppetry In Action
DESCRIPTION:Register on Eventbrite at: Puppetry2026.eventbrite.com\nCome join us at Hance Community School Room 1 on March 19\, 2026\, at 3:30 PM for a fun-filled event showcasing the magic of puppetry in the classroom!\nGet ready to embark on an exciting journey where education\, creativity\, and laughter collide. This training is designed for Preschool-1st-grade teachers.\nBy the end of the session\, participants will be able to:Demonstrate at least two puppet techniques (voice\, movement\, character building) that actively engage young learners.\nDesign a short puppet-based activity or story that reinforces a key early learning concept (literacy\, SEL\, or problem-solving)Integrate puppetry into lesson planning to support multiple learning styles and developmental needs.\nModel strategies for student participation using puppets to build confidence\, creativity\, and communication skills.\nIdentify at least three classroom benefits of puppetry\, including language development\, social-emotional growth\, and student engagement.\nFor more information\, please contact Carly Swatosh at cswatosh@lakecoe.org.
URL:https://www.discoverlakeportca.com/event/puppetry-in-action/
LOCATION:Hance Community School\, 1510 Argonaut Road\, Lakeport\, CA\, 95453\, United States
CATEGORIES:Event
ATTACH;FMTTYPE=image/jpeg:https://www.discoverlakeportca.com/wp-content/uploads/2026/02/627391265_1308637181302183_7538318955132366570_n.jpg
END:VEVENT
BEGIN:VEVENT
DTSTART;TZID=America/Los_Angeles:20260319T160000
DTEND;TZID=America/Los_Angeles:20260319T190000
DTSTAMP:20260419T182642
CREATED:20250420T002620Z
LAST-MODIFIED:20250420T002654Z
UID:10005078-1773936000-1773946800@www.discoverlakeportca.com
SUMMARY:Thirsty Thursday at The Mercantile
DESCRIPTION:Join us at The Mercantile from 4pm-7pm weekly and enjoy delicious eats + your favorite Shannon Ridge wines with featured purveyors:\nTaco Tuesday with La ChilanguitaBuck Shack + Burgers with Saw Shop SawmillThirsty Thursday with Rosie’s Bread n’ ButterPizza Friday with DoughBaby Artisan Pizza\n4350 Thomas Drive at Hwy 29\, Lakeport.See you there!
URL:https://www.discoverlakeportca.com/event/thirsty-thursday-at-the-mercantile/2026-03-19/
LOCATION:The Mercantile\, 4350 Thomas Drive\, Lakeport\, CA\, 95453\, United States
CATEGORIES:Event
ATTACH;FMTTYPE=image/jpeg:https://www.discoverlakeportca.com/wp-content/uploads/2025/04/488601747_1158863752704024_1101425532161592079_n.jpg
END:VEVENT
BEGIN:VEVENT
DTSTART;TZID=America/Los_Angeles:20260319T180000
DTEND;TZID=America/Los_Angeles:20260319T200000
DTSTAMP:20260419T182642
CREATED:20251216T211145Z
LAST-MODIFIED:20251216T211145Z
UID:10007359-1773943200-1773950400@www.discoverlakeportca.com
SUMMARY:Operation Tango Mike Monthly Packing Party
DESCRIPTION:Join us at Columbia Bank to put together the monthly packages for our troops!  Support our troops! Honor our veterans! Never forget our fallen!
URL:https://www.discoverlakeportca.com/event/operation-tango-mike-monthly-packing-party-4/2026-03-19/
LOCATION:Columbia Bank\, 805 11th Street\, Lakeport\, CA\, 95453\, United States
CATEGORIES:Event
ATTACH;FMTTYPE=image/jpeg:https://www.discoverlakeportca.com/wp-content/uploads/2025/12/518295864_1199779282194471_6855842319688047897_n.jpg
END:VEVENT
END:VCALENDAR