BEGIN:VCALENDAR
VERSION:2.0
PRODID:-//Discover Lakeport CA - ECPv6.15.20//NONSGML v1.0//EN
CALSCALE:GREGORIAN
METHOD:PUBLISH
X-WR-CALNAME:Discover Lakeport CA
X-ORIGINAL-URL:https://www.discoverlakeportca.com
X-WR-CALDESC:Events for Discover Lakeport CA
REFRESH-INTERVAL;VALUE=DURATION:PT1H
X-Robots-Tag:noindex
X-PUBLISHED-TTL:PT1H
BEGIN:VTIMEZONE
TZID:America/Los_Angeles
BEGIN:DAYLIGHT
TZOFFSETFROM:-0800
TZOFFSETTO:-0700
TZNAME:PDT
DTSTART:20250309T100000
END:DAYLIGHT
BEGIN:STANDARD
TZOFFSETFROM:-0700
TZOFFSETTO:-0800
TZNAME:PST
DTSTART:20251102T090000
END:STANDARD
BEGIN:DAYLIGHT
TZOFFSETFROM:-0800
TZOFFSETTO:-0700
TZNAME:PDT
DTSTART:20260308T100000
END:DAYLIGHT
BEGIN:STANDARD
TZOFFSETFROM:-0700
TZOFFSETTO:-0800
TZNAME:PST
DTSTART:20261101T090000
END:STANDARD
BEGIN:DAYLIGHT
TZOFFSETFROM:-0800
TZOFFSETTO:-0700
TZNAME:PDT
DTSTART:20270314T100000
END:DAYLIGHT
BEGIN:STANDARD
TZOFFSETFROM:-0700
TZOFFSETTO:-0800
TZNAME:PST
DTSTART:20271107T090000
END:STANDARD
END:VTIMEZONE
BEGIN:VEVENT
DTSTART;TZID=America/Los_Angeles:20260314T050000
DTEND;TZID=America/Los_Angeles:20260314T160000
DTSTAMP:20260419T212742
CREATED:20251211T222948Z
LAST-MODIFIED:20251211T222948Z
UID:10007343-1773464400-1773504000@www.discoverlakeportca.com
SUMMARY:Clear Lake Team Bass Tournament
DESCRIPTION:Sign ups will begin IN PERSON for ONE DAY ONLY  on Tuesday February 3\, 2026\, 9:00am – 5:00p at 875 Lakeport Blvd\, Lakeport\, CA \nAfter Feb 3rd all sign-ups will be done ONLINE and will close on March 12th at 5:00pm.  \n$1000 Biggest Fish each day\n$1000 Heaviest Bag of the Tournament\n80% Payout
URL:https://www.discoverlakeportca.com/event/clear-lake-team-bass-tournament/2026-03-14/
LOCATION:Library Park\, 200 Park Street\, Lakeport\, CA\, 95453\, United States
CATEGORIES:Event,Fishing
ATTACH;FMTTYPE=image/jpeg:https://www.discoverlakeportca.com/wp-content/uploads/2025/12/fb_img_17648046122183649879309977695426.jpg
END:VEVENT
BEGIN:VEVENT
DTSTART;TZID=America/Los_Angeles:20260314T100000
DTEND;TZID=America/Los_Angeles:20260314T120000
DTSTAMP:20260419T212742
CREATED:20250310T213455Z
LAST-MODIFIED:20250310T213455Z
UID:10004579-1773482400-1773489600@www.discoverlakeportca.com
SUMMARY:Ladies of the Lake Quilt Guild Monthly Meeting
DESCRIPTION:Each meeting starts with a small business portion and is immediately followed by a program given by a skilled\, experienced quilter. Refreshments are served during a break. After the break we have “Show and Tell” during which members display their completed quilting projects. There are drawings at every meeting with various prizes. All levels are welcome to attend!
URL:https://www.discoverlakeportca.com/event/ladies-of-the-lake-quilt-guild-monthly-meeting/2026-03-14/
LOCATION:United Christian Parish Lakeport\, 745 N. Brush Street\, Lakeport\, CA\, 95453\, United States
CATEGORIES:Event
ATTACH;FMTTYPE=image/jpeg:https://www.discoverlakeportca.com/wp-content/uploads/2024/12/Ladies-of-the-Lake.jpg
END:VEVENT
BEGIN:VEVENT
DTSTART;TZID=America/Los_Angeles:20260314T100000
DTEND;TZID=America/Los_Angeles:20260314T130000
DTSTAMP:20260419T212742
CREATED:20250310T210112Z
LAST-MODIFIED:20250310T210112Z
UID:10003767-1773482400-1773493200@www.discoverlakeportca.com
SUMMARY:Farmer's Market at The Mercantile
DESCRIPTION:The Saturday Market is at 4350 Thomas Drive (the Mercantile)\, off Hwy 29 between Lakeport and Kelseyville\, across from Rainbow AG.\, Lakeport\, CA\, United States\, California \nDiscover the best of our community at the Farmer’s Market! Stroll through a vibrant gathering of local farmers\, artisans\, and makers\, offering a delightful array of fresh produce\, handmade crafts\, and unique goods. \n🍎 What You’ll Find: \n\nFresh\, seasonal fruits and vegetables straight from local farms.\nArtisan bread\, honey\, jams\, and more.\nHandmade crafts\, jewelry\, and gifts perfect for any occasion.\nLive music and a welcoming atmosphere for the whole family.\n\nBring your friends and family\, support local businesses\, and experience the heart of our community. Don’t miss this celebration of fresh food\, creativity\, and connection
URL:https://www.discoverlakeportca.com/event/farmers-market-at-the-mercantile/2026-03-14/
LOCATION:The Mercantile\, 4350 Thomas Drive\, Lakeport\, CA\, 95453\, United States
CATEGORIES:Event
ATTACH;FMTTYPE=image/jpeg:https://www.discoverlakeportca.com/wp-content/uploads/2024/12/459910638_535159988873980_7135235949609434166_n.jpg
END:VEVENT
BEGIN:VEVENT
DTSTART;TZID=America/Los_Angeles:20260314T110000
DTEND;TZID=America/Los_Angeles:20260314T140000
DTSTAMP:20260419T212742
CREATED:20250310T213723Z
LAST-MODIFIED:20250310T213723Z
UID:10004600-1773486000-1773496800@www.discoverlakeportca.com
SUMMARY:StoryWalk at Clear Lake State Park
DESCRIPTION:On the second Saturday of each month\, we will have a “Featured Story” along with a craft led by a State Park Employee!  Tell them at the gate you are there for StoryWalk and parking is free!
URL:https://www.discoverlakeportca.com/event/storywalk-at-clear-lake-state-park/2026-03-14/
LOCATION:Clear Lake State Park\, 5300 Soda Bay Road\, Kelseyville\, CA\, 95453\, United States
CATEGORIES:Event
ATTACH;FMTTYPE=image/png:https://www.discoverlakeportca.com/wp-content/uploads/2024/12/StoryWalk.png
END:VEVENT
BEGIN:VEVENT
DTSTART;TZID=America/Los_Angeles:20260314T143000
DTEND;TZID=America/Los_Angeles:20260314T170000
DTSTAMP:20260419T212742
CREATED:20260104T200418Z
LAST-MODIFIED:20260312T175745Z
UID:10007463-1773498600-1773507600@www.discoverlakeportca.com
SUMMARY:Pokémon Trading Card Game Tournament
DESCRIPTION:Pokémon Trading Card Game Tournament – Every 2nd Saturday\n\nStop by Kingdom Games in Lakeport every second Saturday of the month at 1pm and do battle with fellow trainers in the Pokémon Trading Card Game! This official standard-format tournament welcomes players of all ages and skill levels. Everyone who participates gets Prize Packs just for playing – and every win means better prizes!\n\nEntry is $10\, and check-in starts at 12:30pm. Be sure to sort your deck and bring a deck list to make check-in faster. If you’re new to the Pokémon TCG\, swing by on the day of the tournament to get a FREE personalized lesson with a Pokémon Professor!\n\nKingdom Games is located at 102 S Main Street\, Lakeport\, CA.
URL:https://www.discoverlakeportca.com/event/pokemon-trading-card-game-tournament/2026-03-14/
LOCATION:Kingdom Games\, 102 S. Main Street\, Lakeport\, CA\, 95453\, United States
CATEGORIES:Event
ATTACH;FMTTYPE=image/jpeg:https://www.discoverlakeportca.com/wp-content/uploads/2026/01/Promo-Postcard-1-v5.jpg
END:VEVENT
BEGIN:VEVENT
DTSTART;TZID=America/Los_Angeles:20260314T160000
DTEND;TZID=America/Los_Angeles:20260314T180000
DTSTAMP:20260419T212742
CREATED:20250318T192630Z
LAST-MODIFIED:20250814T201021Z
UID:10006452-1773504000-1773511200@www.discoverlakeportca.com
SUMMARY:Second Saturday Artwalk
DESCRIPTION:Join us in Downtown Lakeport for the Second Saturday Art Walk.  New artists and artisans will be featured each month.  Watch the Lake County Arts Council Facebook for the complete listing!
URL:https://www.discoverlakeportca.com/event/second-saturday-artwalk/2026-03-14/
LOCATION:Main Street Gallery\, 325 N. Main Street\, Lakeport\, CA\, 95453\, United States
CATEGORIES:Event
ATTACH;FMTTYPE=image/jpeg:https://www.discoverlakeportca.com/wp-content/uploads/2025/03/Second-Saturday-Artwalk.jpg
END:VEVENT
BEGIN:VEVENT
DTSTART;TZID=America/Los_Angeles:20260314T163000
DTEND;TZID=America/Los_Angeles:20260314T183000
DTSTAMP:20260419T212742
CREATED:20260211T205921Z
LAST-MODIFIED:20260211T205921Z
UID:10007691-1773505800-1773513000@www.discoverlakeportca.com
SUMMARY:Drive Thru Crab Feed - Lakeport Rotary
DESCRIPTION:Lakeport Rotary is back with its 6th Annual Drive-Thru Crab Feed—and it’s a can’t-miss good time! Join us March 14 at the Lake County Fairgrounds on Martin Street in Lakeport. Tickets purchased beforehand and available at the link below:\n Sponsor Drive-Thru: 4:30 PM General Pick-Up: 5:00 PM\nEnjoy 3 lbs of cracked crab with all the fixins\, plus dessert auction fun (more to come!) and lots of festive surprises as you cruise through.\nGrab your tickets today and support the great work of the Lakeport Rotary Club—all while getting your crab on beach-style! \n Tickets here: https://secure.qgiv.com/…/rotaryinternational…/
URL:https://www.discoverlakeportca.com/event/drive-thru-crab-feed-lakeport-rotary/
LOCATION:Lake County Fairgrounds\, 401 Martin Street\, Lakeport\, CA\, 95453\, United States
CATEGORIES:Event
ATTACH;FMTTYPE=image/jpeg:https://www.discoverlakeportca.com/wp-content/uploads/2026/02/Crab-Feed.jpg
END:VEVENT
BEGIN:VEVENT
DTSTART;TZID=America/Los_Angeles:20260314T183000
DTEND;TZID=America/Los_Angeles:20260314T203000
DTSTAMP:20260419T212742
CREATED:20260224T215925Z
LAST-MODIFIED:20260224T215925Z
UID:10007716-1773513000-1773520200@www.discoverlakeportca.com
SUMMARY:A Celebration of Ireland
DESCRIPTION:Hello from Christy Martin & Aodh Og O’Tuama of the Celtic\, Folk & World Music duo Four Shillings Short: We will be in Lakeport in March on Saturday March 14\, 2026 at the Odd Fellows Lodge.  \nA CELEBRATION OF IRELAND\nMusic\, poetry & stories from the Emerald Isle with FOUR SHILLINGS SHORT \nSATURDAY: MARCH 14\, 2026\n6:30 – 8:30pm (doors open at 6pm)\nODD FELLOWS LODGE in Lakeport\n310 N. Main St.\, Lakeport\, CA 95453\n(707) 245-7532 \nBYOBeverage \nFree Concert sponsored by IOOF #241 \n  \nA CELEBRATION OF IRELAND takes the audience on a journey to the Emerald Isle with Traditional toe-tapping tunes\, songs in Gaelic and English\, folklore\, history and Irish poetry.  Four Shillings Short\, the husband/wife duo of Aodh Og O’Tuama from Cork\, Ireland and Christy Martin from California\, have been touring in the US & Ireland since 1997 and “bring musical diversity\, captivating storytelling and humorous side notes to create an amazing show.” (Labyrinth Café\, Ft. Lauderdale\, FL)
URL:https://www.discoverlakeportca.com/event/a-celebration-of-ireland/
LOCATION:Lakeport Odd Fellows Hall\, 310 N. Main Street\, Lakeport\, CA\, 95453\, United States
CATEGORIES:Event,Music
ATTACH;FMTTYPE=image/jpeg:https://www.discoverlakeportca.com/wp-content/uploads/2026/02/fb_img_17718905941641936480015724949276.jpg
END:VEVENT
BEGIN:VEVENT
DTSTART;TZID=America/Los_Angeles:20260314T193000
DTEND;TZID=America/Los_Angeles:20260314T203000
DTSTAMP:20260419T212742
CREATED:20260312T174543Z
LAST-MODIFIED:20260312T174543Z
UID:10007768-1773516600-1773520200@www.discoverlakeportca.com
SUMMARY:Einstein's Birthday and Pi Day at Taylor Observatory
DESCRIPTION:Einstein’s Birthday / Pi Day\nAlbert Einstein fundamentally changed our understanding of the universe. Join us as we celebrate the 146th birthday of this amazing mind with a series of short films about Einstein’s discoveries and his legacy. \nAt this event we will also delve into the meaning of retrograde motion\, the precession of the equinox\, and the dawning of the age of Aquarius. \nFollowing this one hour presentation (weather permitting) guests are invited to view the night sky through the Observatory’s telescopes. \n Weather you’re a seasoned astronomer or just curious about the cosmos\, this event promises to be an unforgettable experience. This event is open to all Lake County families. This event will be hosted by Lake County Office of Education Astronomy expert Angelo Parisi. \nFor more information\, contact Angelo Parisi at aparisi@lakecoe.org \nWhen:  Saturday March 14\, 2026 \nTime: 7:30 pm\nWhere: Taylor Observatory\n5725 Oak Hills Lane\, Kelseyville \nSeats are limited. \nFor tickets click the link below: \n  \nhttps://taylorobservatoryeinstein.eventbrite.com/
URL:https://www.discoverlakeportca.com/event/einsteins-birthday-and-pi-day-at-taylor-observatory/
LOCATION:Taylor Observatory\, 5725 Oak Hills Lane\, Kelseyville\, CA\, 95451\, United States
CATEGORIES:Event
ATTACH;FMTTYPE=image/png:https://www.discoverlakeportca.com/wp-content/uploads/2026/03/screenshot_20260306-1841475789739649689252859.jpg
END:VEVENT
END:VCALENDAR